{"text_format":"1","workbook":"xlsx","n_sheets":10,"sheets":["Tracking","TOC","NOTES","Tab 5-7a Soil & Air EPCs","Tab 5-8 PEF Calculation","Tab 5-12C Soil to Air TF","Tab 5-15 Exposure Assumption","Tab 5-16 Tox","Tab Q-1a Indoor Worker Parcel H","Tab Q-2a OutdoorWorker Parcel H"],"not_rendered":{"charts":0,"images":0,"macros":1,"external_links":0,"defined_names":80,"comments":0,"pivot_tables":0},"unopened":[],"bounds":{"document_bytes":16777216,"sheet_cells":100000,"rows_first":2000,"rows_last":500,"rows_between":2000,"halvings":0,"cell_chars":16384,"cell_head_chars":4096},"cells_cut":0,"cells_raw":0,"read":"whole","date_system":"1900"}

{"sheet":"Tracking","index":0,"n_rows":11,"n_cols":5,"rows_kept":11,"cut":false,"hidden":false,"merged":[]}
["Layout Macro Fields","Value",null,"Formatting Codes"]
["Site Name","Nevada Environmental Response Trust Site","Henderson, Nevada"]
["Left Header",null,"Usually blank for publication"]
["Center Header",null,"Usually blank"]
["Right Header",null,"Doc Status: Draft; Interim Final","&b = bold ; &i = italics; &u=underline"]
["Left Footer",null,"Report Date and location","&6 = 6 pt font; &Z=filepath; &F=filename"]
["Center Footer","Page &p of &n","Page Numbering","&p = page number; &n = total number of pages"]
["Right Footer","Ramboll Environ","Ramboll Environ"]
[]
["Creation Date","Database Date","Version","Description","Owner"]
["2011-10-20",null,1,"Preliminary RBTC calculations","KZ"]

{"sheet":"TOC","index":1,"n_rows":4,"n_cols":2,"rows_kept":4,"cut":false,"hidden":false,"merged":[]}
["Table Number","Table Title"]
["TABLE 5-7A","Soil EPCs and EPCs of Airborne Particulates and Vapors for Parcel H_0-2 feet bgs"]
["TABLE Q-1-1A","Estimated Cancer Risks and Non-Cancer Hazard Indices for Indoor Commercial/Industrial Workers Exposed to Soil (0-2 feet bgs) in Parcel H"]
["TABLE Q-1-2A","Estimated Cancer Risks and Non-Cancer Hazard Indices for Outdoor Commercial/Industrial Workers Exposed to Soil (0-2 feet bgs) in Parcel H"]

{"sheet":"NOTES","index":2,"n_rows":8,"n_cols":1,"rows_kept":8,"cut":false,"hidden":false,"merged":[]}
[]
[]
["NOTES:"]
["1.  Before reviewing the risk results for each receptor, first please go to  the [Scen] Tab , and then go to DATA --> What If Analysis --> Scenario Manager to set the exposure scenario you are interested in.  "]
["    Remember to hit CTRL+ALT+F9  to make sure the workbook refreshes the calculations "]
[]
["2.  Always keep the chemical list starting from Row 11"]
["3.  Some formula are set up using array.  After enter the formula, press CTRL+SHIFT+ENTER."]

{"sheet":"Tab 5-7a Soil & Air EPCs","index":3,"n_rows":20,"n_cols":9,"rows_kept":20,"cut":false,"hidden":false,"merged":[[0,0,0,8],[4,7,4,8],[26,0,26,5],[27,0,27,5],[6,0,8,0],[6,1,7,1],[4,5,4,6],[4,0,5,0],[4,2,5,2],[4,4,5,4],[4,3,5,3],[4,1,5,1]]}
[{"$f":"TOC!A2&\". \"&TOC!B2","v":"TABLE 5-7A. Soil EPCs and EPCs of Airborne Particulates and Vapors for Parcel H_0-2 feet bgs"}]
[{"$f":"Tracking!sitename_text","v":"Nevada Environmental Response Trust Site"}]
[{"$f":"Tracking!C2","v":"Henderson, Nevada"}]
[]
["Parcel","Chemical Group","COPC","CAS","Soil EPC [1] \n(mg/kg)","Airborne Particulate EPC [1] (µg/m3)",null,"Vapor EPC [1] (µg/m3)"]
[null,null,null,null,null,"Indoor and Outdoor Commercial/\nIndustrial Worker","Construction Worker","Indoor and Outdoor Commercial/\nIndustrial Worker","Construction Worker"]
["H","Metal","Palladium","7440-05-3",0.47,{"$f":"E7/'Tab 5-8 PEF Calculation'!$C$17*1000","v":4.9225306598131534E-7},{"$f":"E7/'Tab 5-8 PEF Calculation'!$C$51*1000","v":1.1051547174705397E-4},{"$f":"IF('Tab 5-12C Soil to Air TF'!F11=\"--\",\"--\",E7*'Tab 5-12C Soil to Air TF'!F11*1000)","v":"--"},{"$f":"IF('Tab 5-12C Soil to Air TF'!G11=\"--\",\"--\",E7*'Tab 5-12C Soil to Air TF'!G11*1000)","v":"--"}]
[null,null,"Zirconium","7440-67-7",24.9,{"$f":"E8/'Tab 5-8 PEF Calculation'!$C$17*1000","v":2.6078939027520743E-5},{"$f":"E8/'Tab 5-8 PEF Calculation'!$C$51*1000","v":5.8549686095779657E-3},{"$f":"IF('Tab 5-12C Soil to Air TF'!F12=\"--\",\"--\",E8*'Tab 5-12C Soil to Air TF'!F12*1000)","v":"--"},{"$f":"IF('Tab 5-12C Soil to Air TF'!G12=\"--\",\"--\",E8*'Tab 5-12C Soil to Air TF'!G12*1000)","v":"--"}]
[null,"Pesticides - OCP","Hexachlorobenzene","118-74-1",0.21,{"$f":"E9/'Tab 5-8 PEF Calculation'!$C$17*1000","v":2.1994285926824725E-7},{"$f":"E9/'Tab 5-8 PEF Calculation'!$C$51*1000","v":4.9379253333790072E-5},{"$f":"IF('Tab 5-12C Soil to Air TF'!F13=\"--\",\"--\",E9*'Tab 5-12C Soil to Air TF'!F13*1000)","v":9.2393084429118477E-3},{"$f":"IF('Tab 5-12C Soil to Air TF'!G13=\"--\",\"--\",E9*'Tab 5-12C Soil to Air TF'!G13*1000)","v":5.9497718336976986E-2}]
[]
["Notes:"]
["-- = Not applicable"]
["bgs = below ground surface"]
["mg/kg = milligram per kilogram"]
["µg/m3 = microgram per cubic meter"]
["BaPEq = Benzo[a]pyrene equivalent"]
["COPC = Constituent of potential concern"]
["EPC = Exposure point concentration"]
["OCP = Organochlorine pesticide"]
["[1] The maximum detected concentration over 0-2 feet bgs was used as EPC."]

{"sheet":"Tab 5-8 PEF Calculation","index":4,"n_rows":75,"n_cols":5,"rows_kept":75,"cut":false,"hidden":true,"merged":[[4,4,5,4],[6,0,6,4],[17,0,17,4],[64,0,64,4],[71,0,71,4],[4,0,5,0],[4,1,5,1],[4,3,5,3],[67,0,67,4]]}
[{"$f":"TOC!#REF!&\". \"&TOC!#REF!","v":{"$error":"#REF!"}}]
[{"$f":"Tracking!B2","v":"Nevada Environmental Response Trust Site"}]
[{"$f":"Tracking!C2","v":"Henderson, Nevada"}]
[]
["Parameter","Symbol","Value","Unit","Reference"]
[null,null,"Parcel H"]
["Indoor and Outdoor Commercial/Industrial Worker"]
["Fraction of vegetative cover","V",0.5,"unitless","USEPA 2002"]
["Mean annual wind speed","Um",4.0999999999999996,"m/s","[1]"]
["Equivalent threshold value of wind speed","Ut",11.32,"m/s","USEPA 2002"]
["Function dependent on U/Ut","F(x)",0.19400000000000001,"unitless","USEPA 2002"]
["Air dispersion factor for area source (calculated)","Q/Cwind",44.241626722011837,"g/m2-s per kg/m3 ","USEPA 2002"]
["Dispersion factor for area source - Constant A (Las Vegas, NV)","A",13.3093,"unitless","USEPA 2002"]
["Dispersion factor for area source - Constant B (Las Vegas, NV)","B",19.838699999999999,"unitless","USEPA 2002"]
["Dispersion factor for area source - Constant C (Las Vegas, NV)","C",230.1652,"unitless","USEPA 2002"]
["Areal extent of site surface contamination","Asurf",25.750499999999999,"acre","Area of parcel"]
["Particulate emission factor (calculated)","PEF",954793443.61836851,"m3/kg","Neptune 2015"]
["Construction Worker"]
["Fraction of vegetative cover","V",0,"unitless","USEPA 2002"]
["Mean annual wind speed","Um",4.0999999999999996,"m/s","[1]"]
["Equivalent threshold value of wind speed","Ut",11.32,"m/s","USEPA 2002"]
["Function dependent on U/Ut","F(x)",0.19400000000000001,"unitless","USEPA 2002"]
["Areal extent of site surface contamination","Asurf",24.8078,"acre","Area of parcel"]
["Wet soil bulk density","rsoil",1.87,"g/cm3","[2]"]
["Percent of soil moisture content","M",14.8,"%","[2]"]
["Areal extent of site excavation","Aexcav",{"$f":"(C16/5)*4047","v":20842.454700000002},"m2","[3]"]
["Depth of site excavation","dexcav",1,"m","USEPA 2002"]
["Number of times soil is dumped","NA",2,"unitless","USEPA 2002"]
["Percent of soil silt content","s",10,"%","[4]"]
["Average dozing speed","Sdoz",11.4,"km/hr","USEPA 2002"]
["Number of times area is dozed","Ndoze",3,"unitless","USEPA 2002"]
["Length of dozer blade","Bd",2.44,"m","USEPA 2002"]
["Average grading speed","Sgrade",11.4,"km/hr","USEPA 2002"]
["Number of times area is graded","Ngrade",3,"unitless","USEPA 2002"]
["Length of dozer blade","Bg",2.44,"m","USEPA 2002"]
["Areal extent of site tilling","Atill",{"$f":"C16/5","v":5.1501000000000001},"acre","[3]"]
["Number of times soil is tilled","NA",2,"unitless","USEPA 2002"]
["Subchronic dispersion factor for area source-Constant A","A",2.4538000000000002,"unitless","USEPA 2002"]
["Subchronic dispersion factor for area source-Constant B","B",17.565999999999999,"unitless","USEPA 2002"]
["Subchronic dispersion factor for area source-Constant C","C",189.04259999999999,"unitless","USEPA 2002"]
["Length of road segment","LR",{"$f":"SQRT(C16*4047)","v":322.81925825452237},"m","[5]"]
["Width of road segment","WR",6.0960000000000001,"m","USEPA 2002"]
["Mean vehicle weight","W",8,"ton","USEPA 2002"]
["Percent of moisture in dry road surface","Mdry",0.2,"%","USEPA 2002"]
["Number of days/year with at least 0.01 inches of precipitation","p",27,"day","Neptune 2015"]
["Number of vehicles for duration of construction","NV",30,"unitless","USEPA 2002"]
["Length of road traveled per day","LD",{"$f":"SQRT(C16*4047)","v":322.81925825452237},"m/day","[5]"]
["Subchronic dispersion factor for road segment-Constant A","A",12.9351,"unitless","USEPA 2002"]
["Subchronic dispersion factor for road segment-Constant B","B",5.7382999999999997,"unitless","USEPA 2002"]
["Subchronic dispersion factor for road segment-Constant C","C",71.771100000000004,"unitless","USEPA 2002"]
["Particulate emission factor (calculated)","PEF",4252798.2061708821,"m3/kg","Neptune 2015"]
[]
["Notes:"]
["g/cm3 = gram per cubic centimeter"]
["g/m2-s per kg/m3 = (gram per square meter per second) per (koligram per cubic meter)"]
["km/hr = kilometer per hour"]
["m = meter"]
["m/day = meter per day"]
["m/s = meter per second"]
["m2 = square meter"]
["m3/kg = cubic meter per kilogram"]
["USEPA = United States Environmental Protection Agency"]
["WRCC = Western Regional Climate Center"]
[]
["[1] Average wind speeds for Las Vegas derived from WRCC (2010). "]
["[2] Average value of top 10-foot samples reported in (Northgate 2010)."]
["[3] Assumed one fifth of the parcel area based upon USEPA (2002)."]
["[4] Soil silt content varied from 5% to 10% among soil boring logs from multiple investigations at the Site. The value of 10% was selected to be conservative."]
["[5] Assumed the square root of the parcel area, based upon USEPA (2002)."]
[]
["Sources:"]
["Neptune. 2015. Technical Guidance for the Calculation of Asbestos Related Risk in Soils for the Basic Management Incorporated (BMI) Complex and Common Areas. February."]
["Northgate. 2010. Site-Wide Soil Gas Human Health Risk Assessment, Tronox LLC, Henderson, Nevada. November."]
["USEPA. 2002. Supplemental Guidance for Developing Soil Screening Levels for Superfund Sites."]
["WRCC (2010). Desert Research Institute:  http://www.wrcc.dri.edu/htmlfiles/westwind.final.html#NEVADA."]

{"sheet":"Tab 5-12C Soil to Air TF","index":5,"n_rows":286,"n_cols":7,"rows_kept":286,"cut":false,"hidden":true,"merged":[[6,0,9,0],[6,1,9,1],[6,3,9,3],[6,4,9,4],[6,5,9,5],[6,6,9,6],[0,1,0,6],[1,1,1,6],[2,1,2,6],[3,1,3,6],[4,3,4,6]]}
[null,{"$f":"TOC!#REF!&\". \"&TOC!#REF!","v":{"$error":"#REF!"}}]
[null,{"$f":"Tracking!B2","v":"Nevada Environmental Response Trust Site"}]
[null,{"$f":"Tracking!C2","v":"Henderson, Nevada"}]
[]
[]
[]
["Volatile COPC","Chemical\nGroup",null,"Chemical","CASRN","TF for Soil Migrating to Outdoor Air (µg/m3 per µg/kg)","TF for Soil Migrating to Trench Air \n(µg/m3 per µg/kg)"]
[]
[]
[null,null,"Sort Name"]
[{"$f":"'Tab 5-16 Tox'!Y11:Y280","v":0},{"$f":"'Tab 5-16 Tox'!B11:E280","v":"Metal"},0,"Palladium","7440-05-3","--","--"]
[0,"Metal",0,"Zirconium","7440-67-7","--","--"]
["X","Pesticide - OCP",0,"Hexachlorobenzene","118-74-1",4.3996706871008799E-5,2.8332246827131899E-4]
[0,0,0,0,0]
[0,0,0,0,0]
[0,0,0,0,0]
[0,0,0,0,0]
[0,0,0,0,0]
[0,0,0,0,0]
[0,0,0,0,0]
[0,0,0,0,0]
[0,0,0,0,0]
[0,0,0,0,0]
[0,0,0,0,0]
[0,0,0,0,0]
[0,0,0,0,0]
[0,0,0,0,0]
[0,0,0,0,0]
[0,0,0,0,0]
[0,0,0,0,0]
[0,0,0,0,0]
[0,0,0,0,0]
[0,0,0,0,0]
[0,0,0,0,0]
[0,0,0,0,0]
[0,0,0,0,0]
[0,0,0,0,0]
[0,0,0,0,0]
[0,0,0,0,0]
[0,0,0,0,0]
[0,0,0,0,0]
[0,0,0,0,0]
[0,0,0,0,0]
[0,0,0,0,0]
[0,0,0,0,0]
[0,0,0,0,0]
[0,0,0,0,0]
[0,0,0,0,0]
[0,0,0,0,0]
[0,0,0,0,0]
[0,0,0,0,0]
[0,0,0,0,0]
[0,0,0,0,0]
[0,0,0,0,0]
[0,0,0,0,0]
[0,0,0,0,0]
[0,0,0,0,0]
[0,0,0,0,0]
[0,0,0,0,0]
[0,0,0,0,0]
[0,0,0,0,0]
[0,0,0,0,0]
[0,0,0,0,0]
[0,0,0,0,0]
[0,0,0,0,0]
[0,0,0,0,0]
[0,0,0,0,0]
[0,0,0,0,0]
[0,0,0,0,0]
[0,0,0,0,0]
[0,0,0,0,0]
[0,0,0,0,0]
[0,0,0,0,0]
[0,0,0,0,0]
[0,0,0,0,0]
[0,0,0,0,0]
[0,0,0,0,0]
[0,0,0,0,0]
[0,0,0,0,0]
[0,0,0,0,0]
[0,0,0,0,0]
[0,0,0,0,0]
[0,0,0,0,0]
[0,0,0,0,0]
[0,0,0,0,0]
[0,0,0,0,0]
[0,0,0,0,0]
[0,0,0,0,0]
[0,0,0,0,0]
[0,0,0,0,0]
[0,0,0,0,0]
[0,0,0,0,0]
[0,0,0,0,0]
[0,0,0,0,0]
[0,0,0,0,0]
[0,0,0,0,0]
[0,0,0,0,0]
[0,0,0,0,0]
[0,0,0,0,0]
[0,0,0,0,0]
[0,0,0,0,0]
[0,0,0,0,0]
[0,0,0,0,0]
[0,0,0,0,0]
[0,0,0,0,0]
[0,0,0,0,0]
[0,0,0,0,0]
[0,0,0,0,0]
[0,0,0,0,0]
[0,0,0,0,0]
[0,0,0,0,0]
[0,0,0,0,0]
[0,0,0,0,0]
[0,0,0,0,0]
[0,0,0,0,0]
[0,0,0,0,0]
[0,0,0,0,0]
[0,0,0,0,0]
[0,0,0,0,0]
[0,0,0,0,0]
[0,0,0,0,0]
[0,0,0,0,0]
[0,0,0,0,0]
[0,0,0,0,0]
[0,0,0,0,0]
[0,0,0,0,0]
[0,0,0,0,0]
[0,0,0,0,0]
[0,0,0,0,0]
[0,0,0,0,0]
[0,0,0,0,0]
[0,0,0,0,0]
[0,0,0,0,0]
[0,0,0,0,0]
[0,0,0,0,0]
[0,0,0,0,0]
[0,0,0,0,0]
[0,0,0,0,0]
[0,0,0,0,0]
[0,0,0,0,0]
[0,0,0,0,0]
[0,0,0,0,0]
[0,0,0,0,0]
[0,0,0,0,0]
[0,0,0,0,0]
[0,0,0,0,0]
[0,0,0,0,0]
[0,0,0,0,0]
[0,0,0,0,0]
[0,0,0,0,0]
[0,0,0,0,0]
[0,0,0,0,0]
[0,0,0,0,0]
[0,0,0,0,0]
[0,0,0,0,0]
[0,0,0,0,0]
[0,0,0,0,0]
[0,0,0,0,0]
[0,0,0,0,0]
[0,0,0,0,0]
[0,0,0,0,0]
[0,0,0,0,0]
[0,0,0,0,0]
[0,0,0,0,0]
[0,0,0,0,0]
[0,0,0,0,0]
[0,0,0,0,0]
[0,0,0,0,0]
[0,0,0,0,0]
[0,0,0,0,0]
[0,0,0,0,0]
[0,0,0,0,0]
[0,0,0,0,0]
[0,0,0,0,0]
[0,0,0,0,0]
[0,0,0,0,0]
[0,0,0,0,0]
[0,0,0,0,0]
[0,0,0,0,0]
[0,0,0,0,0]
[0,0,0,0,0]
[0,0,0,0,0]
[0,0,0,0,0]
[0,0,0,0,0]
[0,0,0,0,0]
[0,0,0,0,0]
[0,0,0,0,0]
[0,0,0,0,0]
[0,0,0,0,0]
[0,0,0,0,0]
[0,0,0,0,0]
[0,0,0,0,0]
[0,0,0,0,0]
[0,0,0,0,0]
[0,0,0,0,0]
[0,0,0,0,0]
[0,0,0,0,0]
[0,0,0,0,0]
[0,0,0,0,0]
[0,0,0,0,0]
[0,0,0,0,0]
[0,0,0,0,0]
[0,0,0,0,0]
[0,0,0,0,0]
[0,0,0,0,0]
[0,0,0,0,0]
[0,0,0,0,0]
[0,0,0,0,0]
[0,0,0,0,0]
[0,0,0,0,0]
[0,0,0,0,0]
[0,0,0,0,0]
[0,0,0,0,0]
[0,0,0,0,0]
[0,0,0,0,0]
[0,0,0,0,0]
[0,0,0,0,0]
[0,0,0,0,0]
[0,0,0,0,0]
[0,0,0,0,0]
[0,0,0,0,0]
[0,0,0,0,0]
[0,0,0,0,0]
[0,0,0,0,0]
[0,0,0,0,0]
[0,0,0,0,0]
[0,0,0,0,0]
[0,0,0,0,0]
[0,0,0,0,0]
[0,0,0,0,0]
[0,0,0,0,0]
[0,0,0,0,0]
[0,0,0,0,0]
[0,0,0,0,0]
[0,0,0,0,0]
[0,0,0,0,0]
[0,0,0,0,0]
[0,0,0,0,0]
[0,0,0,0,0]
[0,0,0,0,0]
[0,0,0,0,0]
[0,0,0,0,0]
[0,0,0,0,0]
[0,0,0,0,0]
[0,0,0,0,0]
[0,0,0,0,0]
[0,0,0,0,0]
[0,0,0,0,0]
[0,0,0,0,0]
[0,0,0,0,0]
[0,0,0,0,0]
[0,0,0,0,0]
[0,0,0,0,0]
[0,0,0,0,0]
[0,0,0,0,0]
[0,0,0,0,0]
[0,0,0,0,0]
[0,0,0,0,0]
[0,0,0,0,0]
[0,0,0,0,0]
[0,0,0,0,0]
[0,0,0,0,0]
[0,0,0,0,0]
[0,0,0,0,0]
[0,0,0,0,0]
[0,0,0,0,0]
[0,0,0,0,0]
[0,0,0,0,0]
[0,0,0,0,0]
[0,0,0,0,0]
[0,0,0,0,0]
[0,0,0,0,0]
[0,0,0,0,0]
[0,0,0,0,0]
[0,0,0,0,0]
[0,0,0,0,0]
[0,0,0,0,0]
[0,0,0,0,0]
[0,0,0,0,0]
[0,"EOR",0,"End of Record"," "]
["X"]
["X","Notes: "]
["X","µg/kg = microgram per kilogram"]
["X","µg/m3 = microgram per cubic meter"]
["X","OCP = Organochlorine pesticide"]
["X","TF = Transfer Factor"]

{"sheet":"Tab 5-15 Exposure Assumption","index":6,"n_rows":59,"n_cols":9,"rows_kept":59,"cut":false,"hidden":true,"merged":[[7,0,7,8],[16,0,16,8],[21,0,21,8],[27,0,27,8],[51,0,51,12],[45,0,45,8],[48,0,48,8],[49,0,49,8],[50,0,50,8],[31,0,31,8],[47,0,47,22],[46,0,46,8],[0,0,0,8],[1,0,1,8],[4,0,6,0],[4,1,6,1],[4,2,6,2],[2,0,2,8],[4,7,5,8],[4,3,5,4],[4,5,5,6]]}
[{"$f":"TOC!#REF!&\". \"&TOC!#REF!","v":{"$error":"#REF!"}}]
[{"$f":"Tracking!B2","v":"Nevada Environmental Response Trust Site"}]
[{"$f":"Tracking!C2","v":"Henderson, Nevada"}]
[]
["Exposure Factors","Units","Symbol","Indoor Commercial/\nIndustrial Worker",null,"Outdoor Commercial/\nIndustrial Worker",null,"Construction Worker"]
[]
[null,null,null,"Value","Source","Value","Source","Value","Source"]
["Population-Specific Exposure Assumptions"]
["Exposure Time","hours/day","ET",8,"NDEP 2017a",8,"NDEP 2017a",8,"USEPA 2017"]
["Exposure Time_Trench","hours/day","ET","--","--","--","--",4,"VDEQ 2016"]
["Exposure Frequency","days/year","EF",250,"NDEP 2017a",225,"NDEP 2017a",250,"USEPA 2017"]
["Exposure Frequency_Trench","days/year","EF","--","--","--","--",30,"[1]"]
["Exposure Duration","years","ED",25,"NDEP 2017a",25,"NDEP 2017a",1,"USEPA 2017"]
["Body Weight","kgBW","BW",80,"NDEP 2017a",80,"NDEP 2017a",80,"USEPA 2017"]
["Averaging Time for Cancinogens","days","ATc",25550,"NDEP 2017a",25550,"NDEP 2017a",25550,"USEPA 2017"]
["Averaging Time for Noncarcinogens","days","ATnc",{"$f":"D13*365","v":9125},"NDEP 2017a",{"$f":"F13*365","v":9125},"NDEP 2017a",{"$f":"H13*365","v":365},"USEPA 2017"]
["Soil Ingestion"]
["Soil Ingestion Rate","mgsoil/day","IRs",50,"NDEP 2017a",100,"NDEP 2017a",330,"USEPA 2017"]
["Conversion Factor","kgsoil/mgsoil","CF",9.9999999999999995E-7,"--",9.9999999999999995E-7,"--",9.9999999999999995E-7,"--"]
["Intake Factor for Soil Ingestion, cancer","kgsoil/kgBW/day","IFsoil.ing_c",{"$f":"D18*D11*D13*D19/D14/D15","v":1.5288649706457926E-7},"USEPA 1989",{"$f":"F18*F11*F13*F19/F14/F15","v":2.7519569471624267E-7},"USEPA 1989",{"$f":"H18*H11*H13*H19/H14/H15","v":4.0362035225048914E-8},"USEPA 1989"]
["Intake Factor for Soil Ingestion, noncancer","kgsoil/kgBW/day","IFsoil.ing_nc",{"$f":"D18*D11*D13*D19/D14/D16","v":4.2808219178082193E-7},"USEPA 1989",{"$f":"F18*F11*F13*F19/F14/F16","v":7.7054794520547943E-7},"USEPA 1989",{"$f":"H18*H11*H13*H19/H14/H16","v":2.825342465753424E-6},"USEPA 1989"]
["Soil Dermal Contact"]
["Skin Surface Area for Soil Contact","cm2/day","SAs","--","--",3527,"USEPA 2017",3527,"USEPA 2017"]
["Adherence Factor","mgsoil/cm2","AF","--","--",0.12,"NDEP 2017a",0.3,"USEPA 2017"]
["Conversion Factor","kgsoil/mgsoil","CF","--","--",9.9999999999999995E-7,"--",9.9999999999999995E-7,"--"]
["Intake Factor for Soil Dermal Contact, cancer","kgsoil/kgBW/day","IFsoil.derm_c","--","--",{"$f":"F24*F23*F11*F13*F25/F14/F15","v":1.1647382583170255E-6},"USEPA 2004",{"$f":"H24*H23*H11*H13*H25/H14/H15","v":1.2941536203522504E-7},"USEPA 2004"]
["Intake Factor for Soil Dermal Contact, noncancer","kgsoil/kgBW/day","IFsoil.derm_nc","--","--",{"$f":"F24*F23*F11*F13*F25/F14/F16","v":3.2612671232876713E-6},"USEPA 2004",{"$f":"H24*H23*H11*H13*H25/H14/H16","v":9.0590753424657537E-6},"USEPA 2004"]
["Inhalation of Airborne Particulates"]
["Conversion Factor","hour/day","CF",24,"--",24,"--",24,"--"]
["Intake Factor for Particulate Inhalation, cancer","unitless","IFpart.inh_c",{"$f":"D11*D13*D9/D15/D29","v":8.1539465101108932E-2},"USEPA 2009",{"$f":"F11*F13*F9/F15/F29","v":7.3385518590998039E-2},"USEPA 2009",{"$f":"H11*H13*H9/H15/H29","v":3.2615786040443573E-3},"USEPA 2009"]
["Intake Factor for Particulate Inhalation, noncancer","unitless","IFpart.inh_nc",{"$f":"D11*D13*D9/D16/D29","v":0.22831050228310501},"USEPA 2009",{"$f":"F11*F13*F9/F16/F29","v":0.20547945205479454},"USEPA 2009",{"$f":"H11*H13*H9/H16/H29","v":0.22831050228310501},"USEPA 2009"]
["Inhalation of Vapor Migrating from Soil, Soil Gas, or Groundwater to Air"]
["Conversion Factor","hour/day","CF",24,"--",24,"--",24,"--"]
["Intake Factor for Vapor Inhalation, cancer","unitless","IFvapor.inh_c",8.1539465101108904E-2,"USEPA 2009",7.3385518590998039E-2,"USEPA 2009",1.9569471624266145E-4,"USEPA 2009"]
["Intake Factor for Vapor Inhalation, noncancer","unitless","IFvapor.inh_nc",0.22831050228310501,"USEPA 2009",0.20547945205479454,"USEPA 2009",1.3698630136986301E-2,"USEPA 2009"]
[]
["Notes:"]
["-- = Not applicable",null,null,"mgsoil/cm2 = milligram of soil per square centimeter"]
["cm2/day = square centimeter per day",null,null,"mgsoil/day = milligram of soil per day"]
["kgBW = kilogram of body weight",null,null,"NDEP =  Nevada Divisoin of Environmental Protection"]
["kgsoil/kgBW/day = kilogram of soil per kilogram of body weight per day",null,null,"USEPA = United States Environmental Protection Agency"]
["kgsoil/mgsoil = kilogram of soil per milligram of soil",null,null,"VDEQ = Virginia Department of Environmental Quality"]
["[1].  Recommended exposure frequency in NDEP's January 12, 2017 comment letter (NDEP 2017b).  "]
[]
["Sources:"]
["NDEP. 2017a. User's Guide and Background Technical Docuentation for the Nevada Divisoin of Environmental Protection (NDEP) Basic Comparison Levels (BCLs) for Human Health and for the BMI Complex and Common Areas. Las Vegas, NV. July. "]
["NDEP. 2017b. Response to: Soil Gas Investigation and Health Risk Assessment for Parcels C, D, F, G, and H, Revision 1. January 12."]
["VDEQ. 2016. Virginia Unified Risk Assessment Model - VURAM User's Guide.  Appendix 3."]
["USEPA. 1989. Risk Assessment Guidance for Superfund, Volume I: Human Health Evaluation Manual (Part A). Interim Final. EPA/540/1-89/002. Office of Emergency and Remedial Response. Washington, D.C. December."]
["USEPA. 2004.  Risk Assessment Guidance for Superfund Volume I: Human Health Evaluation Manual (Part E, Supplemental Guidance for Dermal Risk Assessment), Final.  July."]
["USEPA. 2009. Risk Assessment Guidance for Superfund. Vol. 1: Part F, Supplemental Guidance for Inhalation Risk Assessment. Final. January."]
["USEPA 2017. User’s Guide for Regional Screening Levels for Chemical Contaminants at Superfund Sites. June."]
[]
[]
[]
[]
[]
[]
[null," "]

{"sheet":"Tab 5-16 Tox","index":7,"n_rows":301,"n_cols":25,"rows_kept":301,"cut":false,"hidden":true,"merged":[[8,3,9,3],[8,1,9,1],[8,9,9,9],[8,22,9,22],[8,4,9,4],[8,20,8,21],[8,18,9,19],[8,12,9,13],[8,10,9,11],[8,7,9,8],[8,5,9,6],[8,14,9,15],[8,16,9,17],[0,1,0,22],[1,1,1,22],[2,1,2,22],[3,1,3,22],[4,1,4,22]]}
[null,{"$f":"TOC!#REF!&\". \"&TOC!#REF!","v":{"$error":"#REF!"}}]
[null,{"$f":"Tracking!B2","v":"Nevada Environmental Response Trust Site"}]
[null,{"$f":"Tracking!C2","v":"Henderson, Nevada"}]
[]
[]
[]
[]
[]
[null,"Chemical\nGroup",null,"Chemical","CASRN","Oral Cancer Slope Factor  \n(mg/kg-day)-1",null,"Inhalation Unit Risk\n(µg/m3)-1",null,"USEPA Weight-of-Evidence Carcinogen Classification","Oral Chronic RfD\n(mg/kg-day)",null,"Inhalation Chronic RfC\n(µg/m3)",null,"Oral Subchronic RfD\n(mg/kg-day)",null,"Inhalation Subchronic RfC\n(µg/m3)",null,"Soil Dermal Absorption Factor\nABSsoil ",null,"ADAF",null,"Inhalation Relative Absorption Factor"]
["COPC at Site",null,"Sort Name",null,null,null,null,null,null,null,null,null,null,null,null,null,null,null,null,null,"Child \nResident","Adult \nResident",null,"Parcel H\nCOPC","VOC"]
["X","Metal",null,"Palladium","7440-05-3","--","--","--","--","--","--","--","--","--","--","--","--","--","--","--",null,null,1,"X"]
["X","Metal",null,"Zirconium","7440-67-7","--","--","--","--","--",8.0000000000000007E-5,"PPRTV Appendix","--","--",8.0000000000000007E-5,"PPRTV Appendix  [1]","--","--","--","--",null,null,1,"X"]
["X","Pesticide - OCP",null,"Hexachlorobenzene","118-74-1",1.6,"IRIS",4.6000000000000001E-4,"IRIS","B2",8.0000000000000004E-4,"IRIS","--","--",1.0000000000000001E-5,"PPRTV","--","--","--","--",null,null,1,"X","X"]
[]
[]
[]
[]
[null,null,null,null,null,null,null,null,null,null,null,null,null,null,null,null,null,null,null,null,null,null,1]
[null,null,null,null,null,null,null,null,null,null,null,null,null,null,null,null,null,null,null,null,null,null,1]
[null,null,null,null,null,null,null,null,null,null,null,null,null,null,null,null,null,null,null,null,null,null,1]
[null,null,null,null,null,null,null,null,null,null,null,null,null,null,null,null,null,null,null,null,null,null,1]
[null,null,null,null,null,null,null,null,null,null,null,null,null,null,null,null,null,null,null,null,null,null,1]
[null,null,null,null,null,null,null,null,null,null,null,null,null,null,null,null,null,null,null,null,null,null,1]
[null,null,null,null,null,null,null,null,null,null,null,null,null,null,null,null,null,null,null,null,null,null,1]
[null,null,null,null,null,null,null,null,null,null,null,null,null,null,null,null,null,null,null,null,null,null,1]
[null,null,null,null,null,null,null,null,null,null,null,null,null,null,null,null,null,null,null,null,null,null,1]
[null,null,null,null,null,null,null,null,null,null,null,null,null,null,null,null,null,null,null,null,null,null,1]
[null,null,null,null,null,null,null,null,null,null,null,null,null,null,null,null,null,null,null,null,null,null,1]
[null,null,null,null,null,null,null,null,null,null,null,null,null,null,null,null,null,null,null,null,null,null,1]
[null,null,null,null,null,null,null,null,null,null,null,null,null,null,null,null,null,null,null,null,null,null,1]
[null,null,null,null,null,null,null,null,null,null,null,null,null,null,null,null,null,null,null,null,null,null,1]
[null,null,null,null,null,null,null,null,null,null,null,null,null,null,null,null,null,null,null,null,null,null,1]
[null,null,null,null,null,null,null,null,null,null,null,null,null,null,null,null,null,null,null,null,null,null,1]
[null,null,null,null,null,null,null,null,null,null,null,null,null,null,null,null,null,null,null,null,null,null,1]
[null,null,null,null,null,null,null,null,null,null,null,null,null,null,null,null,null,null,null,null,null,null,1]
[null,null,null,null,null,null,null,null,null,null,null,null,null,null,null,null,null,null,null,null,null,null,1]
[null,null,null,null,null,null,null,null,null,null,null,null,null,null,null,null,null,null,null,null,null,null,1]
[null,null,null,null,null,null,null,null,null,null,null,null,null,null,null,null,null,null,null,null,null,null,1]
[null,null,null,null,null,null,null,null,null,null,null,null,null,null,null,null,null,null,null,null,null,null,1]
[null,null,null,null,null,null,null,null,null,null,null,null,null,null,null,null,null,null,null,null,null,null,1]
[null,null,null,null,null,null,null,null,null,null,null,null,null,null,null,null,null,null,null,null,null,null,1]
[null,null,null,null,null,null,null,null,null,null,null,null,null,null,null,null,null,null,null,null,null,null,1]
[null,null,null,null,null,null,null,null,null,null,null,null,null,null,null,null,null,null,null,null,null,null,1]
[null,null,null,null,null,null,null,null,null,null,null,null,null,null,null,null,null,null,null,null,null,null,1]
[null,null,null,null,null,null,null,null,null,null,null,null,null,null,null,null,null,null,null,null,null,null,1]
[null,null,null,null,null,null,null,null,null,null,null,null,null,null,null,null,null,null,null,null,null,null,1]
[null,null,null,null,null,null,null,null,null,null,null,null,null,null,null,null,null,null,null,null,null,null,1]
[null,null,null,null,null,null,null,null,null,null,null,null,null,null,null,null,null,null,null,null,null,null,1]
[]
[]
[]
[]
[]
[]
[]
[]
[]
[]
[]
[]
[]
[]
[]
[]
[]
[]
[]
[]
[]
[]
[]
[]
[]
[]
[]
[]
[]
[]
[]
[]
[]
[]
[]
[]
[]
[]
[]
[]
[]
[]
[]
[]
[]
[]
[]
[]
[]
[]
[]
[]
[]
[]
[]
[]
[]
[]
[]
[]
[]
[]
[]
[]
[]
[]
[]
[]
[]
[]
[]
[]
[]
[]
[]
[]
[]
[]
[]
[]
[]
[]
[]
[]
[]
[]
[]
[]
[]
[]
[]
[]
[]
[]
[]
[]
[]
[]
[]
[]
[0]
[0]
[0]
[0]
[0]
[0]
[0]
[0]
[0]
[0]
[0,null,null,null,null,null,null,null,null,null,null,null,null,null,null,null,null,null,"--"]
[0,null,null,null,null,null,null,null,null,null,null,null,null,null,null,null,null,null,"--"]
[0,null,null,null,null,null,null,null,null,null,null,null,null,null,null,null,null,null,"--"]
[0,null,null,null,null,null,null,null,null,null,null,null,null,null,null,null,null,null,"--"]
[0,null,null,null,null,null,null,null,null,null,null,null,null,null,null,null,null,null,"--"]
[0,null,null,null,null,null,null,null,null,null,null,null,null,null,null,null,null,null,"--"]
[0,null,null,null,null,null,null,null,null,null,null,null,null,null,null,null,null,null,"--"]
[0,null,null,null,null,null,null,null,null,null,null,null,null,null,null,null,null,null,"--"]
[0,null,null,null,null,null,null,null,null,null,null,null,null,null,null,null,null,null,"--"]
[0,null,null,null,null,null,null,null,null,null,null,null,null,null,null,null,null,null,"--"]
[0,null,null,null,null,null,null,null,null,null,null,null,null,null,null,null,null,null,"--"]
[0,null,null,null,null,null,null,null,null,null,null,null,null,null,null,null,null,null,"--"]
[0,null,null,null,null,null,null,null,null,null,null,null,null,null,null,null,null,null,"--"]
[0,null,null,null,null,null,null,null,null,null,null,null,null,null,null,null,null,null,"--"]
[0,null,null,null,null,null,null,null,null,null,null,null,null,null,null,null,null,null,"--"]
[0,null,null,null,null,null,null,null,null,null,null,null,null,null,null,null,null,null,"--"]
[0,null,null,null,null,null,null,null,null,null,null,null,null,null,null,null,null,null,"--"]
[0,null,null,null,null,null,null,null,null,null,null,null,null,null,null,null,null,null,"--"]
[0,null,null,null,null,null,null,null,null,null,null,null,null,null,null,null,null,null,"--"]
[0,null,null,null,null,null,null,null,null,null,null,null,null,null,null,null,null,null,"--"]
[0,null,null,null,null,null,null,null,null,null,null,null,null,null,null,null,null,null,"--"]
[0,null,null,null,null,null,null,null,null,null,null,null,null,null,null,null,null,null,"--"]
[0,null,null,null,null,null,null,null,null,null,null,null,null,null,null,null,null,null,"--"]
[0,null,null,null,null,null,null,null,null,null,null,null,null,null,null,null,null,null,"--"]
[0,null,null,null,null,null,null,null,null,null,null,null,null,null,null,null,null,null,"--"]
[0,null,null,null,null,null,null,null,null,null,null,null,null,null,null,null,null,null,"--"]
[0,null,null,null,null,null,null,null,null,null,null,null,null,null,null,null,null,null,"--"]
[0,null,null,null,null,null,null,null,null,null,null,null,null,null,null,null,null,null,"--"]
[0,null,null,null,null,null,null,null,null,null,null,null,null,null,null,null,null,null,"--"]
[0,null,null,null,null,null,null,null,null,null,null,null,null,null,null,null,null,null,"--"]
[0,null,null,null,null,null,null,null,null,null,null,null,null,null,null,null,null,null,"--"]
[0,null,null,null,null,null,null,null,null,null,null,null,null,null,null,null,null,null,"--"]
[0,null,null,null,null,null,null,null,null,null,null,null,null,null,null,null,null,null,"--"]
[0,null,null,null,null,null,null,null,null,null,null,null,null,null,null,null,null,null,"--"]
[0,null,null,null,null,null,null,null,null,null,null,null,null,null,null,null,null,null,"--"]
[0,null,null,null,null,null,null,null,null,null,null,null,null,null,null,null,null,null,"--"]
[0,null,null,null,null,null,null,null,null,null,null,null,null,null,null,null,null,null,"--"]
[0,null,null,null,null,null,null,null,null,null,null,null,null,null,null,null,null,null,"--"]
[0,null,null,null,null,null,null,null,null,null,null,null,null,null,null,null,null,null,"--"]
[0,null,null,null,null,null,null,null,null,null,null,null,null,null,null,null,null,null,"--"]
[0,null,null,null,null,null,null,null,null,null,null,null,null,null,null,null,null,null,"--"]
[0,null,null,null,null,null,null,null,null,null,null,null,null,null,null,null,null,null,"--"]
[0,null,null,null,null,null,null,null,null,null,null,null,null,null,null,null,null,null,"--"]
[0,null,null,null,null,null,null,null,null,null,null,null,null,null,null,null,null,null,"--"]
[0,null,null,null,null,null,null,null,null,null,null,null,null,null,null,null,null,null,"--"]
[0,null,null,null,null,null,null,null,null,null,null,null,null,null,null,null,null,null,"--"]
[0,null,null,null,null,null,null,null,null,null,null,null,null,null,null,null,null,null,"--"]
[0,null,null,null,null,null,null,null,null,null,null,null,null,null,null,null,null,null,"--"]
[0,null,null,null,null,null,null,null,null,null,null,null,null,null,null,null,null,null,"--"]
[0,null,null,null,null,null,null,null,null,null,null,null,null,null,null,null,null,null,"--"]
[0,null,null,null,null,null,null,null,null,null,null,null,null,null,null,null,null,null,"--"]
[0,null,null,null,null,null,null,null,null,null,null,null,null,null,null,null,null,null,"--"]
[0,null,null,null,null,null,null,null,null,null,null,null,null,null,null,null,null,null,"--"]
[0,null,null,null,null,null,null,null,null,null,null,null,null,null,null,null,null,null,"--"]
[0,null,null,null,null,null,null,null,null,null,null,null,null,null,null,null,null,null,"--"]
[0,null,null,null,null,null,null,null,null,null,null,null,null,null,null,null,null,null,"--"]
[0,null,null,null,null,null,null,null,null,null,null,null,null,null,null,null,null,null,"--"]
[0,null,null,null,null,null,null,null,null,null,null,null,null,null,null,null,null,null,"--"]
[0,null,null,null,null,null,null,null,null,null,null,null,null,null,null,null,null,null,"--"]
[0,null,null,null,null,null,null,null,null,null,null,null,null,null,null,null,null,null,"--"]
[0,null,null,null,null,null,null,null,null,null,null,null,null,null,null,null,null,null,"--"]
[0,null,null,null,null,null,null,null,null,null,null,null,null,null,null,null,null,null,"--"]
[0,null,null,null,null,null,null,null,null,null,null,null,null,null,null,null,null,null,"--"]
[0,null,null,null,null,null,null,null,null,null,null,null,null,null,null,null,null,null,"--"]
[0,null,null,null,null,null,null,null,null,null,null,null,null,null,null,null,null,null,"--"]
[0,null,null,null,null,null,null,null,null,null,null,null,null,null,null,null,null,null,"--"]
[0,null,null,null,null,null,null,null,null,null,null,null,null,null,null,null,null,null,"--"]
[0,null,null,null,null,null,null,null,null,null,null,null,null,null,null,null,null,null,"--"]
[0,null,null,null,null,null,null,null,null,null,null,null,null,null,null,null,null,null,"--"]
[0,null,null,null,null,null,null,null,null,null,null,null,null,null,null,null,null,null,"--"]
[0,null,null,null,null,null,null,null,null,null,null,null,null,null,null,null,null,null,"--"]
[0,null,null,null,null,null,null,null,null,null,null,null,null,null,null,null,null,null,"--"]
[0,null,null,null,null,null,null,null,null,null,null,null,null,null,null,null,null,null,"--"]
[0,null,null,null,null,null,null,null,null,null,null,null,null,null,null,null,null,null,"--"]
[0,null,null,null,null,null,null,null,null,null,null,null,null,null,null,null,null,null,"--"]
[0,null,null,null,null,null,null,null,null,null,null,null,null,null,null,null,null,null,"--"]
[0,null,null,null,null,null,null,null,null,null,null,null,null,null,null,null,null,null,"--"]
[0,null,null,null,null,null,null,null,null,null,null,null,null,null,null,null,null,null,"--"]
[0,null,null,null,null,null,null,null,null,null,null,null,null,null,null,null,null,null,"--"]
[0,null,null,null,null,null,null,null,null,null,null,null,null,null,null,null,null,null,"--"]
[0,null,null,null,null,null,null,null,null,null,null,null,null,null,null,null,null,null,"--"]
[0,null,null,null,null,null,null,null,null,null,null,null,null,null,null,null,null,null,"--"]
[0,null,null,null,null,null,null,null,null,null,null,null,null,null,null,null,null,null,"--"]
[0,null,null,null,null,null,null,null,null,null,null,null,null,null,null,null,null,null,"--"]
[0,null,null,null,null,null,null,null,null,null,null,null,null,null,null,null,null,null,"--"]
[0,null,null,null,null,null,null,null,null,null,null,null,null,null,null,null,null,null,"--"]
[0,null,null,null,null,null,null,null,null,null,null,null,null,null,null,null,null,null,"--"]
[0,null,null,null,null,null,null,null,null,null,null,null,null,null,null,null,null,null,"--"]
[0,null,null,null,null,null,null,null,null,null,null,null,null,null,null,null,null,null,"--"]
[0,null,null,null,null,null,null,null,null,null,null,null,null,null,null,null,null,null,"--"]
[0,null,null,null,null,null,null,null,null,null,null,null,null,null,null,null,null,null,"--"]
[0,null,null,null,null,null,null,null,null,null,null,null,null,null,null,null,null,null,"--"]
[0,null,null,null,null,null,null,null,null,null,null,null,null,null,null,null,null,null,"--"]
[0,null,null,null,null,null,null,null,null,null,null,null,null,null,null,null,null,null,"--"]
[0,null,null,null,null,null,null,null,null,null,null,null,null,null,null,null,null,null,"--"]
[0,null,null,null,null,null,null,null,null,null,null,null,null,null,null,null,null,null,"--"]
[0,null,null,null,null,null,null,null,null,null,null,null,null,null,null,null,null,null,"--"]
[0,null,null,null,null,null,null,null,null,null,null,null,null,null,null,null,null,null,"--"]
[0,null,null,null,null,null,null,null,null,null,null,null,null,null,null,null,null,null,"--"]
[0,null,null,null,null,null,null,null,null,null,null,null,null,null,null,null,null,null,"--"]
[0,null,null,null,null,null,null,null,null,null,null,null,null,null,null,null,null,null,"--"]
[0,null,null,null,null,null,null,null,null,null,null,null,null,null,null,null,null,null,"--"]
[0,null,null,null,null,null,null,null,null,null,null,null,null,null,null,null,null,null,"--"]
[0,null,null,null,null,null,null,null,null,null,null,null,null,null,null,null,null,null,"--"]
[0,null,null,null,null,null,null,null,null,null,null,null,null,null,null,null,null,null,"--"]
[0,null,null,null,null,null,null,null,null,null,null,null,null,null,null,null,null,null,"--"]
[0,null,null,null,null,null,null,null,null,null,null,null,null,null,null,null,null,null,"--"]
[0,null,null,null,null,null,null,null,null,null,null,null,null,null,null,null,null,null,"--"]
[0,null,null,null,null,null,null,null,null,null,null,null,null,null,null,null,null,null,"--"]
[0,null,null,null,null,null,null,null,null,null,null,null,null,null,null,null,null,null,"--"]
[0,null,null,null,null,null,null,null,null,null,null,null,null,null,null,null,null,null,"--"]
[0,null,null,null,null,null,null,null,null,null,null,null,null,null,null,null,null,null,"--"]
[0,null,null,null,null,null,null,null,null,null,null,null,null,null,null,null,null,null,"--"]
[0,null,null,null,null,null,null,null,null,null,null,null,null,null,null,null,null,null,"--"]
[0,null,null,null,null,null,null,null,null,null,null,null,null,null,null,null,null,null,"--"]
[0,null,null,null,null,null,null,null,null,null,null,null,null,null,null,null,null,null,"--"]
[0,null,null,null,null,null,null,null,null,null,null,null,null,null,null,null,null,null,"--"]
[0,null,null,null,null,null,null,null,null,null,null,null,null,null,null,null,null,null,"--"]
[0]
[0,null,null,null,null,null,null,null,null,null,null,null,null,null,null,null,null,null,"--"]
[0,null,null,null,null,null,null,null,null,null,null,null,null,null,null,null,null,null,"--"]
[0,"EOR",null,"End of Record"," ",null,null,null,null,null,null,null,null,null,null,null,null,null,"--"]
["x"]
["x","Notes:"]
["x","-- = Not available"]
["x","mg/kg-day = milligram per kilogram per day",null,null,null,null,null,null,null,"OCP = Organochlorine pesticide",null,null,null,null,null,null,null,null," "]
["x","µg/m3 = microgram per cubic meter",null,null,null,null,null,null,null,"PPRTV =  Provisional Peer Reviewed Toxicity Values for Superfund (USEPA 2017b)"]
["x","ABSsoil = Soil dermal absorption factor",null,null,null,null,null,null,null,"RfD = Reference dose"]
["x","B2 = Probable carcinogen, sufficient evidence in animals (USEPA 2014)",null,null,null,null,null,null,null,"RfC = Reference concentration"]
["x","COPC = Chemical of potential concern",null,null,null,null,null,null,null,"USEPA = United States Environmental Protection Agency"]
["x","IRIS = Integrated Risk Information System (USEPA 2017a)",null,null,null,null,null,null,null,"[1] Use chronic value as surrogate "]
["x"]
["x","Sources:"]
["x","USEPA. 2014. Prioritized Chronic Dose-Response Values. May."]
["x","USEPA. 2017a. Integreated Risk Information System (IRIS). Available online at https://www.epa.gov/iris. Accessed on August 29, 2017."]
["x","USEPA. 2017b. Provisional Peer Reviewed Toxicity Values for Superfund (PPRTV). Available online at https://hhpprtv.ornl.gov/. Accessed on August 29, 2017."]
[]
[]
[]
[]
[]
[]
[null,null,null,null,null,null," "]

{"sheet":"Tab Q-1a Indoor Worker Parcel H","index":8,"n_rows":288,"n_cols":20,"rows_kept":288,"cut":false,"hidden":false,"merged":[[6,8,6,9],[6,16,6,17],[6,18,9,18],[6,19,9,19],[280,1,280,3],[6,13,6,14],[0,1,0,19],[1,1,1,19],[2,1,2,19],[3,1,3,19],[4,3,4,19],[6,0,9,0],[6,1,9,1],[6,3,9,3],[6,4,9,4],[6,5,6,6]]}
[null,{"$f":"TOC!A3&\". \"&TOC!B3","v":"TABLE Q-1-1A. Estimated Cancer Risks and Non-Cancer Hazard Indices for Indoor Commercial/Industrial Workers Exposed to Soil (0-2 feet bgs) in Parcel H"}]
[null,{"$f":"Tracking!B2","v":"Nevada Environmental Response Trust Site"}]
[null,{"$f":"Tracking!C2","v":"Henderson, Nevada"}]
[]
[]
[]
["Parcel C COPC","Chemical\nGroup",null,"Chemical","CASRN",null,null,null,"Soil Ingestion",null,null,null,null,"Vapor Inhalation",null,null,"Airborne Particulate Inhalation",null,"Cancer Risk_All Pathways","Non-Cancer HQ_All Pathways"]
[null,null,null,null,null,null,null,null,"Cancer IF","Noncancer IF",null,null,null,"Cancer IF","Noncancer IF",null,"Cancer IF","Noncancer IF"]
[null,null,null,null,null,null,null,null,{"$f":"'Tab 5-15 Exposure Assumption'!D20","v":1.5288649706457926E-7},{"$f":"'Tab 5-15 Exposure Assumption'!D21","v":4.2808219178082193E-7},null,null,null,{"$f":"'Tab 5-15 Exposure Assumption'!D34","v":8.1539465101108904E-2},{"$f":"'Tab 5-15 Exposure Assumption'!D35","v":0.22831050228310501},null,{"$f":"'Tab 5-15 Exposure Assumption'!D30","v":8.1539465101108932E-2},{"$f":"'Tab 5-15 Exposure Assumption'!D31","v":0.22831050228310501}]
[null,null,"Sort Name",null,null,"SForal\n(mg/kg/d)-1","RfDoral\n(mg/kg/d)","Soil EPC (mg/kg)","Cancer Risk","Non-Cancer HQ","IUR\n(ug/m3)-1","RfC\n(ug/m3)","Vapor EPC (ug/m3)","Cancer \nRisk","Non-Cancer \nHQ","Airborne Particulate EPC (ug/m3)","Cancer \nRisk","Non-Cancer \nHQ"]
[{"$f":"'Tab 5-16 Tox'!X11:X280","v":"X"},{"$f":"'Tab 5-16 Tox'!B11:E280","v":"Metal"},0,"Palladium","7440-05-3",{"$f":"IF(ISNUMBER('Tab 5-16 Tox'!$F11:$F280),'Tab 5-16 Tox'!$F11:$F280,\"--\")","v":"--"},{"$f":"IF(ISNUMBER('Tab 5-16 Tox'!$K11:$K280),'Tab 5-16 Tox'!$K11:$K280,\"--\")","v":"--"},{"$f":"IF(ISNUMBER(VLOOKUP(E11,'Tab 5-7a Soil & Air EPCs'!$D$7:$E$9,2,FALSE)),VLOOKUP(E11,'Tab 5-7a Soil & Air EPCs'!$D$7:$E$9,2,FALSE),\"--\")","v":0.47},{"$f":"IF(F11:F280<>\"--\",IF(H11:H280<>\"--\",H11:H280*I9*F11:F280,\"--\"),\"--\")","v":"--"},{"$f":"IF(G11:G280<>\"--\",IF(H11:H280<>\"--\",H11:H280*J9/G11:G280,\"--\"),\"--\")","v":"--"},{"$f":"IF(ISNUMBER('Tab 5-16 Tox'!$H11:$H280),'Tab 5-16 Tox'!$H11:$H280,\"--\")","v":"--"},{"$f":"IF(ISNUMBER('Tab 5-16 Tox'!$M11:$M280),'Tab 5-16 Tox'!$M11:$M280,\"--\")","v":"--"},{"$f":"IF(ISNUMBER(VLOOKUP(E11,'Tab 5-7a Soil & Air EPCs'!$D$7:$H$9,5,FALSE)),VLOOKUP(E11,'Tab 5-7a Soil & Air EPCs'!$D$7:$H$9,5,FALSE),\"--\")","v":"--"},{"$f":"IF(K11:K280<>\"--\",IF(M11:M280<>\"--\",M11:M280*N9*K11:K280,\"--\"),\"--\")","v":"--"},{"$f":"IF(L11:L280<>\"--\",IF(M11:M280<>\"--\",M11:M280*O9/L11:L280,\"--\"),\"--\")","v":"--"},{"$f":"IF(ISNUMBER(VLOOKUP(E11,'Tab 5-7a Soil & Air EPCs'!$D$7:$F$9,3,FALSE)),VLOOKUP(E11,'Tab 5-7a Soil & Air EPCs'!$D$7:$F$9,3,FALSE),\"--\")","v":4.9225306598131534E-7},{"$f":"IF(K11:K280<>\"--\",IF(P11:P280<>\"--\",P11:P280*Q9*K11:K280,\"--\"),\"--\")","v":"--"},{"$f":"IF(L11:L280<>\"--\",IF(P11:P280<>\"--\",P11:P280*R9/L11:L280,\"--\"),\"--\")","v":"--"},{"$f":"IF(SUM(I11,N11,Q11)>0,SUM(I11,N11,Q11),\"--\")","v":"--"},{"$f":"IF(SUM(J11,O11,R11)>0,SUM(J11,O11,R11),\"--\")","v":"--"}]
["X","Metal",0,"Zirconium","7440-67-7","--",8.0000000000000007E-5,{"$f":"IF(ISNUMBER(VLOOKUP(E12,'Tab 5-7a Soil & Air EPCs'!$D$7:$E$9,2,FALSE)),VLOOKUP(E12,'Tab 5-7a Soil & Air EPCs'!$D$7:$E$9,2,FALSE),\"--\")","v":24.9},"--",0.13324058219178081,"--","--",{"$f":"IF(ISNUMBER(VLOOKUP(E12,'Tab 5-7a Soil & Air EPCs'!$D$7:$H$9,5,FALSE)),VLOOKUP(E12,'Tab 5-7a Soil & Air EPCs'!$D$7:$H$9,5,FALSE),\"--\")","v":"--"},"--","--",{"$f":"IF(ISNUMBER(VLOOKUP(E12,'Tab 5-7a Soil & Air EPCs'!$D$7:$F$9,3,FALSE)),VLOOKUP(E12,'Tab 5-7a Soil & Air EPCs'!$D$7:$F$9,3,FALSE),\"--\")","v":2.6078939027520743E-5},"--","--",{"$f":"IF(SUM(I12,N12,Q12)>0,SUM(I12,N12,Q12),\"--\")","v":"--"},{"$f":"IF(SUM(J12,O12,R12)>0,SUM(J12,O12,R12),\"--\")","v":0.13324058219178081}]
["X","Pesticide - OCP",0,"Hexachlorobenzene","118-74-1",1.6,8.0000000000000004E-4,{"$f":"IF(ISNUMBER(VLOOKUP(E13,'Tab 5-7a Soil & Air EPCs'!$D$7:$E$9,2,FALSE)),VLOOKUP(E13,'Tab 5-7a Soil & Air EPCs'!$D$7:$E$9,2,FALSE),\"--\")","v":0.21},5.1369863013698629E-8,1.1237157534246574E-4,4.6000000000000001E-4,"--",{"$f":"IF(ISNUMBER(VLOOKUP(E13,'Tab 5-7a Soil & Air EPCs'!$D$7:$H$9,5,FALSE)),VLOOKUP(E13,'Tab 5-7a Soil & Air EPCs'!$D$7:$H$9,5,FALSE),\"--\")","v":9.2393084429118477E-3},3.465494034360281E-7,"--",{"$f":"IF(ISNUMBER(VLOOKUP(E13,'Tab 5-7a Soil & Air EPCs'!$D$7:$F$9,3,FALSE)),VLOOKUP(E13,'Tab 5-7a Soil & Air EPCs'!$D$7:$F$9,3,FALSE),\"--\")","v":2.1994285926824725E-7},8.249650624869026E-12,"--",3.979275161003516E-7,1.1237157534246574E-4]
[0,0,0,0,0,"--","--",{"$f":"IF(ISNUMBER(VLOOKUP(E14,'Tab 5-7a Soil & Air EPCs'!$D$7:$E$9,2,FALSE)),VLOOKUP(E14,'Tab 5-7a Soil & Air EPCs'!$D$7:$E$9,2,FALSE),\"--\")","v":"--"},"--","--","--","--",{"$f":"IF(ISNUMBER(VLOOKUP(E14,'Tab 5-7a Soil & Air EPCs'!$D$7:$H$9,5,FALSE)),VLOOKUP(E14,'Tab 5-7a Soil & Air EPCs'!$D$7:$H$9,5,FALSE),\"--\")","v":"--"},"--","--",{"$f":"IF(ISNUMBER(VLOOKUP(E14,'Tab 5-7a Soil & Air EPCs'!$D$7:$F$9,3,FALSE)),VLOOKUP(E14,'Tab 5-7a Soil & Air EPCs'!$D$7:$F$9,3,FALSE),\"--\")","v":"--"},"--","--","--","--"]
[0,0,0,0,0,"--","--",{"$f":"IF(ISNUMBER(VLOOKUP(E15,'Tab 5-7a Soil & Air EPCs'!$D$7:$E$9,2,FALSE)),VLOOKUP(E15,'Tab 5-7a Soil & Air EPCs'!$D$7:$E$9,2,FALSE),\"--\")","v":"--"},"--","--","--","--",{"$f":"IF(ISNUMBER(VLOOKUP(E15,'Tab 5-7a Soil & Air EPCs'!$D$7:$H$9,5,FALSE)),VLOOKUP(E15,'Tab 5-7a Soil & Air EPCs'!$D$7:$H$9,5,FALSE),\"--\")","v":"--"},"--","--",{"$f":"IF(ISNUMBER(VLOOKUP(E15,'Tab 5-7a Soil & Air EPCs'!$D$7:$F$9,3,FALSE)),VLOOKUP(E15,'Tab 5-7a Soil & Air EPCs'!$D$7:$F$9,3,FALSE),\"--\")","v":"--"},"--","--","--","--"]
[0,0,0,0,0,"--","--",{"$f":"IF(ISNUMBER(VLOOKUP(E16,'Tab 5-7a Soil & Air EPCs'!$D$7:$E$9,2,FALSE)),VLOOKUP(E16,'Tab 5-7a Soil & Air EPCs'!$D$7:$E$9,2,FALSE),\"--\")","v":"--"},"--","--","--","--",{"$f":"IF(ISNUMBER(VLOOKUP(E16,'Tab 5-7a Soil & Air EPCs'!$D$7:$H$9,5,FALSE)),VLOOKUP(E16,'Tab 5-7a Soil & Air EPCs'!$D$7:$H$9,5,FALSE),\"--\")","v":"--"},"--","--",{"$f":"IF(ISNUMBER(VLOOKUP(E16,'Tab 5-7a Soil & Air EPCs'!$D$7:$F$9,3,FALSE)),VLOOKUP(E16,'Tab 5-7a Soil & Air EPCs'!$D$7:$F$9,3,FALSE),\"--\")","v":"--"},"--","--","--","--"]
[0,0,0,0,0,"--","--",{"$f":"IF(ISNUMBER(VLOOKUP(E17,'Tab 5-7a Soil & Air EPCs'!$D$7:$E$9,2,FALSE)),VLOOKUP(E17,'Tab 5-7a Soil & Air EPCs'!$D$7:$E$9,2,FALSE),\"--\")","v":"--"},"--","--","--","--",{"$f":"IF(ISNUMBER(VLOOKUP(E17,'Tab 5-7a Soil & Air EPCs'!$D$7:$H$9,5,FALSE)),VLOOKUP(E17,'Tab 5-7a Soil & Air EPCs'!$D$7:$H$9,5,FALSE),\"--\")","v":"--"},"--","--",{"$f":"IF(ISNUMBER(VLOOKUP(E17,'Tab 5-7a Soil & Air EPCs'!$D$7:$F$9,3,FALSE)),VLOOKUP(E17,'Tab 5-7a Soil & Air EPCs'!$D$7:$F$9,3,FALSE),\"--\")","v":"--"},"--","--","--","--"]
[0,0,0,0,0,"--","--",{"$f":"IF(ISNUMBER(VLOOKUP(E18,'Tab 5-7a Soil & Air EPCs'!$D$7:$E$9,2,FALSE)),VLOOKUP(E18,'Tab 5-7a Soil & Air EPCs'!$D$7:$E$9,2,FALSE),\"--\")","v":"--"},"--","--","--","--",{"$f":"IF(ISNUMBER(VLOOKUP(E18,'Tab 5-7a Soil & Air EPCs'!$D$7:$H$9,5,FALSE)),VLOOKUP(E18,'Tab 5-7a Soil & Air EPCs'!$D$7:$H$9,5,FALSE),\"--\")","v":"--"},"--","--",{"$f":"IF(ISNUMBER(VLOOKUP(E18,'Tab 5-7a Soil & Air EPCs'!$D$7:$F$9,3,FALSE)),VLOOKUP(E18,'Tab 5-7a Soil & Air EPCs'!$D$7:$F$9,3,FALSE),\"--\")","v":"--"},"--","--","--","--"]
[0,0,0,0,0,"--","--",{"$f":"IF(ISNUMBER(VLOOKUP(E19,'Tab 5-7a Soil & Air EPCs'!$D$7:$E$9,2,FALSE)),VLOOKUP(E19,'Tab 5-7a Soil & Air EPCs'!$D$7:$E$9,2,FALSE),\"--\")","v":"--"},"--","--","--","--",{"$f":"IF(ISNUMBER(VLOOKUP(E19,'Tab 5-7a Soil & Air EPCs'!$D$7:$H$9,5,FALSE)),VLOOKUP(E19,'Tab 5-7a Soil & Air EPCs'!$D$7:$H$9,5,FALSE),\"--\")","v":"--"},"--","--",{"$f":"IF(ISNUMBER(VLOOKUP(E19,'Tab 5-7a Soil & Air EPCs'!$D$7:$F$9,3,FALSE)),VLOOKUP(E19,'Tab 5-7a Soil & Air EPCs'!$D$7:$F$9,3,FALSE),\"--\")","v":"--"},"--","--","--","--"]
[0,0,0,0,0,"--","--",{"$f":"IF(ISNUMBER(VLOOKUP(E20,'Tab 5-7a Soil & Air EPCs'!$D$7:$E$9,2,FALSE)),VLOOKUP(E20,'Tab 5-7a Soil & Air EPCs'!$D$7:$E$9,2,FALSE),\"--\")","v":"--"},"--","--","--","--",{"$f":"IF(ISNUMBER(VLOOKUP(E20,'Tab 5-7a Soil & Air EPCs'!$D$7:$H$9,5,FALSE)),VLOOKUP(E20,'Tab 5-7a Soil & Air EPCs'!$D$7:$H$9,5,FALSE),\"--\")","v":"--"},"--","--",{"$f":"IF(ISNUMBER(VLOOKUP(E20,'Tab 5-7a Soil & Air EPCs'!$D$7:$F$9,3,FALSE)),VLOOKUP(E20,'Tab 5-7a Soil & Air EPCs'!$D$7:$F$9,3,FALSE),\"--\")","v":"--"},"--","--","--","--"]
[0,0,0,0,0,"--","--",{"$f":"IF(ISNUMBER(VLOOKUP(E21,'Tab 5-7a Soil & Air EPCs'!$D$7:$E$9,2,FALSE)),VLOOKUP(E21,'Tab 5-7a Soil & Air EPCs'!$D$7:$E$9,2,FALSE),\"--\")","v":"--"},"--","--","--","--",{"$f":"IF(ISNUMBER(VLOOKUP(E21,'Tab 5-7a Soil & Air EPCs'!$D$7:$H$9,5,FALSE)),VLOOKUP(E21,'Tab 5-7a Soil & Air EPCs'!$D$7:$H$9,5,FALSE),\"--\")","v":"--"},"--","--",{"$f":"IF(ISNUMBER(VLOOKUP(E21,'Tab 5-7a Soil & Air EPCs'!$D$7:$F$9,3,FALSE)),VLOOKUP(E21,'Tab 5-7a Soil & Air EPCs'!$D$7:$F$9,3,FALSE),\"--\")","v":"--"},"--","--","--","--"]
[0,0,0,0,0,"--","--",{"$f":"IF(ISNUMBER(VLOOKUP(E22,'Tab 5-7a Soil & Air EPCs'!$D$7:$E$9,2,FALSE)),VLOOKUP(E22,'Tab 5-7a Soil & Air EPCs'!$D$7:$E$9,2,FALSE),\"--\")","v":"--"},"--","--","--","--",{"$f":"IF(ISNUMBER(VLOOKUP(E22,'Tab 5-7a Soil & Air EPCs'!$D$7:$H$9,5,FALSE)),VLOOKUP(E22,'Tab 5-7a Soil & Air EPCs'!$D$7:$H$9,5,FALSE),\"--\")","v":"--"},"--","--",{"$f":"IF(ISNUMBER(VLOOKUP(E22,'Tab 5-7a Soil & Air EPCs'!$D$7:$F$9,3,FALSE)),VLOOKUP(E22,'Tab 5-7a Soil & Air EPCs'!$D$7:$F$9,3,FALSE),\"--\")","v":"--"},"--","--","--","--"]
[0,0,0,0,0,"--","--",{"$f":"IF(ISNUMBER(VLOOKUP(E23,'Tab 5-7a Soil & Air EPCs'!$D$7:$E$9,2,FALSE)),VLOOKUP(E23,'Tab 5-7a Soil & Air EPCs'!$D$7:$E$9,2,FALSE),\"--\")","v":"--"},"--","--","--","--",{"$f":"IF(ISNUMBER(VLOOKUP(E23,'Tab 5-7a Soil & Air EPCs'!$D$7:$H$9,5,FALSE)),VLOOKUP(E23,'Tab 5-7a Soil & Air EPCs'!$D$7:$H$9,5,FALSE),\"--\")","v":"--"},"--","--",{"$f":"IF(ISNUMBER(VLOOKUP(E23,'Tab 5-7a Soil & Air EPCs'!$D$7:$F$9,3,FALSE)),VLOOKUP(E23,'Tab 5-7a Soil & Air EPCs'!$D$7:$F$9,3,FALSE),\"--\")","v":"--"},"--","--","--","--"]
[0,0,0,0,0,"--","--",{"$f":"IF(ISNUMBER(VLOOKUP(E24,'Tab 5-7a Soil & Air EPCs'!$D$7:$E$9,2,FALSE)),VLOOKUP(E24,'Tab 5-7a Soil & Air EPCs'!$D$7:$E$9,2,FALSE),\"--\")","v":"--"},"--","--","--","--",{"$f":"IF(ISNUMBER(VLOOKUP(E24,'Tab 5-7a Soil & Air EPCs'!$D$7:$H$9,5,FALSE)),VLOOKUP(E24,'Tab 5-7a Soil & Air EPCs'!$D$7:$H$9,5,FALSE),\"--\")","v":"--"},"--","--",{"$f":"IF(ISNUMBER(VLOOKUP(E24,'Tab 5-7a Soil & Air EPCs'!$D$7:$F$9,3,FALSE)),VLOOKUP(E24,'Tab 5-7a Soil & Air EPCs'!$D$7:$F$9,3,FALSE),\"--\")","v":"--"},"--","--","--","--"]
[0,0,0,0,0,"--","--",{"$f":"IF(ISNUMBER(VLOOKUP(E25,'Tab 5-7a Soil & Air EPCs'!$D$7:$E$9,2,FALSE)),VLOOKUP(E25,'Tab 5-7a Soil & Air EPCs'!$D$7:$E$9,2,FALSE),\"--\")","v":"--"},"--","--","--","--",{"$f":"IF(ISNUMBER(VLOOKUP(E25,'Tab 5-7a Soil & Air EPCs'!$D$7:$H$9,5,FALSE)),VLOOKUP(E25,'Tab 5-7a Soil & Air EPCs'!$D$7:$H$9,5,FALSE),\"--\")","v":"--"},"--","--",{"$f":"IF(ISNUMBER(VLOOKUP(E25,'Tab 5-7a Soil & Air EPCs'!$D$7:$F$9,3,FALSE)),VLOOKUP(E25,'Tab 5-7a Soil & Air EPCs'!$D$7:$F$9,3,FALSE),\"--\")","v":"--"},"--","--","--","--"]
[0,0,0,0,0,"--","--",{"$f":"IF(ISNUMBER(VLOOKUP(E26,'Tab 5-7a Soil & Air EPCs'!$D$7:$E$9,2,FALSE)),VLOOKUP(E26,'Tab 5-7a Soil & Air EPCs'!$D$7:$E$9,2,FALSE),\"--\")","v":"--"},"--","--","--","--",{"$f":"IF(ISNUMBER(VLOOKUP(E26,'Tab 5-7a Soil & Air EPCs'!$D$7:$H$9,5,FALSE)),VLOOKUP(E26,'Tab 5-7a Soil & Air EPCs'!$D$7:$H$9,5,FALSE),\"--\")","v":"--"},"--","--",{"$f":"IF(ISNUMBER(VLOOKUP(E26,'Tab 5-7a Soil & Air EPCs'!$D$7:$F$9,3,FALSE)),VLOOKUP(E26,'Tab 5-7a Soil & Air EPCs'!$D$7:$F$9,3,FALSE),\"--\")","v":"--"},"--","--","--","--"]
[0,0,0,0,0,"--","--",{"$f":"IF(ISNUMBER(VLOOKUP(E27,'Tab 5-7a Soil & Air EPCs'!$D$7:$E$9,2,FALSE)),VLOOKUP(E27,'Tab 5-7a Soil & Air EPCs'!$D$7:$E$9,2,FALSE),\"--\")","v":"--"},"--","--","--","--",{"$f":"IF(ISNUMBER(VLOOKUP(E27,'Tab 5-7a Soil & Air EPCs'!$D$7:$H$9,5,FALSE)),VLOOKUP(E27,'Tab 5-7a Soil & Air EPCs'!$D$7:$H$9,5,FALSE),\"--\")","v":"--"},"--","--",{"$f":"IF(ISNUMBER(VLOOKUP(E27,'Tab 5-7a Soil & Air EPCs'!$D$7:$F$9,3,FALSE)),VLOOKUP(E27,'Tab 5-7a Soil & Air EPCs'!$D$7:$F$9,3,FALSE),\"--\")","v":"--"},"--","--","--","--"]
[0,0,0,0,0,"--","--",{"$f":"IF(ISNUMBER(VLOOKUP(E28,'Tab 5-7a Soil & Air EPCs'!$D$7:$E$9,2,FALSE)),VLOOKUP(E28,'Tab 5-7a Soil & Air EPCs'!$D$7:$E$9,2,FALSE),\"--\")","v":"--"},"--","--","--","--",{"$f":"IF(ISNUMBER(VLOOKUP(E28,'Tab 5-7a Soil & Air EPCs'!$D$7:$H$9,5,FALSE)),VLOOKUP(E28,'Tab 5-7a Soil & Air EPCs'!$D$7:$H$9,5,FALSE),\"--\")","v":"--"},"--","--",{"$f":"IF(ISNUMBER(VLOOKUP(E28,'Tab 5-7a Soil & Air EPCs'!$D$7:$F$9,3,FALSE)),VLOOKUP(E28,'Tab 5-7a Soil & Air EPCs'!$D$7:$F$9,3,FALSE),\"--\")","v":"--"},"--","--","--","--"]
[0,0,0,0,0,"--","--",{"$f":"IF(ISNUMBER(VLOOKUP(E29,'Tab 5-7a Soil & Air EPCs'!$D$7:$E$9,2,FALSE)),VLOOKUP(E29,'Tab 5-7a Soil & Air EPCs'!$D$7:$E$9,2,FALSE),\"--\")","v":"--"},"--","--","--","--",{"$f":"IF(ISNUMBER(VLOOKUP(E29,'Tab 5-7a Soil & Air EPCs'!$D$7:$H$9,5,FALSE)),VLOOKUP(E29,'Tab 5-7a Soil & Air EPCs'!$D$7:$H$9,5,FALSE),\"--\")","v":"--"},"--","--",{"$f":"IF(ISNUMBER(VLOOKUP(E29,'Tab 5-7a Soil & Air EPCs'!$D$7:$F$9,3,FALSE)),VLOOKUP(E29,'Tab 5-7a Soil & Air EPCs'!$D$7:$F$9,3,FALSE),\"--\")","v":"--"},"--","--","--","--"]
[0,0,0,0,0,"--","--",{"$f":"IF(ISNUMBER(VLOOKUP(E30,'Tab 5-7a Soil & Air EPCs'!$D$7:$E$9,2,FALSE)),VLOOKUP(E30,'Tab 5-7a Soil & Air EPCs'!$D$7:$E$9,2,FALSE),\"--\")","v":"--"},"--","--","--","--",{"$f":"IF(ISNUMBER(VLOOKUP(E30,'Tab 5-7a Soil & Air EPCs'!$D$7:$H$9,5,FALSE)),VLOOKUP(E30,'Tab 5-7a Soil & Air EPCs'!$D$7:$H$9,5,FALSE),\"--\")","v":"--"},"--","--",{"$f":"IF(ISNUMBER(VLOOKUP(E30,'Tab 5-7a Soil & Air EPCs'!$D$7:$F$9,3,FALSE)),VLOOKUP(E30,'Tab 5-7a Soil & Air EPCs'!$D$7:$F$9,3,FALSE),\"--\")","v":"--"},"--","--","--","--"]
[0,0,0,0,0,"--","--",{"$f":"IF(ISNUMBER(VLOOKUP(E31,'Tab 5-7a Soil & Air EPCs'!$D$7:$E$9,2,FALSE)),VLOOKUP(E31,'Tab 5-7a Soil & Air EPCs'!$D$7:$E$9,2,FALSE),\"--\")","v":"--"},"--","--","--","--",{"$f":"IF(ISNUMBER(VLOOKUP(E31,'Tab 5-7a Soil & Air EPCs'!$D$7:$H$9,5,FALSE)),VLOOKUP(E31,'Tab 5-7a Soil & Air EPCs'!$D$7:$H$9,5,FALSE),\"--\")","v":"--"},"--","--",{"$f":"IF(ISNUMBER(VLOOKUP(E31,'Tab 5-7a Soil & Air EPCs'!$D$7:$F$9,3,FALSE)),VLOOKUP(E31,'Tab 5-7a Soil & Air EPCs'!$D$7:$F$9,3,FALSE),\"--\")","v":"--"},"--","--","--","--"]
[0,0,0,0,0,"--","--",{"$f":"IF(ISNUMBER(VLOOKUP(E32,'Tab 5-7a Soil & Air EPCs'!$D$7:$E$9,2,FALSE)),VLOOKUP(E32,'Tab 5-7a Soil & Air EPCs'!$D$7:$E$9,2,FALSE),\"--\")","v":"--"},"--","--","--","--",{"$f":"IF(ISNUMBER(VLOOKUP(E32,'Tab 5-7a Soil & Air EPCs'!$D$7:$H$9,5,FALSE)),VLOOKUP(E32,'Tab 5-7a Soil & Air EPCs'!$D$7:$H$9,5,FALSE),\"--\")","v":"--"},"--","--",{"$f":"IF(ISNUMBER(VLOOKUP(E32,'Tab 5-7a Soil & Air EPCs'!$D$7:$F$9,3,FALSE)),VLOOKUP(E32,'Tab 5-7a Soil & Air EPCs'!$D$7:$F$9,3,FALSE),\"--\")","v":"--"},"--","--","--","--"]
[0,0,0,0,0,"--","--",{"$f":"IF(ISNUMBER(VLOOKUP(E33,'Tab 5-7a Soil & Air EPCs'!$D$7:$E$9,2,FALSE)),VLOOKUP(E33,'Tab 5-7a Soil & Air EPCs'!$D$7:$E$9,2,FALSE),\"--\")","v":"--"},"--","--","--","--",{"$f":"IF(ISNUMBER(VLOOKUP(E33,'Tab 5-7a Soil & Air EPCs'!$D$7:$H$9,5,FALSE)),VLOOKUP(E33,'Tab 5-7a Soil & Air EPCs'!$D$7:$H$9,5,FALSE),\"--\")","v":"--"},"--","--",{"$f":"IF(ISNUMBER(VLOOKUP(E33,'Tab 5-7a Soil & Air EPCs'!$D$7:$F$9,3,FALSE)),VLOOKUP(E33,'Tab 5-7a Soil & Air EPCs'!$D$7:$F$9,3,FALSE),\"--\")","v":"--"},"--","--","--","--"]
[0,0,0,0,0,"--","--",{"$f":"IF(ISNUMBER(VLOOKUP(E34,'Tab 5-7a Soil & Air EPCs'!$D$7:$E$9,2,FALSE)),VLOOKUP(E34,'Tab 5-7a Soil & Air EPCs'!$D$7:$E$9,2,FALSE),\"--\")","v":"--"},"--","--","--","--",{"$f":"IF(ISNUMBER(VLOOKUP(E34,'Tab 5-7a Soil & Air EPCs'!$D$7:$H$9,5,FALSE)),VLOOKUP(E34,'Tab 5-7a Soil & Air EPCs'!$D$7:$H$9,5,FALSE),\"--\")","v":"--"},"--","--",{"$f":"IF(ISNUMBER(VLOOKUP(E34,'Tab 5-7a Soil & Air EPCs'!$D$7:$F$9,3,FALSE)),VLOOKUP(E34,'Tab 5-7a Soil & Air EPCs'!$D$7:$F$9,3,FALSE),\"--\")","v":"--"},"--","--","--","--"]
[0,0,0,0,0,"--","--",{"$f":"IF(ISNUMBER(VLOOKUP(E35,'Tab 5-7a Soil & Air EPCs'!$D$7:$E$9,2,FALSE)),VLOOKUP(E35,'Tab 5-7a Soil & Air EPCs'!$D$7:$E$9,2,FALSE),\"--\")","v":"--"},"--","--","--","--",{"$f":"IF(ISNUMBER(VLOOKUP(E35,'Tab 5-7a Soil & Air EPCs'!$D$7:$H$9,5,FALSE)),VLOOKUP(E35,'Tab 5-7a Soil & Air EPCs'!$D$7:$H$9,5,FALSE),\"--\")","v":"--"},"--","--",{"$f":"IF(ISNUMBER(VLOOKUP(E35,'Tab 5-7a Soil & Air EPCs'!$D$7:$F$9,3,FALSE)),VLOOKUP(E35,'Tab 5-7a Soil & Air EPCs'!$D$7:$F$9,3,FALSE),\"--\")","v":"--"},"--","--","--","--"]
[0,0,0,0,0,"--","--",{"$f":"IF(ISNUMBER(VLOOKUP(E36,'Tab 5-7a Soil & Air EPCs'!$D$7:$E$9,2,FALSE)),VLOOKUP(E36,'Tab 5-7a Soil & Air EPCs'!$D$7:$E$9,2,FALSE),\"--\")","v":"--"},"--","--","--","--",{"$f":"IF(ISNUMBER(VLOOKUP(E36,'Tab 5-7a Soil & Air EPCs'!$D$7:$H$9,5,FALSE)),VLOOKUP(E36,'Tab 5-7a Soil & Air EPCs'!$D$7:$H$9,5,FALSE),\"--\")","v":"--"},"--","--",{"$f":"IF(ISNUMBER(VLOOKUP(E36,'Tab 5-7a Soil & Air EPCs'!$D$7:$F$9,3,FALSE)),VLOOKUP(E36,'Tab 5-7a Soil & Air EPCs'!$D$7:$F$9,3,FALSE),\"--\")","v":"--"},"--","--","--","--"]
[0,0,0,0,0,"--","--",{"$f":"IF(ISNUMBER(VLOOKUP(E37,'Tab 5-7a Soil & Air EPCs'!$D$7:$E$9,2,FALSE)),VLOOKUP(E37,'Tab 5-7a Soil & Air EPCs'!$D$7:$E$9,2,FALSE),\"--\")","v":"--"},"--","--","--","--",{"$f":"IF(ISNUMBER(VLOOKUP(E37,'Tab 5-7a Soil & Air EPCs'!$D$7:$H$9,5,FALSE)),VLOOKUP(E37,'Tab 5-7a Soil & Air EPCs'!$D$7:$H$9,5,FALSE),\"--\")","v":"--"},"--","--",{"$f":"IF(ISNUMBER(VLOOKUP(E37,'Tab 5-7a Soil & Air EPCs'!$D$7:$F$9,3,FALSE)),VLOOKUP(E37,'Tab 5-7a Soil & Air EPCs'!$D$7:$F$9,3,FALSE),\"--\")","v":"--"},"--","--","--","--"]
[0,0,0,0,0,"--","--",{"$f":"IF(ISNUMBER(VLOOKUP(E38,'Tab 5-7a Soil & Air EPCs'!$D$7:$E$9,2,FALSE)),VLOOKUP(E38,'Tab 5-7a Soil & Air EPCs'!$D$7:$E$9,2,FALSE),\"--\")","v":"--"},"--","--","--","--",{"$f":"IF(ISNUMBER(VLOOKUP(E38,'Tab 5-7a Soil & Air EPCs'!$D$7:$H$9,5,FALSE)),VLOOKUP(E38,'Tab 5-7a Soil & Air EPCs'!$D$7:$H$9,5,FALSE),\"--\")","v":"--"},"--","--",{"$f":"IF(ISNUMBER(VLOOKUP(E38,'Tab 5-7a Soil & Air EPCs'!$D$7:$F$9,3,FALSE)),VLOOKUP(E38,'Tab 5-7a Soil & Air EPCs'!$D$7:$F$9,3,FALSE),\"--\")","v":"--"},"--","--","--","--"]
[0,0,0,0,0,"--","--",{"$f":"IF(ISNUMBER(VLOOKUP(E39,'Tab 5-7a Soil & Air EPCs'!$D$7:$E$9,2,FALSE)),VLOOKUP(E39,'Tab 5-7a Soil & Air EPCs'!$D$7:$E$9,2,FALSE),\"--\")","v":"--"},"--","--","--","--",{"$f":"IF(ISNUMBER(VLOOKUP(E39,'Tab 5-7a Soil & Air EPCs'!$D$7:$H$9,5,FALSE)),VLOOKUP(E39,'Tab 5-7a Soil & Air EPCs'!$D$7:$H$9,5,FALSE),\"--\")","v":"--"},"--","--",{"$f":"IF(ISNUMBER(VLOOKUP(E39,'Tab 5-7a Soil & Air EPCs'!$D$7:$F$9,3,FALSE)),VLOOKUP(E39,'Tab 5-7a Soil & Air EPCs'!$D$7:$F$9,3,FALSE),\"--\")","v":"--"},"--","--","--","--"]
[0,0,0,0,0,"--","--",{"$f":"IF(ISNUMBER(VLOOKUP(E40,'Tab 5-7a Soil & Air EPCs'!$D$7:$E$9,2,FALSE)),VLOOKUP(E40,'Tab 5-7a Soil & Air EPCs'!$D$7:$E$9,2,FALSE),\"--\")","v":"--"},"--","--","--","--",{"$f":"IF(ISNUMBER(VLOOKUP(E40,'Tab 5-7a Soil & Air EPCs'!$D$7:$H$9,5,FALSE)),VLOOKUP(E40,'Tab 5-7a Soil & Air EPCs'!$D$7:$H$9,5,FALSE),\"--\")","v":"--"},"--","--",{"$f":"IF(ISNUMBER(VLOOKUP(E40,'Tab 5-7a Soil & Air EPCs'!$D$7:$F$9,3,FALSE)),VLOOKUP(E40,'Tab 5-7a Soil & Air EPCs'!$D$7:$F$9,3,FALSE),\"--\")","v":"--"},"--","--","--","--"]
[0,0,0,0,0,"--","--",{"$f":"IF(ISNUMBER(VLOOKUP(E41,'Tab 5-7a Soil & Air EPCs'!$D$7:$E$9,2,FALSE)),VLOOKUP(E41,'Tab 5-7a Soil & Air EPCs'!$D$7:$E$9,2,FALSE),\"--\")","v":"--"},"--","--","--","--",{"$f":"IF(ISNUMBER(VLOOKUP(E41,'Tab 5-7a Soil & Air EPCs'!$D$7:$H$9,5,FALSE)),VLOOKUP(E41,'Tab 5-7a Soil & Air EPCs'!$D$7:$H$9,5,FALSE),\"--\")","v":"--"},"--","--",{"$f":"IF(ISNUMBER(VLOOKUP(E41,'Tab 5-7a Soil & Air EPCs'!$D$7:$F$9,3,FALSE)),VLOOKUP(E41,'Tab 5-7a Soil & Air EPCs'!$D$7:$F$9,3,FALSE),\"--\")","v":"--"},"--","--","--","--"]
[0,0,0,0,0,"--","--",{"$f":"IF(ISNUMBER(VLOOKUP(E42,'Tab 5-7a Soil & Air EPCs'!$D$7:$E$9,2,FALSE)),VLOOKUP(E42,'Tab 5-7a Soil & Air EPCs'!$D$7:$E$9,2,FALSE),\"--\")","v":"--"},"--","--","--","--",{"$f":"IF(ISNUMBER(VLOOKUP(E42,'Tab 5-7a Soil & Air EPCs'!$D$7:$H$9,5,FALSE)),VLOOKUP(E42,'Tab 5-7a Soil & Air EPCs'!$D$7:$H$9,5,FALSE),\"--\")","v":"--"},"--","--",{"$f":"IF(ISNUMBER(VLOOKUP(E42,'Tab 5-7a Soil & Air EPCs'!$D$7:$F$9,3,FALSE)),VLOOKUP(E42,'Tab 5-7a Soil & Air EPCs'!$D$7:$F$9,3,FALSE),\"--\")","v":"--"},"--","--","--","--"]
[0,0,0,0,0,"--","--",{"$f":"IF(ISNUMBER(VLOOKUP(E43,'Tab 5-7a Soil & Air EPCs'!$D$7:$E$9,2,FALSE)),VLOOKUP(E43,'Tab 5-7a Soil & Air EPCs'!$D$7:$E$9,2,FALSE),\"--\")","v":"--"},"--","--","--","--",{"$f":"IF(ISNUMBER(VLOOKUP(E43,'Tab 5-7a Soil & Air EPCs'!$D$7:$H$9,5,FALSE)),VLOOKUP(E43,'Tab 5-7a Soil & Air EPCs'!$D$7:$H$9,5,FALSE),\"--\")","v":"--"},"--","--",{"$f":"IF(ISNUMBER(VLOOKUP(E43,'Tab 5-7a Soil & Air EPCs'!$D$7:$F$9,3,FALSE)),VLOOKUP(E43,'Tab 5-7a Soil & Air EPCs'!$D$7:$F$9,3,FALSE),\"--\")","v":"--"},"--","--","--","--"]
[0,0,0,0,0,"--","--",{"$f":"IF(ISNUMBER(VLOOKUP(E44,'Tab 5-7a Soil & Air EPCs'!$D$7:$E$9,2,FALSE)),VLOOKUP(E44,'Tab 5-7a Soil & Air EPCs'!$D$7:$E$9,2,FALSE),\"--\")","v":"--"},"--","--","--","--",{"$f":"IF(ISNUMBER(VLOOKUP(E44,'Tab 5-7a Soil & Air EPCs'!$D$7:$H$9,5,FALSE)),VLOOKUP(E44,'Tab 5-7a Soil & Air EPCs'!$D$7:$H$9,5,FALSE),\"--\")","v":"--"},"--","--",{"$f":"IF(ISNUMBER(VLOOKUP(E44,'Tab 5-7a Soil & Air EPCs'!$D$7:$F$9,3,FALSE)),VLOOKUP(E44,'Tab 5-7a Soil & Air EPCs'!$D$7:$F$9,3,FALSE),\"--\")","v":"--"},"--","--","--","--"]
[0,0,0,0,0,"--","--",{"$f":"IF(ISNUMBER(VLOOKUP(E45,'Tab 5-7a Soil & Air EPCs'!$D$7:$E$9,2,FALSE)),VLOOKUP(E45,'Tab 5-7a Soil & Air EPCs'!$D$7:$E$9,2,FALSE),\"--\")","v":"--"},"--","--","--","--",{"$f":"IF(ISNUMBER(VLOOKUP(E45,'Tab 5-7a Soil & Air EPCs'!$D$7:$H$9,5,FALSE)),VLOOKUP(E45,'Tab 5-7a Soil & Air EPCs'!$D$7:$H$9,5,FALSE),\"--\")","v":"--"},"--","--",{"$f":"IF(ISNUMBER(VLOOKUP(E45,'Tab 5-7a Soil & Air EPCs'!$D$7:$F$9,3,FALSE)),VLOOKUP(E45,'Tab 5-7a Soil & Air EPCs'!$D$7:$F$9,3,FALSE),\"--\")","v":"--"},"--","--","--","--"]
[0,0,0,0,0,"--","--",{"$f":"IF(ISNUMBER(VLOOKUP(E46,'Tab 5-7a Soil & Air EPCs'!$D$7:$E$9,2,FALSE)),VLOOKUP(E46,'Tab 5-7a Soil & Air EPCs'!$D$7:$E$9,2,FALSE),\"--\")","v":"--"},"--","--","--","--",{"$f":"IF(ISNUMBER(VLOOKUP(E46,'Tab 5-7a Soil & Air EPCs'!$D$7:$H$9,5,FALSE)),VLOOKUP(E46,'Tab 5-7a Soil & Air EPCs'!$D$7:$H$9,5,FALSE),\"--\")","v":"--"},"--","--",{"$f":"IF(ISNUMBER(VLOOKUP(E46,'Tab 5-7a Soil & Air EPCs'!$D$7:$F$9,3,FALSE)),VLOOKUP(E46,'Tab 5-7a Soil & Air EPCs'!$D$7:$F$9,3,FALSE),\"--\")","v":"--"},"--","--","--","--"]
[0,0,0,0,0,"--","--",{"$f":"IF(ISNUMBER(VLOOKUP(E47,'Tab 5-7a Soil & Air EPCs'!$D$7:$E$9,2,FALSE)),VLOOKUP(E47,'Tab 5-7a Soil & Air EPCs'!$D$7:$E$9,2,FALSE),\"--\")","v":"--"},"--","--","--","--",{"$f":"IF(ISNUMBER(VLOOKUP(E47,'Tab 5-7a Soil & Air EPCs'!$D$7:$H$9,5,FALSE)),VLOOKUP(E47,'Tab 5-7a Soil & Air EPCs'!$D$7:$H$9,5,FALSE),\"--\")","v":"--"},"--","--",{"$f":"IF(ISNUMBER(VLOOKUP(E47,'Tab 5-7a Soil & Air EPCs'!$D$7:$F$9,3,FALSE)),VLOOKUP(E47,'Tab 5-7a Soil & Air EPCs'!$D$7:$F$9,3,FALSE),\"--\")","v":"--"},"--","--","--","--"]
[0,0,0,0,0,"--","--",{"$f":"IF(ISNUMBER(VLOOKUP(E48,'Tab 5-7a Soil & Air EPCs'!$D$7:$E$9,2,FALSE)),VLOOKUP(E48,'Tab 5-7a Soil & Air EPCs'!$D$7:$E$9,2,FALSE),\"--\")","v":"--"},"--","--","--","--",{"$f":"IF(ISNUMBER(VLOOKUP(E48,'Tab 5-7a Soil & Air EPCs'!$D$7:$H$9,5,FALSE)),VLOOKUP(E48,'Tab 5-7a Soil & Air EPCs'!$D$7:$H$9,5,FALSE),\"--\")","v":"--"},"--","--",{"$f":"IF(ISNUMBER(VLOOKUP(E48,'Tab 5-7a Soil & Air EPCs'!$D$7:$F$9,3,FALSE)),VLOOKUP(E48,'Tab 5-7a Soil & Air EPCs'!$D$7:$F$9,3,FALSE),\"--\")","v":"--"},"--","--","--","--"]
[0,0,0,0,0,"--","--",{"$f":"IF(ISNUMBER(VLOOKUP(E49,'Tab 5-7a Soil & Air EPCs'!$D$7:$E$9,2,FALSE)),VLOOKUP(E49,'Tab 5-7a Soil & Air EPCs'!$D$7:$E$9,2,FALSE),\"--\")","v":"--"},"--","--","--","--",{"$f":"IF(ISNUMBER(VLOOKUP(E49,'Tab 5-7a Soil & Air EPCs'!$D$7:$H$9,5,FALSE)),VLOOKUP(E49,'Tab 5-7a Soil & Air EPCs'!$D$7:$H$9,5,FALSE),\"--\")","v":"--"},"--","--",{"$f":"IF(ISNUMBER(VLOOKUP(E49,'Tab 5-7a Soil & Air EPCs'!$D$7:$F$9,3,FALSE)),VLOOKUP(E49,'Tab 5-7a Soil & Air EPCs'!$D$7:$F$9,3,FALSE),\"--\")","v":"--"},"--","--","--","--"]
[0,0,0,0,0,"--","--",{"$f":"IF(ISNUMBER(VLOOKUP(E50,'Tab 5-7a Soil & Air EPCs'!$D$7:$E$9,2,FALSE)),VLOOKUP(E50,'Tab 5-7a Soil & Air EPCs'!$D$7:$E$9,2,FALSE),\"--\")","v":"--"},"--","--","--","--",{"$f":"IF(ISNUMBER(VLOOKUP(E50,'Tab 5-7a Soil & Air EPCs'!$D$7:$H$9,5,FALSE)),VLOOKUP(E50,'Tab 5-7a Soil & Air EPCs'!$D$7:$H$9,5,FALSE),\"--\")","v":"--"},"--","--",{"$f":"IF(ISNUMBER(VLOOKUP(E50,'Tab 5-7a Soil & Air EPCs'!$D$7:$F$9,3,FALSE)),VLOOKUP(E50,'Tab 5-7a Soil & Air EPCs'!$D$7:$F$9,3,FALSE),\"--\")","v":"--"},"--","--","--","--"]
[0,0,0,0,0,"--","--",{"$f":"IF(ISNUMBER(VLOOKUP(E51,'Tab 5-7a Soil & Air EPCs'!$D$7:$E$9,2,FALSE)),VLOOKUP(E51,'Tab 5-7a Soil & Air EPCs'!$D$7:$E$9,2,FALSE),\"--\")","v":"--"},"--","--","--","--",{"$f":"IF(ISNUMBER(VLOOKUP(E51,'Tab 5-7a Soil & Air EPCs'!$D$7:$H$9,5,FALSE)),VLOOKUP(E51,'Tab 5-7a Soil & Air EPCs'!$D$7:$H$9,5,FALSE),\"--\")","v":"--"},"--","--",{"$f":"IF(ISNUMBER(VLOOKUP(E51,'Tab 5-7a Soil & Air EPCs'!$D$7:$F$9,3,FALSE)),VLOOKUP(E51,'Tab 5-7a Soil & Air EPCs'!$D$7:$F$9,3,FALSE),\"--\")","v":"--"},"--","--","--","--"]
[0,0,0,0,0,"--","--",{"$f":"IF(ISNUMBER(VLOOKUP(E52,'Tab 5-7a Soil & Air EPCs'!$D$7:$E$9,2,FALSE)),VLOOKUP(E52,'Tab 5-7a Soil & Air EPCs'!$D$7:$E$9,2,FALSE),\"--\")","v":"--"},"--","--","--","--",{"$f":"IF(ISNUMBER(VLOOKUP(E52,'Tab 5-7a Soil & Air EPCs'!$D$7:$H$9,5,FALSE)),VLOOKUP(E52,'Tab 5-7a Soil & Air EPCs'!$D$7:$H$9,5,FALSE),\"--\")","v":"--"},"--","--",{"$f":"IF(ISNUMBER(VLOOKUP(E52,'Tab 5-7a Soil & Air EPCs'!$D$7:$F$9,3,FALSE)),VLOOKUP(E52,'Tab 5-7a Soil & Air EPCs'!$D$7:$F$9,3,FALSE),\"--\")","v":"--"},"--","--","--","--"]
[0,0,0,0,0,"--","--",{"$f":"IF(ISNUMBER(VLOOKUP(E53,'Tab 5-7a Soil & Air EPCs'!$D$7:$E$9,2,FALSE)),VLOOKUP(E53,'Tab 5-7a Soil & Air EPCs'!$D$7:$E$9,2,FALSE),\"--\")","v":"--"},"--","--","--","--",{"$f":"IF(ISNUMBER(VLOOKUP(E53,'Tab 5-7a Soil & Air EPCs'!$D$7:$H$9,5,FALSE)),VLOOKUP(E53,'Tab 5-7a Soil & Air EPCs'!$D$7:$H$9,5,FALSE),\"--\")","v":"--"},"--","--",{"$f":"IF(ISNUMBER(VLOOKUP(E53,'Tab 5-7a Soil & Air EPCs'!$D$7:$F$9,3,FALSE)),VLOOKUP(E53,'Tab 5-7a Soil & Air EPCs'!$D$7:$F$9,3,FALSE),\"--\")","v":"--"},"--","--","--","--"]
[0,0,0,0,0,"--","--",{"$f":"IF(ISNUMBER(VLOOKUP(E54,'Tab 5-7a Soil & Air EPCs'!$D$7:$E$9,2,FALSE)),VLOOKUP(E54,'Tab 5-7a Soil & Air EPCs'!$D$7:$E$9,2,FALSE),\"--\")","v":"--"},"--","--","--","--",{"$f":"IF(ISNUMBER(VLOOKUP(E54,'Tab 5-7a Soil & Air EPCs'!$D$7:$H$9,5,FALSE)),VLOOKUP(E54,'Tab 5-7a Soil & Air EPCs'!$D$7:$H$9,5,FALSE),\"--\")","v":"--"},"--","--",{"$f":"IF(ISNUMBER(VLOOKUP(E54,'Tab 5-7a Soil & Air EPCs'!$D$7:$F$9,3,FALSE)),VLOOKUP(E54,'Tab 5-7a Soil & Air EPCs'!$D$7:$F$9,3,FALSE),\"--\")","v":"--"},"--","--","--","--"]
[0,0,0,0,0,"--","--",{"$f":"IF(ISNUMBER(VLOOKUP(E55,'Tab 5-7a Soil & Air EPCs'!$D$7:$E$9,2,FALSE)),VLOOKUP(E55,'Tab 5-7a Soil & Air EPCs'!$D$7:$E$9,2,FALSE),\"--\")","v":"--"},"--","--","--","--",{"$f":"IF(ISNUMBER(VLOOKUP(E55,'Tab 5-7a Soil & Air EPCs'!$D$7:$H$9,5,FALSE)),VLOOKUP(E55,'Tab 5-7a Soil & Air EPCs'!$D$7:$H$9,5,FALSE),\"--\")","v":"--"},"--","--",{"$f":"IF(ISNUMBER(VLOOKUP(E55,'Tab 5-7a Soil & Air EPCs'!$D$7:$F$9,3,FALSE)),VLOOKUP(E55,'Tab 5-7a Soil & Air EPCs'!$D$7:$F$9,3,FALSE),\"--\")","v":"--"},"--","--","--","--"]
[0,0,0,0,0,"--","--",{"$f":"IF(ISNUMBER(VLOOKUP(E56,'Tab 5-7a Soil & Air EPCs'!$D$7:$E$9,2,FALSE)),VLOOKUP(E56,'Tab 5-7a Soil & Air EPCs'!$D$7:$E$9,2,FALSE),\"--\")","v":"--"},"--","--","--","--",{"$f":"IF(ISNUMBER(VLOOKUP(E56,'Tab 5-7a Soil & Air EPCs'!$D$7:$H$9,5,FALSE)),VLOOKUP(E56,'Tab 5-7a Soil & Air EPCs'!$D$7:$H$9,5,FALSE),\"--\")","v":"--"},"--","--",{"$f":"IF(ISNUMBER(VLOOKUP(E56,'Tab 5-7a Soil & Air EPCs'!$D$7:$F$9,3,FALSE)),VLOOKUP(E56,'Tab 5-7a Soil & Air EPCs'!$D$7:$F$9,3,FALSE),\"--\")","v":"--"},"--","--","--","--"]
[0,0,0,0,0,"--","--",{"$f":"IF(ISNUMBER(VLOOKUP(E57,'Tab 5-7a Soil & Air EPCs'!$D$7:$E$9,2,FALSE)),VLOOKUP(E57,'Tab 5-7a Soil & Air EPCs'!$D$7:$E$9,2,FALSE),\"--\")","v":"--"},"--","--","--","--",{"$f":"IF(ISNUMBER(VLOOKUP(E57,'Tab 5-7a Soil & Air EPCs'!$D$7:$H$9,5,FALSE)),VLOOKUP(E57,'Tab 5-7a Soil & Air EPCs'!$D$7:$H$9,5,FALSE),\"--\")","v":"--"},"--","--",{"$f":"IF(ISNUMBER(VLOOKUP(E57,'Tab 5-7a Soil & Air EPCs'!$D$7:$F$9,3,FALSE)),VLOOKUP(E57,'Tab 5-7a Soil & Air EPCs'!$D$7:$F$9,3,FALSE),\"--\")","v":"--"},"--","--","--","--"]
[0,0,0,0,0,"--","--",{"$f":"IF(ISNUMBER(VLOOKUP(E58,'Tab 5-7a Soil & Air EPCs'!$D$7:$E$9,2,FALSE)),VLOOKUP(E58,'Tab 5-7a Soil & Air EPCs'!$D$7:$E$9,2,FALSE),\"--\")","v":"--"},"--","--","--","--",{"$f":"IF(ISNUMBER(VLOOKUP(E58,'Tab 5-7a Soil & Air EPCs'!$D$7:$H$9,5,FALSE)),VLOOKUP(E58,'Tab 5-7a Soil & Air EPCs'!$D$7:$H$9,5,FALSE),\"--\")","v":"--"},"--","--",{"$f":"IF(ISNUMBER(VLOOKUP(E58,'Tab 5-7a Soil & Air EPCs'!$D$7:$F$9,3,FALSE)),VLOOKUP(E58,'Tab 5-7a Soil & Air EPCs'!$D$7:$F$9,3,FALSE),\"--\")","v":"--"},"--","--","--","--"]
[0,0,0,0,0,"--","--",{"$f":"IF(ISNUMBER(VLOOKUP(E59,'Tab 5-7a Soil & Air EPCs'!$D$7:$E$9,2,FALSE)),VLOOKUP(E59,'Tab 5-7a Soil & Air EPCs'!$D$7:$E$9,2,FALSE),\"--\")","v":"--"},"--","--","--","--",{"$f":"IF(ISNUMBER(VLOOKUP(E59,'Tab 5-7a Soil & Air EPCs'!$D$7:$H$9,5,FALSE)),VLOOKUP(E59,'Tab 5-7a Soil & Air EPCs'!$D$7:$H$9,5,FALSE),\"--\")","v":"--"},"--","--",{"$f":"IF(ISNUMBER(VLOOKUP(E59,'Tab 5-7a Soil & Air EPCs'!$D$7:$F$9,3,FALSE)),VLOOKUP(E59,'Tab 5-7a Soil & Air EPCs'!$D$7:$F$9,3,FALSE),\"--\")","v":"--"},"--","--","--","--"]
[0,0,0,0,0,"--","--",{"$f":"IF(ISNUMBER(VLOOKUP(E60,'Tab 5-7a Soil & Air EPCs'!$D$7:$E$9,2,FALSE)),VLOOKUP(E60,'Tab 5-7a Soil & Air EPCs'!$D$7:$E$9,2,FALSE),\"--\")","v":"--"},"--","--","--","--",{"$f":"IF(ISNUMBER(VLOOKUP(E60,'Tab 5-7a Soil & Air EPCs'!$D$7:$H$9,5,FALSE)),VLOOKUP(E60,'Tab 5-7a Soil & Air EPCs'!$D$7:$H$9,5,FALSE),\"--\")","v":"--"},"--","--",{"$f":"IF(ISNUMBER(VLOOKUP(E60,'Tab 5-7a Soil & Air EPCs'!$D$7:$F$9,3,FALSE)),VLOOKUP(E60,'Tab 5-7a Soil & Air EPCs'!$D$7:$F$9,3,FALSE),\"--\")","v":"--"},"--","--","--","--"]
[0,0,0,0,0,"--","--",{"$f":"IF(ISNUMBER(VLOOKUP(E61,'Tab 5-7a Soil & Air EPCs'!$D$7:$E$9,2,FALSE)),VLOOKUP(E61,'Tab 5-7a Soil & Air EPCs'!$D$7:$E$9,2,FALSE),\"--\")","v":"--"},"--","--","--","--",{"$f":"IF(ISNUMBER(VLOOKUP(E61,'Tab 5-7a Soil & Air EPCs'!$D$7:$H$9,5,FALSE)),VLOOKUP(E61,'Tab 5-7a Soil & Air EPCs'!$D$7:$H$9,5,FALSE),\"--\")","v":"--"},"--","--",{"$f":"IF(ISNUMBER(VLOOKUP(E61,'Tab 5-7a Soil & Air EPCs'!$D$7:$F$9,3,FALSE)),VLOOKUP(E61,'Tab 5-7a Soil & Air EPCs'!$D$7:$F$9,3,FALSE),\"--\")","v":"--"},"--","--","--","--"]
[0,0,0,0,0,"--","--",{"$f":"IF(ISNUMBER(VLOOKUP(E62,'Tab 5-7a Soil & Air EPCs'!$D$7:$E$9,2,FALSE)),VLOOKUP(E62,'Tab 5-7a Soil & Air EPCs'!$D$7:$E$9,2,FALSE),\"--\")","v":"--"},"--","--","--","--",{"$f":"IF(ISNUMBER(VLOOKUP(E62,'Tab 5-7a Soil & Air EPCs'!$D$7:$H$9,5,FALSE)),VLOOKUP(E62,'Tab 5-7a Soil & Air EPCs'!$D$7:$H$9,5,FALSE),\"--\")","v":"--"},"--","--",{"$f":"IF(ISNUMBER(VLOOKUP(E62,'Tab 5-7a Soil & Air EPCs'!$D$7:$F$9,3,FALSE)),VLOOKUP(E62,'Tab 5-7a Soil & Air EPCs'!$D$7:$F$9,3,FALSE),\"--\")","v":"--"},"--","--","--","--"]
[0,0,0,0,0,"--","--",{"$f":"IF(ISNUMBER(VLOOKUP(E63,'Tab 5-7a Soil & Air EPCs'!$D$7:$E$9,2,FALSE)),VLOOKUP(E63,'Tab 5-7a Soil & Air EPCs'!$D$7:$E$9,2,FALSE),\"--\")","v":"--"},"--","--","--","--",{"$f":"IF(ISNUMBER(VLOOKUP(E63,'Tab 5-7a Soil & Air EPCs'!$D$7:$H$9,5,FALSE)),VLOOKUP(E63,'Tab 5-7a Soil & Air EPCs'!$D$7:$H$9,5,FALSE),\"--\")","v":"--"},"--","--",{"$f":"IF(ISNUMBER(VLOOKUP(E63,'Tab 5-7a Soil & Air EPCs'!$D$7:$F$9,3,FALSE)),VLOOKUP(E63,'Tab 5-7a Soil & Air EPCs'!$D$7:$F$9,3,FALSE),\"--\")","v":"--"},"--","--","--","--"]
[0,0,0,0,0,"--","--",{"$f":"IF(ISNUMBER(VLOOKUP(E64,'Tab 5-7a Soil & Air EPCs'!$D$7:$E$9,2,FALSE)),VLOOKUP(E64,'Tab 5-7a Soil & Air EPCs'!$D$7:$E$9,2,FALSE),\"--\")","v":"--"},"--","--","--","--",{"$f":"IF(ISNUMBER(VLOOKUP(E64,'Tab 5-7a Soil & Air EPCs'!$D$7:$H$9,5,FALSE)),VLOOKUP(E64,'Tab 5-7a Soil & Air EPCs'!$D$7:$H$9,5,FALSE),\"--\")","v":"--"},"--","--",{"$f":"IF(ISNUMBER(VLOOKUP(E64,'Tab 5-7a Soil & Air EPCs'!$D$7:$F$9,3,FALSE)),VLOOKUP(E64,'Tab 5-7a Soil & Air EPCs'!$D$7:$F$9,3,FALSE),\"--\")","v":"--"},"--","--","--","--"]
[0,0,0,0,0,"--","--",{"$f":"IF(ISNUMBER(VLOOKUP(E65,'Tab 5-7a Soil & Air EPCs'!$D$7:$E$9,2,FALSE)),VLOOKUP(E65,'Tab 5-7a Soil & Air EPCs'!$D$7:$E$9,2,FALSE),\"--\")","v":"--"},"--","--","--","--",{"$f":"IF(ISNUMBER(VLOOKUP(E65,'Tab 5-7a Soil & Air EPCs'!$D$7:$H$9,5,FALSE)),VLOOKUP(E65,'Tab 5-7a Soil & Air EPCs'!$D$7:$H$9,5,FALSE),\"--\")","v":"--"},"--","--",{"$f":"IF(ISNUMBER(VLOOKUP(E65,'Tab 5-7a Soil & Air EPCs'!$D$7:$F$9,3,FALSE)),VLOOKUP(E65,'Tab 5-7a Soil & Air EPCs'!$D$7:$F$9,3,FALSE),\"--\")","v":"--"},"--","--","--","--"]
[0,0,0,0,0,"--","--",{"$f":"IF(ISNUMBER(VLOOKUP(E66,'Tab 5-7a Soil & Air EPCs'!$D$7:$E$9,2,FALSE)),VLOOKUP(E66,'Tab 5-7a Soil & Air EPCs'!$D$7:$E$9,2,FALSE),\"--\")","v":"--"},"--","--","--","--",{"$f":"IF(ISNUMBER(VLOOKUP(E66,'Tab 5-7a Soil & Air EPCs'!$D$7:$H$9,5,FALSE)),VLOOKUP(E66,'Tab 5-7a Soil & Air EPCs'!$D$7:$H$9,5,FALSE),\"--\")","v":"--"},"--","--",{"$f":"IF(ISNUMBER(VLOOKUP(E66,'Tab 5-7a Soil & Air EPCs'!$D$7:$F$9,3,FALSE)),VLOOKUP(E66,'Tab 5-7a Soil & Air EPCs'!$D$7:$F$9,3,FALSE),\"--\")","v":"--"},"--","--","--","--"]
[0,0,0,0,0,"--","--",{"$f":"IF(ISNUMBER(VLOOKUP(E67,'Tab 5-7a Soil & Air EPCs'!$D$7:$E$9,2,FALSE)),VLOOKUP(E67,'Tab 5-7a Soil & Air EPCs'!$D$7:$E$9,2,FALSE),\"--\")","v":"--"},"--","--","--","--",{"$f":"IF(ISNUMBER(VLOOKUP(E67,'Tab 5-7a Soil & Air EPCs'!$D$7:$H$9,5,FALSE)),VLOOKUP(E67,'Tab 5-7a Soil & Air EPCs'!$D$7:$H$9,5,FALSE),\"--\")","v":"--"},"--","--",{"$f":"IF(ISNUMBER(VLOOKUP(E67,'Tab 5-7a Soil & Air EPCs'!$D$7:$F$9,3,FALSE)),VLOOKUP(E67,'Tab 5-7a Soil & Air EPCs'!$D$7:$F$9,3,FALSE),\"--\")","v":"--"},"--","--","--","--"]
[0,0,0,0,0,"--","--",{"$f":"IF(ISNUMBER(VLOOKUP(E68,'Tab 5-7a Soil & Air EPCs'!$D$7:$E$9,2,FALSE)),VLOOKUP(E68,'Tab 5-7a Soil & Air EPCs'!$D$7:$E$9,2,FALSE),\"--\")","v":"--"},"--","--","--","--",{"$f":"IF(ISNUMBER(VLOOKUP(E68,'Tab 5-7a Soil & Air EPCs'!$D$7:$H$9,5,FALSE)),VLOOKUP(E68,'Tab 5-7a Soil & Air EPCs'!$D$7:$H$9,5,FALSE),\"--\")","v":"--"},"--","--",{"$f":"IF(ISNUMBER(VLOOKUP(E68,'Tab 5-7a Soil & Air EPCs'!$D$7:$F$9,3,FALSE)),VLOOKUP(E68,'Tab 5-7a Soil & Air EPCs'!$D$7:$F$9,3,FALSE),\"--\")","v":"--"},"--","--","--","--"]
[0,0,0,0,0,"--","--",{"$f":"IF(ISNUMBER(VLOOKUP(E69,'Tab 5-7a Soil & Air EPCs'!$D$7:$E$9,2,FALSE)),VLOOKUP(E69,'Tab 5-7a Soil & Air EPCs'!$D$7:$E$9,2,FALSE),\"--\")","v":"--"},"--","--","--","--",{"$f":"IF(ISNUMBER(VLOOKUP(E69,'Tab 5-7a Soil & Air EPCs'!$D$7:$H$9,5,FALSE)),VLOOKUP(E69,'Tab 5-7a Soil & Air EPCs'!$D$7:$H$9,5,FALSE),\"--\")","v":"--"},"--","--",{"$f":"IF(ISNUMBER(VLOOKUP(E69,'Tab 5-7a Soil & Air EPCs'!$D$7:$F$9,3,FALSE)),VLOOKUP(E69,'Tab 5-7a Soil & Air EPCs'!$D$7:$F$9,3,FALSE),\"--\")","v":"--"},"--","--","--","--"]
[0,0,0,0,0,"--","--",{"$f":"IF(ISNUMBER(VLOOKUP(E70,'Tab 5-7a Soil & Air EPCs'!$D$7:$E$9,2,FALSE)),VLOOKUP(E70,'Tab 5-7a Soil & Air EPCs'!$D$7:$E$9,2,FALSE),\"--\")","v":"--"},"--","--","--","--",{"$f":"IF(ISNUMBER(VLOOKUP(E70,'Tab 5-7a Soil & Air EPCs'!$D$7:$H$9,5,FALSE)),VLOOKUP(E70,'Tab 5-7a Soil & Air EPCs'!$D$7:$H$9,5,FALSE),\"--\")","v":"--"},"--","--",{"$f":"IF(ISNUMBER(VLOOKUP(E70,'Tab 5-7a Soil & Air EPCs'!$D$7:$F$9,3,FALSE)),VLOOKUP(E70,'Tab 5-7a Soil & Air EPCs'!$D$7:$F$9,3,FALSE),\"--\")","v":"--"},"--","--","--","--"]
[0,0,0,0,0,"--","--",{"$f":"IF(ISNUMBER(VLOOKUP(E71,'Tab 5-7a Soil & Air EPCs'!$D$7:$E$9,2,FALSE)),VLOOKUP(E71,'Tab 5-7a Soil & Air EPCs'!$D$7:$E$9,2,FALSE),\"--\")","v":"--"},"--","--","--","--",{"$f":"IF(ISNUMBER(VLOOKUP(E71,'Tab 5-7a Soil & Air EPCs'!$D$7:$H$9,5,FALSE)),VLOOKUP(E71,'Tab 5-7a Soil & Air EPCs'!$D$7:$H$9,5,FALSE),\"--\")","v":"--"},"--","--",{"$f":"IF(ISNUMBER(VLOOKUP(E71,'Tab 5-7a Soil & Air EPCs'!$D$7:$F$9,3,FALSE)),VLOOKUP(E71,'Tab 5-7a Soil & Air EPCs'!$D$7:$F$9,3,FALSE),\"--\")","v":"--"},"--","--","--","--"]
[0,0,0,0,0,"--","--",{"$f":"IF(ISNUMBER(VLOOKUP(E72,'Tab 5-7a Soil & Air EPCs'!$D$7:$E$9,2,FALSE)),VLOOKUP(E72,'Tab 5-7a Soil & Air EPCs'!$D$7:$E$9,2,FALSE),\"--\")","v":"--"},"--","--","--","--",{"$f":"IF(ISNUMBER(VLOOKUP(E72,'Tab 5-7a Soil & Air EPCs'!$D$7:$H$9,5,FALSE)),VLOOKUP(E72,'Tab 5-7a Soil & Air EPCs'!$D$7:$H$9,5,FALSE),\"--\")","v":"--"},"--","--",{"$f":"IF(ISNUMBER(VLOOKUP(E72,'Tab 5-7a Soil & Air EPCs'!$D$7:$F$9,3,FALSE)),VLOOKUP(E72,'Tab 5-7a Soil & Air EPCs'!$D$7:$F$9,3,FALSE),\"--\")","v":"--"},"--","--","--","--"]
[0,0,0,0,0,"--","--",{"$f":"IF(ISNUMBER(VLOOKUP(E73,'Tab 5-7a Soil & Air EPCs'!$D$7:$E$9,2,FALSE)),VLOOKUP(E73,'Tab 5-7a Soil & Air EPCs'!$D$7:$E$9,2,FALSE),\"--\")","v":"--"},"--","--","--","--",{"$f":"IF(ISNUMBER(VLOOKUP(E73,'Tab 5-7a Soil & Air EPCs'!$D$7:$H$9,5,FALSE)),VLOOKUP(E73,'Tab 5-7a Soil & Air EPCs'!$D$7:$H$9,5,FALSE),\"--\")","v":"--"},"--","--",{"$f":"IF(ISNUMBER(VLOOKUP(E73,'Tab 5-7a Soil & Air EPCs'!$D$7:$F$9,3,FALSE)),VLOOKUP(E73,'Tab 5-7a Soil & Air EPCs'!$D$7:$F$9,3,FALSE),\"--\")","v":"--"},"--","--","--","--"]
[0,0,0,0,0,"--","--",{"$f":"IF(ISNUMBER(VLOOKUP(E74,'Tab 5-7a Soil & Air EPCs'!$D$7:$E$9,2,FALSE)),VLOOKUP(E74,'Tab 5-7a Soil & Air EPCs'!$D$7:$E$9,2,FALSE),\"--\")","v":"--"},"--","--","--","--",{"$f":"IF(ISNUMBER(VLOOKUP(E74,'Tab 5-7a Soil & Air EPCs'!$D$7:$H$9,5,FALSE)),VLOOKUP(E74,'Tab 5-7a Soil & Air EPCs'!$D$7:$H$9,5,FALSE),\"--\")","v":"--"},"--","--",{"$f":"IF(ISNUMBER(VLOOKUP(E74,'Tab 5-7a Soil & Air EPCs'!$D$7:$F$9,3,FALSE)),VLOOKUP(E74,'Tab 5-7a Soil & Air EPCs'!$D$7:$F$9,3,FALSE),\"--\")","v":"--"},"--","--","--","--"]
[0,0,0,0,0,"--","--",{"$f":"IF(ISNUMBER(VLOOKUP(E75,'Tab 5-7a Soil & Air EPCs'!$D$7:$E$9,2,FALSE)),VLOOKUP(E75,'Tab 5-7a Soil & Air EPCs'!$D$7:$E$9,2,FALSE),\"--\")","v":"--"},"--","--","--","--",{"$f":"IF(ISNUMBER(VLOOKUP(E75,'Tab 5-7a Soil & Air EPCs'!$D$7:$H$9,5,FALSE)),VLOOKUP(E75,'Tab 5-7a Soil & Air EPCs'!$D$7:$H$9,5,FALSE),\"--\")","v":"--"},"--","--",{"$f":"IF(ISNUMBER(VLOOKUP(E75,'Tab 5-7a Soil & Air EPCs'!$D$7:$F$9,3,FALSE)),VLOOKUP(E75,'Tab 5-7a Soil & Air EPCs'!$D$7:$F$9,3,FALSE),\"--\")","v":"--"},"--","--","--","--"]
[0,0,0,0,0,"--","--",{"$f":"IF(ISNUMBER(VLOOKUP(E76,'Tab 5-7a Soil & Air EPCs'!$D$7:$E$9,2,FALSE)),VLOOKUP(E76,'Tab 5-7a Soil & Air EPCs'!$D$7:$E$9,2,FALSE),\"--\")","v":"--"},"--","--","--","--",{"$f":"IF(ISNUMBER(VLOOKUP(E76,'Tab 5-7a Soil & Air EPCs'!$D$7:$H$9,5,FALSE)),VLOOKUP(E76,'Tab 5-7a Soil & Air EPCs'!$D$7:$H$9,5,FALSE),\"--\")","v":"--"},"--","--",{"$f":"IF(ISNUMBER(VLOOKUP(E76,'Tab 5-7a Soil & Air EPCs'!$D$7:$F$9,3,FALSE)),VLOOKUP(E76,'Tab 5-7a Soil & Air EPCs'!$D$7:$F$9,3,FALSE),\"--\")","v":"--"},"--","--",{"$f":"IF(SUM(I76,N76,Q76)>0,SUM(I76,N76,Q76),\"--\")","v":"--"},{"$f":"IF(SUM(J76,O76,R76)>0,SUM(J76,O76,R76),\"--\")","v":"--"}]
[0,0,0,0,0,"--","--",{"$f":"IF(ISNUMBER(VLOOKUP(E77,'Tab 5-7a Soil & Air EPCs'!$D$7:$E$9,2,FALSE)),VLOOKUP(E77,'Tab 5-7a Soil & Air EPCs'!$D$7:$E$9,2,FALSE),\"--\")","v":"--"},"--","--","--","--",{"$f":"IF(ISNUMBER(VLOOKUP(E77,'Tab 5-7a Soil & Air EPCs'!$D$7:$H$9,5,FALSE)),VLOOKUP(E77,'Tab 5-7a Soil & Air EPCs'!$D$7:$H$9,5,FALSE),\"--\")","v":"--"},"--","--",{"$f":"IF(ISNUMBER(VLOOKUP(E77,'Tab 5-7a Soil & Air EPCs'!$D$7:$F$9,3,FALSE)),VLOOKUP(E77,'Tab 5-7a Soil & Air EPCs'!$D$7:$F$9,3,FALSE),\"--\")","v":"--"},"--","--","--","--"]
[0,0,0,0,0,"--","--",{"$f":"IF(ISNUMBER(VLOOKUP(E78,'Tab 5-7a Soil & Air EPCs'!$D$7:$E$9,2,FALSE)),VLOOKUP(E78,'Tab 5-7a Soil & Air EPCs'!$D$7:$E$9,2,FALSE),\"--\")","v":"--"},"--","--","--","--",{"$f":"IF(ISNUMBER(VLOOKUP(E78,'Tab 5-7a Soil & Air EPCs'!$D$7:$H$9,5,FALSE)),VLOOKUP(E78,'Tab 5-7a Soil & Air EPCs'!$D$7:$H$9,5,FALSE),\"--\")","v":"--"},"--","--",{"$f":"IF(ISNUMBER(VLOOKUP(E78,'Tab 5-7a Soil & Air EPCs'!$D$7:$F$9,3,FALSE)),VLOOKUP(E78,'Tab 5-7a Soil & Air EPCs'!$D$7:$F$9,3,FALSE),\"--\")","v":"--"},"--","--","--","--"]
[0,0,0,0,0,"--","--",{"$f":"IF(ISNUMBER(VLOOKUP(E79,'Tab 5-7a Soil & Air EPCs'!$D$7:$E$9,2,FALSE)),VLOOKUP(E79,'Tab 5-7a Soil & Air EPCs'!$D$7:$E$9,2,FALSE),\"--\")","v":"--"},"--","--","--","--",{"$f":"IF(ISNUMBER(VLOOKUP(E79,'Tab 5-7a Soil & Air EPCs'!$D$7:$H$9,5,FALSE)),VLOOKUP(E79,'Tab 5-7a Soil & Air EPCs'!$D$7:$H$9,5,FALSE),\"--\")","v":"--"},"--","--",{"$f":"IF(ISNUMBER(VLOOKUP(E79,'Tab 5-7a Soil & Air EPCs'!$D$7:$F$9,3,FALSE)),VLOOKUP(E79,'Tab 5-7a Soil & Air EPCs'!$D$7:$F$9,3,FALSE),\"--\")","v":"--"},"--","--","--","--"]
[0,0,0,0,0,"--","--",{"$f":"IF(ISNUMBER(VLOOKUP(E80,'Tab 5-7a Soil & Air EPCs'!$D$7:$E$9,2,FALSE)),VLOOKUP(E80,'Tab 5-7a Soil & Air EPCs'!$D$7:$E$9,2,FALSE),\"--\")","v":"--"},"--","--","--","--",{"$f":"IF(ISNUMBER(VLOOKUP(E80,'Tab 5-7a Soil & Air EPCs'!$D$7:$H$9,5,FALSE)),VLOOKUP(E80,'Tab 5-7a Soil & Air EPCs'!$D$7:$H$9,5,FALSE),\"--\")","v":"--"},"--","--",{"$f":"IF(ISNUMBER(VLOOKUP(E80,'Tab 5-7a Soil & Air EPCs'!$D$7:$F$9,3,FALSE)),VLOOKUP(E80,'Tab 5-7a Soil & Air EPCs'!$D$7:$F$9,3,FALSE),\"--\")","v":"--"},"--","--","--","--"]
[0,0,0,0,0,"--","--",{"$f":"IF(ISNUMBER(VLOOKUP(E81,'Tab 5-7a Soil & Air EPCs'!$D$7:$E$9,2,FALSE)),VLOOKUP(E81,'Tab 5-7a Soil & Air EPCs'!$D$7:$E$9,2,FALSE),\"--\")","v":"--"},"--","--","--","--",{"$f":"IF(ISNUMBER(VLOOKUP(E81,'Tab 5-7a Soil & Air EPCs'!$D$7:$H$9,5,FALSE)),VLOOKUP(E81,'Tab 5-7a Soil & Air EPCs'!$D$7:$H$9,5,FALSE),\"--\")","v":"--"},"--","--",{"$f":"IF(ISNUMBER(VLOOKUP(E81,'Tab 5-7a Soil & Air EPCs'!$D$7:$F$9,3,FALSE)),VLOOKUP(E81,'Tab 5-7a Soil & Air EPCs'!$D$7:$F$9,3,FALSE),\"--\")","v":"--"},"--","--","--","--"]
[0,0,0,0,0,"--","--",{"$f":"IF(ISNUMBER(VLOOKUP(E82,'Tab 5-7a Soil & Air EPCs'!$D$7:$E$9,2,FALSE)),VLOOKUP(E82,'Tab 5-7a Soil & Air EPCs'!$D$7:$E$9,2,FALSE),\"--\")","v":"--"},"--","--","--","--",{"$f":"IF(ISNUMBER(VLOOKUP(E82,'Tab 5-7a Soil & Air EPCs'!$D$7:$H$9,5,FALSE)),VLOOKUP(E82,'Tab 5-7a Soil & Air EPCs'!$D$7:$H$9,5,FALSE),\"--\")","v":"--"},"--","--",{"$f":"IF(ISNUMBER(VLOOKUP(E82,'Tab 5-7a Soil & Air EPCs'!$D$7:$F$9,3,FALSE)),VLOOKUP(E82,'Tab 5-7a Soil & Air EPCs'!$D$7:$F$9,3,FALSE),\"--\")","v":"--"},"--","--","--","--"]
[0,0,0,0,0,"--","--",{"$f":"IF(ISNUMBER(VLOOKUP(E83,'Tab 5-7a Soil & Air EPCs'!$D$7:$E$9,2,FALSE)),VLOOKUP(E83,'Tab 5-7a Soil & Air EPCs'!$D$7:$E$9,2,FALSE),\"--\")","v":"--"},"--","--","--","--",{"$f":"IF(ISNUMBER(VLOOKUP(E83,'Tab 5-7a Soil & Air EPCs'!$D$7:$H$9,5,FALSE)),VLOOKUP(E83,'Tab 5-7a Soil & Air EPCs'!$D$7:$H$9,5,FALSE),\"--\")","v":"--"},"--","--",{"$f":"IF(ISNUMBER(VLOOKUP(E83,'Tab 5-7a Soil & Air EPCs'!$D$7:$F$9,3,FALSE)),VLOOKUP(E83,'Tab 5-7a Soil & Air EPCs'!$D$7:$F$9,3,FALSE),\"--\")","v":"--"},"--","--","--","--"]
[0,0,0,0,0,"--","--",{"$f":"IF(ISNUMBER(VLOOKUP(E84,'Tab 5-7a Soil & Air EPCs'!$D$7:$E$9,2,FALSE)),VLOOKUP(E84,'Tab 5-7a Soil & Air EPCs'!$D$7:$E$9,2,FALSE),\"--\")","v":"--"},"--","--","--","--",{"$f":"IF(ISNUMBER(VLOOKUP(E84,'Tab 5-7a Soil & Air EPCs'!$D$7:$H$9,5,FALSE)),VLOOKUP(E84,'Tab 5-7a Soil & Air EPCs'!$D$7:$H$9,5,FALSE),\"--\")","v":"--"},"--","--",{"$f":"IF(ISNUMBER(VLOOKUP(E84,'Tab 5-7a Soil & Air EPCs'!$D$7:$F$9,3,FALSE)),VLOOKUP(E84,'Tab 5-7a Soil & Air EPCs'!$D$7:$F$9,3,FALSE),\"--\")","v":"--"},"--","--","--","--"]
[0,0,0,0,0,"--","--",{"$f":"IF(ISNUMBER(VLOOKUP(E85,'Tab 5-7a Soil & Air EPCs'!$D$7:$E$9,2,FALSE)),VLOOKUP(E85,'Tab 5-7a Soil & Air EPCs'!$D$7:$E$9,2,FALSE),\"--\")","v":"--"},"--","--","--","--",{"$f":"IF(ISNUMBER(VLOOKUP(E85,'Tab 5-7a Soil & Air EPCs'!$D$7:$H$9,5,FALSE)),VLOOKUP(E85,'Tab 5-7a Soil & Air EPCs'!$D$7:$H$9,5,FALSE),\"--\")","v":"--"},"--","--",{"$f":"IF(ISNUMBER(VLOOKUP(E85,'Tab 5-7a Soil & Air EPCs'!$D$7:$F$9,3,FALSE)),VLOOKUP(E85,'Tab 5-7a Soil & Air EPCs'!$D$7:$F$9,3,FALSE),\"--\")","v":"--"},"--","--","--","--"]
[0,0,0,0,0,"--","--",{"$f":"IF(ISNUMBER(VLOOKUP(E86,'Tab 5-7a Soil & Air EPCs'!$D$7:$E$9,2,FALSE)),VLOOKUP(E86,'Tab 5-7a Soil & Air EPCs'!$D$7:$E$9,2,FALSE),\"--\")","v":"--"},"--","--","--","--",{"$f":"IF(ISNUMBER(VLOOKUP(E86,'Tab 5-7a Soil & Air EPCs'!$D$7:$H$9,5,FALSE)),VLOOKUP(E86,'Tab 5-7a Soil & Air EPCs'!$D$7:$H$9,5,FALSE),\"--\")","v":"--"},"--","--",{"$f":"IF(ISNUMBER(VLOOKUP(E86,'Tab 5-7a Soil & Air EPCs'!$D$7:$F$9,3,FALSE)),VLOOKUP(E86,'Tab 5-7a Soil & Air EPCs'!$D$7:$F$9,3,FALSE),\"--\")","v":"--"},"--","--","--","--"]
[0,0,0,0,0,"--","--",{"$f":"IF(ISNUMBER(VLOOKUP(E87,'Tab 5-7a Soil & Air EPCs'!$D$7:$E$9,2,FALSE)),VLOOKUP(E87,'Tab 5-7a Soil & Air EPCs'!$D$7:$E$9,2,FALSE),\"--\")","v":"--"},"--","--","--","--",{"$f":"IF(ISNUMBER(VLOOKUP(E87,'Tab 5-7a Soil & Air EPCs'!$D$7:$H$9,5,FALSE)),VLOOKUP(E87,'Tab 5-7a Soil & Air EPCs'!$D$7:$H$9,5,FALSE),\"--\")","v":"--"},"--","--",{"$f":"IF(ISNUMBER(VLOOKUP(E87,'Tab 5-7a Soil & Air EPCs'!$D$7:$F$9,3,FALSE)),VLOOKUP(E87,'Tab 5-7a Soil & Air EPCs'!$D$7:$F$9,3,FALSE),\"--\")","v":"--"},"--","--","--","--"]
[0,0,0,0,0,"--","--",{"$f":"IF(ISNUMBER(VLOOKUP(E88,'Tab 5-7a Soil & Air EPCs'!$D$7:$E$9,2,FALSE)),VLOOKUP(E88,'Tab 5-7a Soil & Air EPCs'!$D$7:$E$9,2,FALSE),\"--\")","v":"--"},"--","--","--","--",{"$f":"IF(ISNUMBER(VLOOKUP(E88,'Tab 5-7a Soil & Air EPCs'!$D$7:$H$9,5,FALSE)),VLOOKUP(E88,'Tab 5-7a Soil & Air EPCs'!$D$7:$H$9,5,FALSE),\"--\")","v":"--"},"--","--",{"$f":"IF(ISNUMBER(VLOOKUP(E88,'Tab 5-7a Soil & Air EPCs'!$D$7:$F$9,3,FALSE)),VLOOKUP(E88,'Tab 5-7a Soil & Air EPCs'!$D$7:$F$9,3,FALSE),\"--\")","v":"--"},"--","--","--","--"]
[0,0,0,0,0,"--","--",{"$f":"IF(ISNUMBER(VLOOKUP(E89,'Tab 5-7a Soil & Air EPCs'!$D$7:$E$9,2,FALSE)),VLOOKUP(E89,'Tab 5-7a Soil & Air EPCs'!$D$7:$E$9,2,FALSE),\"--\")","v":"--"},"--","--","--","--",{"$f":"IF(ISNUMBER(VLOOKUP(E89,'Tab 5-7a Soil & Air EPCs'!$D$7:$H$9,5,FALSE)),VLOOKUP(E89,'Tab 5-7a Soil & Air EPCs'!$D$7:$H$9,5,FALSE),\"--\")","v":"--"},"--","--",{"$f":"IF(ISNUMBER(VLOOKUP(E89,'Tab 5-7a Soil & Air EPCs'!$D$7:$F$9,3,FALSE)),VLOOKUP(E89,'Tab 5-7a Soil & Air EPCs'!$D$7:$F$9,3,FALSE),\"--\")","v":"--"},"--","--","--","--"]
[0,0,0,0,0,"--","--",{"$f":"IF(ISNUMBER(VLOOKUP(E90,'Tab 5-7a Soil & Air EPCs'!$D$7:$E$9,2,FALSE)),VLOOKUP(E90,'Tab 5-7a Soil & Air EPCs'!$D$7:$E$9,2,FALSE),\"--\")","v":"--"},"--","--","--","--",{"$f":"IF(ISNUMBER(VLOOKUP(E90,'Tab 5-7a Soil & Air EPCs'!$D$7:$H$9,5,FALSE)),VLOOKUP(E90,'Tab 5-7a Soil & Air EPCs'!$D$7:$H$9,5,FALSE),\"--\")","v":"--"},"--","--",{"$f":"IF(ISNUMBER(VLOOKUP(E90,'Tab 5-7a Soil & Air EPCs'!$D$7:$F$9,3,FALSE)),VLOOKUP(E90,'Tab 5-7a Soil & Air EPCs'!$D$7:$F$9,3,FALSE),\"--\")","v":"--"},"--","--","--","--"]
[0,0,0,0,0,"--","--",{"$f":"IF(ISNUMBER(VLOOKUP(E91,'Tab 5-7a Soil & Air EPCs'!$D$7:$E$9,2,FALSE)),VLOOKUP(E91,'Tab 5-7a Soil & Air EPCs'!$D$7:$E$9,2,FALSE),\"--\")","v":"--"},"--","--","--","--",{"$f":"IF(ISNUMBER(VLOOKUP(E91,'Tab 5-7a Soil & Air EPCs'!$D$7:$H$9,5,FALSE)),VLOOKUP(E91,'Tab 5-7a Soil & Air EPCs'!$D$7:$H$9,5,FALSE),\"--\")","v":"--"},"--","--",{"$f":"IF(ISNUMBER(VLOOKUP(E91,'Tab 5-7a Soil & Air EPCs'!$D$7:$F$9,3,FALSE)),VLOOKUP(E91,'Tab 5-7a Soil & Air EPCs'!$D$7:$F$9,3,FALSE),\"--\")","v":"--"},"--","--","--","--"]
[0,0,0,0,0,"--","--",{"$f":"IF(ISNUMBER(VLOOKUP(E92,'Tab 5-7a Soil & Air EPCs'!$D$7:$E$9,2,FALSE)),VLOOKUP(E92,'Tab 5-7a Soil & Air EPCs'!$D$7:$E$9,2,FALSE),\"--\")","v":"--"},"--","--","--","--",{"$f":"IF(ISNUMBER(VLOOKUP(E92,'Tab 5-7a Soil & Air EPCs'!$D$7:$H$9,5,FALSE)),VLOOKUP(E92,'Tab 5-7a Soil & Air EPCs'!$D$7:$H$9,5,FALSE),\"--\")","v":"--"},"--","--",{"$f":"IF(ISNUMBER(VLOOKUP(E92,'Tab 5-7a Soil & Air EPCs'!$D$7:$F$9,3,FALSE)),VLOOKUP(E92,'Tab 5-7a Soil & Air EPCs'!$D$7:$F$9,3,FALSE),\"--\")","v":"--"},"--","--","--","--"]
[0,0,0,0,0,"--","--",{"$f":"IF(ISNUMBER(VLOOKUP(E93,'Tab 5-7a Soil & Air EPCs'!$D$7:$E$9,2,FALSE)),VLOOKUP(E93,'Tab 5-7a Soil & Air EPCs'!$D$7:$E$9,2,FALSE),\"--\")","v":"--"},"--","--","--","--",{"$f":"IF(ISNUMBER(VLOOKUP(E93,'Tab 5-7a Soil & Air EPCs'!$D$7:$H$9,5,FALSE)),VLOOKUP(E93,'Tab 5-7a Soil & Air EPCs'!$D$7:$H$9,5,FALSE),\"--\")","v":"--"},"--","--",{"$f":"IF(ISNUMBER(VLOOKUP(E93,'Tab 5-7a Soil & Air EPCs'!$D$7:$F$9,3,FALSE)),VLOOKUP(E93,'Tab 5-7a Soil & Air EPCs'!$D$7:$F$9,3,FALSE),\"--\")","v":"--"},"--","--","--","--"]
[0,0,0,0,0,"--","--",{"$f":"IF(ISNUMBER(VLOOKUP(E94,'Tab 5-7a Soil & Air EPCs'!$D$7:$E$9,2,FALSE)),VLOOKUP(E94,'Tab 5-7a Soil & Air EPCs'!$D$7:$E$9,2,FALSE),\"--\")","v":"--"},"--","--","--","--",{"$f":"IF(ISNUMBER(VLOOKUP(E94,'Tab 5-7a Soil & Air EPCs'!$D$7:$H$9,5,FALSE)),VLOOKUP(E94,'Tab 5-7a Soil & Air EPCs'!$D$7:$H$9,5,FALSE),\"--\")","v":"--"},"--","--",{"$f":"IF(ISNUMBER(VLOOKUP(E94,'Tab 5-7a Soil & Air EPCs'!$D$7:$F$9,3,FALSE)),VLOOKUP(E94,'Tab 5-7a Soil & Air EPCs'!$D$7:$F$9,3,FALSE),\"--\")","v":"--"},"--","--","--","--"]
[0,0,0,0,0,"--","--",{"$f":"IF(ISNUMBER(VLOOKUP(E95,'Tab 5-7a Soil & Air EPCs'!$D$7:$E$9,2,FALSE)),VLOOKUP(E95,'Tab 5-7a Soil & Air EPCs'!$D$7:$E$9,2,FALSE),\"--\")","v":"--"},"--","--","--","--",{"$f":"IF(ISNUMBER(VLOOKUP(E95,'Tab 5-7a Soil & Air EPCs'!$D$7:$H$9,5,FALSE)),VLOOKUP(E95,'Tab 5-7a Soil & Air EPCs'!$D$7:$H$9,5,FALSE),\"--\")","v":"--"},"--","--",{"$f":"IF(ISNUMBER(VLOOKUP(E95,'Tab 5-7a Soil & Air EPCs'!$D$7:$F$9,3,FALSE)),VLOOKUP(E95,'Tab 5-7a Soil & Air EPCs'!$D$7:$F$9,3,FALSE),\"--\")","v":"--"},"--","--","--","--"]
[0,0,0,0,0,"--","--",{"$f":"IF(ISNUMBER(VLOOKUP(E96,'Tab 5-7a Soil & Air EPCs'!$D$7:$E$9,2,FALSE)),VLOOKUP(E96,'Tab 5-7a Soil & Air EPCs'!$D$7:$E$9,2,FALSE),\"--\")","v":"--"},"--","--","--","--",{"$f":"IF(ISNUMBER(VLOOKUP(E96,'Tab 5-7a Soil & Air EPCs'!$D$7:$H$9,5,FALSE)),VLOOKUP(E96,'Tab 5-7a Soil & Air EPCs'!$D$7:$H$9,5,FALSE),\"--\")","v":"--"},"--","--",{"$f":"IF(ISNUMBER(VLOOKUP(E96,'Tab 5-7a Soil & Air EPCs'!$D$7:$F$9,3,FALSE)),VLOOKUP(E96,'Tab 5-7a Soil & Air EPCs'!$D$7:$F$9,3,FALSE),\"--\")","v":"--"},"--","--","--","--"]
[0,0,0,0,0,"--","--",{"$f":"IF(ISNUMBER(VLOOKUP(E97,'Tab 5-7a Soil & Air EPCs'!$D$7:$E$9,2,FALSE)),VLOOKUP(E97,'Tab 5-7a Soil & Air EPCs'!$D$7:$E$9,2,FALSE),\"--\")","v":"--"},"--","--","--","--",{"$f":"IF(ISNUMBER(VLOOKUP(E97,'Tab 5-7a Soil & Air EPCs'!$D$7:$H$9,5,FALSE)),VLOOKUP(E97,'Tab 5-7a Soil & Air EPCs'!$D$7:$H$9,5,FALSE),\"--\")","v":"--"},"--","--",{"$f":"IF(ISNUMBER(VLOOKUP(E97,'Tab 5-7a Soil & Air EPCs'!$D$7:$F$9,3,FALSE)),VLOOKUP(E97,'Tab 5-7a Soil & Air EPCs'!$D$7:$F$9,3,FALSE),\"--\")","v":"--"},"--","--","--","--"]
[0,0,0,0,0,"--","--",{"$f":"IF(ISNUMBER(VLOOKUP(E98,'Tab 5-7a Soil & Air EPCs'!$D$7:$E$9,2,FALSE)),VLOOKUP(E98,'Tab 5-7a Soil & Air EPCs'!$D$7:$E$9,2,FALSE),\"--\")","v":"--"},"--","--","--","--",{"$f":"IF(ISNUMBER(VLOOKUP(E98,'Tab 5-7a Soil & Air EPCs'!$D$7:$H$9,5,FALSE)),VLOOKUP(E98,'Tab 5-7a Soil & Air EPCs'!$D$7:$H$9,5,FALSE),\"--\")","v":"--"},"--","--",{"$f":"IF(ISNUMBER(VLOOKUP(E98,'Tab 5-7a Soil & Air EPCs'!$D$7:$F$9,3,FALSE)),VLOOKUP(E98,'Tab 5-7a Soil & Air EPCs'!$D$7:$F$9,3,FALSE),\"--\")","v":"--"},"--","--","--","--"]
[0,0,0,0,0,"--","--",{"$f":"IF(ISNUMBER(VLOOKUP(E99,'Tab 5-7a Soil & Air EPCs'!$D$7:$E$9,2,FALSE)),VLOOKUP(E99,'Tab 5-7a Soil & Air EPCs'!$D$7:$E$9,2,FALSE),\"--\")","v":"--"},"--","--","--","--",{"$f":"IF(ISNUMBER(VLOOKUP(E99,'Tab 5-7a Soil & Air EPCs'!$D$7:$H$9,5,FALSE)),VLOOKUP(E99,'Tab 5-7a Soil & Air EPCs'!$D$7:$H$9,5,FALSE),\"--\")","v":"--"},"--","--",{"$f":"IF(ISNUMBER(VLOOKUP(E99,'Tab 5-7a Soil & Air EPCs'!$D$7:$F$9,3,FALSE)),VLOOKUP(E99,'Tab 5-7a Soil & Air EPCs'!$D$7:$F$9,3,FALSE),\"--\")","v":"--"},"--","--","--","--"]
[0,0,0,0,0,"--","--",{"$f":"IF(ISNUMBER(VLOOKUP(E100,'Tab 5-7a Soil & Air EPCs'!$D$7:$E$9,2,FALSE)),VLOOKUP(E100,'Tab 5-7a Soil & Air EPCs'!$D$7:$E$9,2,FALSE),\"--\")","v":"--"},"--","--","--","--",{"$f":"IF(ISNUMBER(VLOOKUP(E100,'Tab 5-7a Soil & Air EPCs'!$D$7:$H$9,5,FALSE)),VLOOKUP(E100,'Tab 5-7a Soil & Air EPCs'!$D$7:$H$9,5,FALSE),\"--\")","v":"--"},"--","--",{"$f":"IF(ISNUMBER(VLOOKUP(E100,'Tab 5-7a Soil & Air EPCs'!$D$7:$F$9,3,FALSE)),VLOOKUP(E100,'Tab 5-7a Soil & Air EPCs'!$D$7:$F$9,3,FALSE),\"--\")","v":"--"},"--","--","--","--"]
[0,0,0,0,0,"--","--",{"$f":"IF(ISNUMBER(VLOOKUP(E101,'Tab 5-7a Soil & Air EPCs'!$D$7:$E$9,2,FALSE)),VLOOKUP(E101,'Tab 5-7a Soil & Air EPCs'!$D$7:$E$9,2,FALSE),\"--\")","v":"--"},"--","--","--","--",{"$f":"IF(ISNUMBER(VLOOKUP(E101,'Tab 5-7a Soil & Air EPCs'!$D$7:$H$9,5,FALSE)),VLOOKUP(E101,'Tab 5-7a Soil & Air EPCs'!$D$7:$H$9,5,FALSE),\"--\")","v":"--"},"--","--",{"$f":"IF(ISNUMBER(VLOOKUP(E101,'Tab 5-7a Soil & Air EPCs'!$D$7:$F$9,3,FALSE)),VLOOKUP(E101,'Tab 5-7a Soil & Air EPCs'!$D$7:$F$9,3,FALSE),\"--\")","v":"--"},"--","--","--","--"]
[0,0,0,0,0,"--","--",{"$f":"IF(ISNUMBER(VLOOKUP(E102,'Tab 5-7a Soil & Air EPCs'!$D$7:$E$9,2,FALSE)),VLOOKUP(E102,'Tab 5-7a Soil & Air EPCs'!$D$7:$E$9,2,FALSE),\"--\")","v":"--"},"--","--","--","--",{"$f":"IF(ISNUMBER(VLOOKUP(E102,'Tab 5-7a Soil & Air EPCs'!$D$7:$H$9,5,FALSE)),VLOOKUP(E102,'Tab 5-7a Soil & Air EPCs'!$D$7:$H$9,5,FALSE),\"--\")","v":"--"},"--","--",{"$f":"IF(ISNUMBER(VLOOKUP(E102,'Tab 5-7a Soil & Air EPCs'!$D$7:$F$9,3,FALSE)),VLOOKUP(E102,'Tab 5-7a Soil & Air EPCs'!$D$7:$F$9,3,FALSE),\"--\")","v":"--"},"--","--","--","--"]
[0,0,0,0,0,"--","--",{"$f":"IF(ISNUMBER(VLOOKUP(E103,'Tab 5-7a Soil & Air EPCs'!$D$7:$E$9,2,FALSE)),VLOOKUP(E103,'Tab 5-7a Soil & Air EPCs'!$D$7:$E$9,2,FALSE),\"--\")","v":"--"},"--","--","--","--",{"$f":"IF(ISNUMBER(VLOOKUP(E103,'Tab 5-7a Soil & Air EPCs'!$D$7:$H$9,5,FALSE)),VLOOKUP(E103,'Tab 5-7a Soil & Air EPCs'!$D$7:$H$9,5,FALSE),\"--\")","v":"--"},"--","--",{"$f":"IF(ISNUMBER(VLOOKUP(E103,'Tab 5-7a Soil & Air EPCs'!$D$7:$F$9,3,FALSE)),VLOOKUP(E103,'Tab 5-7a Soil & Air EPCs'!$D$7:$F$9,3,FALSE),\"--\")","v":"--"},"--","--","--","--"]
[0,0,0,0,0,"--","--",{"$f":"IF(ISNUMBER(VLOOKUP(E104,'Tab 5-7a Soil & Air EPCs'!$D$7:$E$9,2,FALSE)),VLOOKUP(E104,'Tab 5-7a Soil & Air EPCs'!$D$7:$E$9,2,FALSE),\"--\")","v":"--"},"--","--","--","--",{"$f":"IF(ISNUMBER(VLOOKUP(E104,'Tab 5-7a Soil & Air EPCs'!$D$7:$H$9,5,FALSE)),VLOOKUP(E104,'Tab 5-7a Soil & Air EPCs'!$D$7:$H$9,5,FALSE),\"--\")","v":"--"},"--","--",{"$f":"IF(ISNUMBER(VLOOKUP(E104,'Tab 5-7a Soil & Air EPCs'!$D$7:$F$9,3,FALSE)),VLOOKUP(E104,'Tab 5-7a Soil & Air EPCs'!$D$7:$F$9,3,FALSE),\"--\")","v":"--"},"--","--","--","--"]
[0,0,0,0,0,"--","--",{"$f":"IF(ISNUMBER(VLOOKUP(E105,'Tab 5-7a Soil & Air EPCs'!$D$7:$E$9,2,FALSE)),VLOOKUP(E105,'Tab 5-7a Soil & Air EPCs'!$D$7:$E$9,2,FALSE),\"--\")","v":"--"},"--","--","--","--",{"$f":"IF(ISNUMBER(VLOOKUP(E105,'Tab 5-7a Soil & Air EPCs'!$D$7:$H$9,5,FALSE)),VLOOKUP(E105,'Tab 5-7a Soil & Air EPCs'!$D$7:$H$9,5,FALSE),\"--\")","v":"--"},"--","--",{"$f":"IF(ISNUMBER(VLOOKUP(E105,'Tab 5-7a Soil & Air EPCs'!$D$7:$F$9,3,FALSE)),VLOOKUP(E105,'Tab 5-7a Soil & Air EPCs'!$D$7:$F$9,3,FALSE),\"--\")","v":"--"},"--","--","--","--"]
[0,0,0,0,0,"--","--",{"$f":"IF(ISNUMBER(VLOOKUP(E106,'Tab 5-7a Soil & Air EPCs'!$D$7:$E$9,2,FALSE)),VLOOKUP(E106,'Tab 5-7a Soil & Air EPCs'!$D$7:$E$9,2,FALSE),\"--\")","v":"--"},"--","--","--","--",{"$f":"IF(ISNUMBER(VLOOKUP(E106,'Tab 5-7a Soil & Air EPCs'!$D$7:$H$9,5,FALSE)),VLOOKUP(E106,'Tab 5-7a Soil & Air EPCs'!$D$7:$H$9,5,FALSE),\"--\")","v":"--"},"--","--",{"$f":"IF(ISNUMBER(VLOOKUP(E106,'Tab 5-7a Soil & Air EPCs'!$D$7:$F$9,3,FALSE)),VLOOKUP(E106,'Tab 5-7a Soil & Air EPCs'!$D$7:$F$9,3,FALSE),\"--\")","v":"--"},"--","--","--","--"]
[0,0,0,0,0,"--","--",{"$f":"IF(ISNUMBER(VLOOKUP(E107,'Tab 5-7a Soil & Air EPCs'!$D$7:$E$9,2,FALSE)),VLOOKUP(E107,'Tab 5-7a Soil & Air EPCs'!$D$7:$E$9,2,FALSE),\"--\")","v":"--"},"--","--","--","--",{"$f":"IF(ISNUMBER(VLOOKUP(E107,'Tab 5-7a Soil & Air EPCs'!$D$7:$H$9,5,FALSE)),VLOOKUP(E107,'Tab 5-7a Soil & Air EPCs'!$D$7:$H$9,5,FALSE),\"--\")","v":"--"},"--","--",{"$f":"IF(ISNUMBER(VLOOKUP(E107,'Tab 5-7a Soil & Air EPCs'!$D$7:$F$9,3,FALSE)),VLOOKUP(E107,'Tab 5-7a Soil & Air EPCs'!$D$7:$F$9,3,FALSE),\"--\")","v":"--"},"--","--","--","--"]
[0,0,0,0,0,"--","--",{"$f":"IF(ISNUMBER(VLOOKUP(E108,'Tab 5-7a Soil & Air EPCs'!$D$7:$E$9,2,FALSE)),VLOOKUP(E108,'Tab 5-7a Soil & Air EPCs'!$D$7:$E$9,2,FALSE),\"--\")","v":"--"},"--","--","--","--",{"$f":"IF(ISNUMBER(VLOOKUP(E108,'Tab 5-7a Soil & Air EPCs'!$D$7:$H$9,5,FALSE)),VLOOKUP(E108,'Tab 5-7a Soil & Air EPCs'!$D$7:$H$9,5,FALSE),\"--\")","v":"--"},"--","--",{"$f":"IF(ISNUMBER(VLOOKUP(E108,'Tab 5-7a Soil & Air EPCs'!$D$7:$F$9,3,FALSE)),VLOOKUP(E108,'Tab 5-7a Soil & Air EPCs'!$D$7:$F$9,3,FALSE),\"--\")","v":"--"},"--","--","--","--"]
[0,0,0,0,0,"--","--",{"$f":"IF(ISNUMBER(VLOOKUP(E109,'Tab 5-7a Soil & Air EPCs'!$D$7:$E$9,2,FALSE)),VLOOKUP(E109,'Tab 5-7a Soil & Air EPCs'!$D$7:$E$9,2,FALSE),\"--\")","v":"--"},"--","--","--","--",{"$f":"IF(ISNUMBER(VLOOKUP(E109,'Tab 5-7a Soil & Air EPCs'!$D$7:$H$9,5,FALSE)),VLOOKUP(E109,'Tab 5-7a Soil & Air EPCs'!$D$7:$H$9,5,FALSE),\"--\")","v":"--"},"--","--",{"$f":"IF(ISNUMBER(VLOOKUP(E109,'Tab 5-7a Soil & Air EPCs'!$D$7:$F$9,3,FALSE)),VLOOKUP(E109,'Tab 5-7a Soil & Air EPCs'!$D$7:$F$9,3,FALSE),\"--\")","v":"--"},"--","--","--","--"]
[0,0,0,0,0,"--","--",{"$f":"IF(ISNUMBER(VLOOKUP(E110,'Tab 5-7a Soil & Air EPCs'!$D$7:$E$9,2,FALSE)),VLOOKUP(E110,'Tab 5-7a Soil & Air EPCs'!$D$7:$E$9,2,FALSE),\"--\")","v":"--"},"--","--","--","--",{"$f":"IF(ISNUMBER(VLOOKUP(E110,'Tab 5-7a Soil & Air EPCs'!$D$7:$H$9,5,FALSE)),VLOOKUP(E110,'Tab 5-7a Soil & Air EPCs'!$D$7:$H$9,5,FALSE),\"--\")","v":"--"},"--","--",{"$f":"IF(ISNUMBER(VLOOKUP(E110,'Tab 5-7a Soil & Air EPCs'!$D$7:$F$9,3,FALSE)),VLOOKUP(E110,'Tab 5-7a Soil & Air EPCs'!$D$7:$F$9,3,FALSE),\"--\")","v":"--"},"--","--","--","--"]
[0,0,0,0,0,"--","--",{"$f":"IF(ISNUMBER(VLOOKUP(E111,'Tab 5-7a Soil & Air EPCs'!$D$7:$E$9,2,FALSE)),VLOOKUP(E111,'Tab 5-7a Soil & Air EPCs'!$D$7:$E$9,2,FALSE),\"--\")","v":"--"},"--","--","--","--",{"$f":"IF(ISNUMBER(VLOOKUP(E111,'Tab 5-7a Soil & Air EPCs'!$D$7:$H$9,5,FALSE)),VLOOKUP(E111,'Tab 5-7a Soil & Air EPCs'!$D$7:$H$9,5,FALSE),\"--\")","v":"--"},"--","--",{"$f":"IF(ISNUMBER(VLOOKUP(E111,'Tab 5-7a Soil & Air EPCs'!$D$7:$F$9,3,FALSE)),VLOOKUP(E111,'Tab 5-7a Soil & Air EPCs'!$D$7:$F$9,3,FALSE),\"--\")","v":"--"},"--","--","--","--"]
[0,0,0,0,0,"--","--",{"$f":"IF(ISNUMBER(VLOOKUP(E112,'Tab 5-7a Soil & Air EPCs'!$D$7:$E$9,2,FALSE)),VLOOKUP(E112,'Tab 5-7a Soil & Air EPCs'!$D$7:$E$9,2,FALSE),\"--\")","v":"--"},"--","--","--","--",{"$f":"IF(ISNUMBER(VLOOKUP(E112,'Tab 5-7a Soil & Air EPCs'!$D$7:$H$9,5,FALSE)),VLOOKUP(E112,'Tab 5-7a Soil & Air EPCs'!$D$7:$H$9,5,FALSE),\"--\")","v":"--"},"--","--",{"$f":"IF(ISNUMBER(VLOOKUP(E112,'Tab 5-7a Soil & Air EPCs'!$D$7:$F$9,3,FALSE)),VLOOKUP(E112,'Tab 5-7a Soil & Air EPCs'!$D$7:$F$9,3,FALSE),\"--\")","v":"--"},"--","--","--","--"]
[0,0,0,0,0,"--","--",{"$f":"IF(ISNUMBER(VLOOKUP(E113,'Tab 5-7a Soil & Air EPCs'!$D$7:$E$9,2,FALSE)),VLOOKUP(E113,'Tab 5-7a Soil & Air EPCs'!$D$7:$E$9,2,FALSE),\"--\")","v":"--"},"--","--","--","--",{"$f":"IF(ISNUMBER(VLOOKUP(E113,'Tab 5-7a Soil & Air EPCs'!$D$7:$H$9,5,FALSE)),VLOOKUP(E113,'Tab 5-7a Soil & Air EPCs'!$D$7:$H$9,5,FALSE),\"--\")","v":"--"},"--","--",{"$f":"IF(ISNUMBER(VLOOKUP(E113,'Tab 5-7a Soil & Air EPCs'!$D$7:$F$9,3,FALSE)),VLOOKUP(E113,'Tab 5-7a Soil & Air EPCs'!$D$7:$F$9,3,FALSE),\"--\")","v":"--"},"--","--","--","--"]
[0,0,0,0,0,"--","--",{"$f":"IF(ISNUMBER(VLOOKUP(E114,'Tab 5-7a Soil & Air EPCs'!$D$7:$E$9,2,FALSE)),VLOOKUP(E114,'Tab 5-7a Soil & Air EPCs'!$D$7:$E$9,2,FALSE),\"--\")","v":"--"},"--","--","--","--",{"$f":"IF(ISNUMBER(VLOOKUP(E114,'Tab 5-7a Soil & Air EPCs'!$D$7:$H$9,5,FALSE)),VLOOKUP(E114,'Tab 5-7a Soil & Air EPCs'!$D$7:$H$9,5,FALSE),\"--\")","v":"--"},"--","--",{"$f":"IF(ISNUMBER(VLOOKUP(E114,'Tab 5-7a Soil & Air EPCs'!$D$7:$F$9,3,FALSE)),VLOOKUP(E114,'Tab 5-7a Soil & Air EPCs'!$D$7:$F$9,3,FALSE),\"--\")","v":"--"},"--","--","--","--"]
[0,0,0,0,0,"--","--",{"$f":"IF(ISNUMBER(VLOOKUP(E115,'Tab 5-7a Soil & Air EPCs'!$D$7:$E$9,2,FALSE)),VLOOKUP(E115,'Tab 5-7a Soil & Air EPCs'!$D$7:$E$9,2,FALSE),\"--\")","v":"--"},"--","--","--","--",{"$f":"IF(ISNUMBER(VLOOKUP(E115,'Tab 5-7a Soil & Air EPCs'!$D$7:$H$9,5,FALSE)),VLOOKUP(E115,'Tab 5-7a Soil & Air EPCs'!$D$7:$H$9,5,FALSE),\"--\")","v":"--"},"--","--",{"$f":"IF(ISNUMBER(VLOOKUP(E115,'Tab 5-7a Soil & Air EPCs'!$D$7:$F$9,3,FALSE)),VLOOKUP(E115,'Tab 5-7a Soil & Air EPCs'!$D$7:$F$9,3,FALSE),\"--\")","v":"--"},"--","--","--","--"]
[0,0,0,0,0,"--","--",{"$f":"IF(ISNUMBER(VLOOKUP(E116,'Tab 5-7a Soil & Air EPCs'!$D$7:$E$9,2,FALSE)),VLOOKUP(E116,'Tab 5-7a Soil & Air EPCs'!$D$7:$E$9,2,FALSE),\"--\")","v":"--"},"--","--","--","--",{"$f":"IF(ISNUMBER(VLOOKUP(E116,'Tab 5-7a Soil & Air EPCs'!$D$7:$H$9,5,FALSE)),VLOOKUP(E116,'Tab 5-7a Soil & Air EPCs'!$D$7:$H$9,5,FALSE),\"--\")","v":"--"},"--","--",{"$f":"IF(ISNUMBER(VLOOKUP(E116,'Tab 5-7a Soil & Air EPCs'!$D$7:$F$9,3,FALSE)),VLOOKUP(E116,'Tab 5-7a Soil & Air EPCs'!$D$7:$F$9,3,FALSE),\"--\")","v":"--"},"--","--","--","--"]
[0,0,0,0,0,"--","--",{"$f":"IF(ISNUMBER(VLOOKUP(E117,'Tab 5-7a Soil & Air EPCs'!$D$7:$E$9,2,FALSE)),VLOOKUP(E117,'Tab 5-7a Soil & Air EPCs'!$D$7:$E$9,2,FALSE),\"--\")","v":"--"},"--","--","--","--",{"$f":"IF(ISNUMBER(VLOOKUP(E117,'Tab 5-7a Soil & Air EPCs'!$D$7:$H$9,5,FALSE)),VLOOKUP(E117,'Tab 5-7a Soil & Air EPCs'!$D$7:$H$9,5,FALSE),\"--\")","v":"--"},"--","--",{"$f":"IF(ISNUMBER(VLOOKUP(E117,'Tab 5-7a Soil & Air EPCs'!$D$7:$F$9,3,FALSE)),VLOOKUP(E117,'Tab 5-7a Soil & Air EPCs'!$D$7:$F$9,3,FALSE),\"--\")","v":"--"},"--","--","--","--"]
[0,0,0,0,0,"--","--",{"$f":"IF(ISNUMBER(VLOOKUP(E118,'Tab 5-7a Soil & Air EPCs'!$D$7:$E$9,2,FALSE)),VLOOKUP(E118,'Tab 5-7a Soil & Air EPCs'!$D$7:$E$9,2,FALSE),\"--\")","v":"--"},"--","--","--","--",{"$f":"IF(ISNUMBER(VLOOKUP(E118,'Tab 5-7a Soil & Air EPCs'!$D$7:$H$9,5,FALSE)),VLOOKUP(E118,'Tab 5-7a Soil & Air EPCs'!$D$7:$H$9,5,FALSE),\"--\")","v":"--"},"--","--",{"$f":"IF(ISNUMBER(VLOOKUP(E118,'Tab 5-7a Soil & Air EPCs'!$D$7:$F$9,3,FALSE)),VLOOKUP(E118,'Tab 5-7a Soil & Air EPCs'!$D$7:$F$9,3,FALSE),\"--\")","v":"--"},"--","--","--","--"]
[0,0,0,0,0,"--","--",{"$f":"IF(ISNUMBER(VLOOKUP(E119,'Tab 5-7a Soil & Air EPCs'!$D$7:$E$9,2,FALSE)),VLOOKUP(E119,'Tab 5-7a Soil & Air EPCs'!$D$7:$E$9,2,FALSE),\"--\")","v":"--"},"--","--","--","--",{"$f":"IF(ISNUMBER(VLOOKUP(E119,'Tab 5-7a Soil & Air EPCs'!$D$7:$H$9,5,FALSE)),VLOOKUP(E119,'Tab 5-7a Soil & Air EPCs'!$D$7:$H$9,5,FALSE),\"--\")","v":"--"},"--","--",{"$f":"IF(ISNUMBER(VLOOKUP(E119,'Tab 5-7a Soil & Air EPCs'!$D$7:$F$9,3,FALSE)),VLOOKUP(E119,'Tab 5-7a Soil & Air EPCs'!$D$7:$F$9,3,FALSE),\"--\")","v":"--"},"--","--","--","--"]
[0,0,0,0,0,"--","--",{"$f":"IF(ISNUMBER(VLOOKUP(E120,'Tab 5-7a Soil & Air EPCs'!$D$7:$E$9,2,FALSE)),VLOOKUP(E120,'Tab 5-7a Soil & Air EPCs'!$D$7:$E$9,2,FALSE),\"--\")","v":"--"},"--","--","--","--",{"$f":"IF(ISNUMBER(VLOOKUP(E120,'Tab 5-7a Soil & Air EPCs'!$D$7:$H$9,5,FALSE)),VLOOKUP(E120,'Tab 5-7a Soil & Air EPCs'!$D$7:$H$9,5,FALSE),\"--\")","v":"--"},"--","--",{"$f":"IF(ISNUMBER(VLOOKUP(E120,'Tab 5-7a Soil & Air EPCs'!$D$7:$F$9,3,FALSE)),VLOOKUP(E120,'Tab 5-7a Soil & Air EPCs'!$D$7:$F$9,3,FALSE),\"--\")","v":"--"},"--","--","--","--"]
[0,0,0,0,0,"--","--",{"$f":"IF(ISNUMBER(VLOOKUP(E121,'Tab 5-7a Soil & Air EPCs'!$D$7:$E$9,2,FALSE)),VLOOKUP(E121,'Tab 5-7a Soil & Air EPCs'!$D$7:$E$9,2,FALSE),\"--\")","v":"--"},"--","--","--","--",{"$f":"IF(ISNUMBER(VLOOKUP(E121,'Tab 5-7a Soil & Air EPCs'!$D$7:$H$9,5,FALSE)),VLOOKUP(E121,'Tab 5-7a Soil & Air EPCs'!$D$7:$H$9,5,FALSE),\"--\")","v":"--"},"--","--",{"$f":"IF(ISNUMBER(VLOOKUP(E121,'Tab 5-7a Soil & Air EPCs'!$D$7:$F$9,3,FALSE)),VLOOKUP(E121,'Tab 5-7a Soil & Air EPCs'!$D$7:$F$9,3,FALSE),\"--\")","v":"--"},"--","--","--","--"]
[0,0,0,0,0,"--","--",{"$f":"IF(ISNUMBER(VLOOKUP(E122,'Tab 5-7a Soil & Air EPCs'!$D$7:$E$9,2,FALSE)),VLOOKUP(E122,'Tab 5-7a Soil & Air EPCs'!$D$7:$E$9,2,FALSE),\"--\")","v":"--"},"--","--","--","--",{"$f":"IF(ISNUMBER(VLOOKUP(E122,'Tab 5-7a Soil & Air EPCs'!$D$7:$H$9,5,FALSE)),VLOOKUP(E122,'Tab 5-7a Soil & Air EPCs'!$D$7:$H$9,5,FALSE),\"--\")","v":"--"},"--","--",{"$f":"IF(ISNUMBER(VLOOKUP(E122,'Tab 5-7a Soil & Air EPCs'!$D$7:$F$9,3,FALSE)),VLOOKUP(E122,'Tab 5-7a Soil & Air EPCs'!$D$7:$F$9,3,FALSE),\"--\")","v":"--"},"--","--","--","--"]
[0,0,0,0,0,"--","--",{"$f":"IF(ISNUMBER(VLOOKUP(E123,'Tab 5-7a Soil & Air EPCs'!$D$7:$E$9,2,FALSE)),VLOOKUP(E123,'Tab 5-7a Soil & Air EPCs'!$D$7:$E$9,2,FALSE),\"--\")","v":"--"},"--","--","--","--",{"$f":"IF(ISNUMBER(VLOOKUP(E123,'Tab 5-7a Soil & Air EPCs'!$D$7:$H$9,5,FALSE)),VLOOKUP(E123,'Tab 5-7a Soil & Air EPCs'!$D$7:$H$9,5,FALSE),\"--\")","v":"--"},"--","--",{"$f":"IF(ISNUMBER(VLOOKUP(E123,'Tab 5-7a Soil & Air EPCs'!$D$7:$F$9,3,FALSE)),VLOOKUP(E123,'Tab 5-7a Soil & Air EPCs'!$D$7:$F$9,3,FALSE),\"--\")","v":"--"},"--","--","--","--"]
[0,0,0,0,0,"--","--",{"$f":"IF(ISNUMBER(VLOOKUP(E124,'Tab 5-7a Soil & Air EPCs'!$D$7:$E$9,2,FALSE)),VLOOKUP(E124,'Tab 5-7a Soil & Air EPCs'!$D$7:$E$9,2,FALSE),\"--\")","v":"--"},"--","--","--","--",{"$f":"IF(ISNUMBER(VLOOKUP(E124,'Tab 5-7a Soil & Air EPCs'!$D$7:$H$9,5,FALSE)),VLOOKUP(E124,'Tab 5-7a Soil & Air EPCs'!$D$7:$H$9,5,FALSE),\"--\")","v":"--"},"--","--",{"$f":"IF(ISNUMBER(VLOOKUP(E124,'Tab 5-7a Soil & Air EPCs'!$D$7:$F$9,3,FALSE)),VLOOKUP(E124,'Tab 5-7a Soil & Air EPCs'!$D$7:$F$9,3,FALSE),\"--\")","v":"--"},"--","--","--","--"]
[0,0,0,0,0,"--","--",{"$f":"IF(ISNUMBER(VLOOKUP(E125,'Tab 5-7a Soil & Air EPCs'!$D$7:$E$9,2,FALSE)),VLOOKUP(E125,'Tab 5-7a Soil & Air EPCs'!$D$7:$E$9,2,FALSE),\"--\")","v":"--"},"--","--","--","--",{"$f":"IF(ISNUMBER(VLOOKUP(E125,'Tab 5-7a Soil & Air EPCs'!$D$7:$H$9,5,FALSE)),VLOOKUP(E125,'Tab 5-7a Soil & Air EPCs'!$D$7:$H$9,5,FALSE),\"--\")","v":"--"},"--","--",{"$f":"IF(ISNUMBER(VLOOKUP(E125,'Tab 5-7a Soil & Air EPCs'!$D$7:$F$9,3,FALSE)),VLOOKUP(E125,'Tab 5-7a Soil & Air EPCs'!$D$7:$F$9,3,FALSE),\"--\")","v":"--"},"--","--","--","--"]
[0,0,0,0,0,"--","--",{"$f":"IF(ISNUMBER(VLOOKUP(E126,'Tab 5-7a Soil & Air EPCs'!$D$7:$E$9,2,FALSE)),VLOOKUP(E126,'Tab 5-7a Soil & Air EPCs'!$D$7:$E$9,2,FALSE),\"--\")","v":"--"},"--","--","--","--",{"$f":"IF(ISNUMBER(VLOOKUP(E126,'Tab 5-7a Soil & Air EPCs'!$D$7:$H$9,5,FALSE)),VLOOKUP(E126,'Tab 5-7a Soil & Air EPCs'!$D$7:$H$9,5,FALSE),\"--\")","v":"--"},"--","--",{"$f":"IF(ISNUMBER(VLOOKUP(E126,'Tab 5-7a Soil & Air EPCs'!$D$7:$F$9,3,FALSE)),VLOOKUP(E126,'Tab 5-7a Soil & Air EPCs'!$D$7:$F$9,3,FALSE),\"--\")","v":"--"},"--","--","--","--"]
[0,0,0,0,0,"--","--",{"$f":"IF(ISNUMBER(VLOOKUP(E127,'Tab 5-7a Soil & Air EPCs'!$D$7:$E$9,2,FALSE)),VLOOKUP(E127,'Tab 5-7a Soil & Air EPCs'!$D$7:$E$9,2,FALSE),\"--\")","v":"--"},"--","--","--","--",{"$f":"IF(ISNUMBER(VLOOKUP(E127,'Tab 5-7a Soil & Air EPCs'!$D$7:$H$9,5,FALSE)),VLOOKUP(E127,'Tab 5-7a Soil & Air EPCs'!$D$7:$H$9,5,FALSE),\"--\")","v":"--"},"--","--",{"$f":"IF(ISNUMBER(VLOOKUP(E127,'Tab 5-7a Soil & Air EPCs'!$D$7:$F$9,3,FALSE)),VLOOKUP(E127,'Tab 5-7a Soil & Air EPCs'!$D$7:$F$9,3,FALSE),\"--\")","v":"--"},"--","--","--","--"]
[0,0,0,0,0,"--","--",{"$f":"IF(ISNUMBER(VLOOKUP(E128,'Tab 5-7a Soil & Air EPCs'!$D$7:$E$9,2,FALSE)),VLOOKUP(E128,'Tab 5-7a Soil & Air EPCs'!$D$7:$E$9,2,FALSE),\"--\")","v":"--"},"--","--","--","--",{"$f":"IF(ISNUMBER(VLOOKUP(E128,'Tab 5-7a Soil & Air EPCs'!$D$7:$H$9,5,FALSE)),VLOOKUP(E128,'Tab 5-7a Soil & Air EPCs'!$D$7:$H$9,5,FALSE),\"--\")","v":"--"},"--","--",{"$f":"IF(ISNUMBER(VLOOKUP(E128,'Tab 5-7a Soil & Air EPCs'!$D$7:$F$9,3,FALSE)),VLOOKUP(E128,'Tab 5-7a Soil & Air EPCs'!$D$7:$F$9,3,FALSE),\"--\")","v":"--"},"--","--","--","--"]
[0,0,0,0,0,"--","--",{"$f":"IF(ISNUMBER(VLOOKUP(E129,'Tab 5-7a Soil & Air EPCs'!$D$7:$E$9,2,FALSE)),VLOOKUP(E129,'Tab 5-7a Soil & Air EPCs'!$D$7:$E$9,2,FALSE),\"--\")","v":"--"},"--","--","--","--",{"$f":"IF(ISNUMBER(VLOOKUP(E129,'Tab 5-7a Soil & Air EPCs'!$D$7:$H$9,5,FALSE)),VLOOKUP(E129,'Tab 5-7a Soil & Air EPCs'!$D$7:$H$9,5,FALSE),\"--\")","v":"--"},"--","--",{"$f":"IF(ISNUMBER(VLOOKUP(E129,'Tab 5-7a Soil & Air EPCs'!$D$7:$F$9,3,FALSE)),VLOOKUP(E129,'Tab 5-7a Soil & Air EPCs'!$D$7:$F$9,3,FALSE),\"--\")","v":"--"},"--","--","--","--"]
[0,0,0,0,0,"--","--",{"$f":"IF(ISNUMBER(VLOOKUP(E130,'Tab 5-7a Soil & Air EPCs'!$D$7:$E$9,2,FALSE)),VLOOKUP(E130,'Tab 5-7a Soil & Air EPCs'!$D$7:$E$9,2,FALSE),\"--\")","v":"--"},"--","--","--","--",{"$f":"IF(ISNUMBER(VLOOKUP(E130,'Tab 5-7a Soil & Air EPCs'!$D$7:$H$9,5,FALSE)),VLOOKUP(E130,'Tab 5-7a Soil & Air EPCs'!$D$7:$H$9,5,FALSE),\"--\")","v":"--"},"--","--",{"$f":"IF(ISNUMBER(VLOOKUP(E130,'Tab 5-7a Soil & Air EPCs'!$D$7:$F$9,3,FALSE)),VLOOKUP(E130,'Tab 5-7a Soil & Air EPCs'!$D$7:$F$9,3,FALSE),\"--\")","v":"--"},"--","--","--","--"]
[0,0,0,0,0,"--","--",{"$f":"IF(ISNUMBER(VLOOKUP(E131,'Tab 5-7a Soil & Air EPCs'!$D$7:$E$9,2,FALSE)),VLOOKUP(E131,'Tab 5-7a Soil & Air EPCs'!$D$7:$E$9,2,FALSE),\"--\")","v":"--"},"--","--","--","--",{"$f":"IF(ISNUMBER(VLOOKUP(E131,'Tab 5-7a Soil & Air EPCs'!$D$7:$H$9,5,FALSE)),VLOOKUP(E131,'Tab 5-7a Soil & Air EPCs'!$D$7:$H$9,5,FALSE),\"--\")","v":"--"},"--","--",{"$f":"IF(ISNUMBER(VLOOKUP(E131,'Tab 5-7a Soil & Air EPCs'!$D$7:$F$9,3,FALSE)),VLOOKUP(E131,'Tab 5-7a Soil & Air EPCs'!$D$7:$F$9,3,FALSE),\"--\")","v":"--"},"--","--","--","--"]
[0,0,0,0,0,"--","--",{"$f":"IF(ISNUMBER(VLOOKUP(E132,'Tab 5-7a Soil & Air EPCs'!$D$7:$E$9,2,FALSE)),VLOOKUP(E132,'Tab 5-7a Soil & Air EPCs'!$D$7:$E$9,2,FALSE),\"--\")","v":"--"},"--","--","--","--",{"$f":"IF(ISNUMBER(VLOOKUP(E132,'Tab 5-7a Soil & Air EPCs'!$D$7:$H$9,5,FALSE)),VLOOKUP(E132,'Tab 5-7a Soil & Air EPCs'!$D$7:$H$9,5,FALSE),\"--\")","v":"--"},"--","--",{"$f":"IF(ISNUMBER(VLOOKUP(E132,'Tab 5-7a Soil & Air EPCs'!$D$7:$F$9,3,FALSE)),VLOOKUP(E132,'Tab 5-7a Soil & Air EPCs'!$D$7:$F$9,3,FALSE),\"--\")","v":"--"},"--","--","--","--"]
[0,0,0,0,0,"--","--",{"$f":"IF(ISNUMBER(VLOOKUP(E133,'Tab 5-7a Soil & Air EPCs'!$D$7:$E$9,2,FALSE)),VLOOKUP(E133,'Tab 5-7a Soil & Air EPCs'!$D$7:$E$9,2,FALSE),\"--\")","v":"--"},"--","--","--","--",{"$f":"IF(ISNUMBER(VLOOKUP(E133,'Tab 5-7a Soil & Air EPCs'!$D$7:$H$9,5,FALSE)),VLOOKUP(E133,'Tab 5-7a Soil & Air EPCs'!$D$7:$H$9,5,FALSE),\"--\")","v":"--"},"--","--",{"$f":"IF(ISNUMBER(VLOOKUP(E133,'Tab 5-7a Soil & Air EPCs'!$D$7:$F$9,3,FALSE)),VLOOKUP(E133,'Tab 5-7a Soil & Air EPCs'!$D$7:$F$9,3,FALSE),\"--\")","v":"--"},"--","--","--","--"]
[0,0,0,0,0,"--","--",{"$f":"IF(ISNUMBER(VLOOKUP(E134,'Tab 5-7a Soil & Air EPCs'!$D$7:$E$9,2,FALSE)),VLOOKUP(E134,'Tab 5-7a Soil & Air EPCs'!$D$7:$E$9,2,FALSE),\"--\")","v":"--"},"--","--","--","--",{"$f":"IF(ISNUMBER(VLOOKUP(E134,'Tab 5-7a Soil & Air EPCs'!$D$7:$H$9,5,FALSE)),VLOOKUP(E134,'Tab 5-7a Soil & Air EPCs'!$D$7:$H$9,5,FALSE),\"--\")","v":"--"},"--","--",{"$f":"IF(ISNUMBER(VLOOKUP(E134,'Tab 5-7a Soil & Air EPCs'!$D$7:$F$9,3,FALSE)),VLOOKUP(E134,'Tab 5-7a Soil & Air EPCs'!$D$7:$F$9,3,FALSE),\"--\")","v":"--"},"--","--","--","--"]
[0,0,0,0,0,"--","--",{"$f":"IF(ISNUMBER(VLOOKUP(E135,'Tab 5-7a Soil & Air EPCs'!$D$7:$E$9,2,FALSE)),VLOOKUP(E135,'Tab 5-7a Soil & Air EPCs'!$D$7:$E$9,2,FALSE),\"--\")","v":"--"},"--","--","--","--",{"$f":"IF(ISNUMBER(VLOOKUP(E135,'Tab 5-7a Soil & Air EPCs'!$D$7:$H$9,5,FALSE)),VLOOKUP(E135,'Tab 5-7a Soil & Air EPCs'!$D$7:$H$9,5,FALSE),\"--\")","v":"--"},"--","--",{"$f":"IF(ISNUMBER(VLOOKUP(E135,'Tab 5-7a Soil & Air EPCs'!$D$7:$F$9,3,FALSE)),VLOOKUP(E135,'Tab 5-7a Soil & Air EPCs'!$D$7:$F$9,3,FALSE),\"--\")","v":"--"},"--","--","--","--"]
[0,0,0,0,0,"--","--",{"$f":"IF(ISNUMBER(VLOOKUP(E136,'Tab 5-7a Soil & Air EPCs'!$D$7:$E$9,2,FALSE)),VLOOKUP(E136,'Tab 5-7a Soil & Air EPCs'!$D$7:$E$9,2,FALSE),\"--\")","v":"--"},"--","--","--","--",{"$f":"IF(ISNUMBER(VLOOKUP(E136,'Tab 5-7a Soil & Air EPCs'!$D$7:$H$9,5,FALSE)),VLOOKUP(E136,'Tab 5-7a Soil & Air EPCs'!$D$7:$H$9,5,FALSE),\"--\")","v":"--"},"--","--",{"$f":"IF(ISNUMBER(VLOOKUP(E136,'Tab 5-7a Soil & Air EPCs'!$D$7:$F$9,3,FALSE)),VLOOKUP(E136,'Tab 5-7a Soil & Air EPCs'!$D$7:$F$9,3,FALSE),\"--\")","v":"--"},"--","--","--","--"]
[0,0,0,0,0,"--","--",{"$f":"IF(ISNUMBER(VLOOKUP(E137,'Tab 5-7a Soil & Air EPCs'!$D$7:$E$9,2,FALSE)),VLOOKUP(E137,'Tab 5-7a Soil & Air EPCs'!$D$7:$E$9,2,FALSE),\"--\")","v":"--"},"--","--","--","--",{"$f":"IF(ISNUMBER(VLOOKUP(E137,'Tab 5-7a Soil & Air EPCs'!$D$7:$H$9,5,FALSE)),VLOOKUP(E137,'Tab 5-7a Soil & Air EPCs'!$D$7:$H$9,5,FALSE),\"--\")","v":"--"},"--","--",{"$f":"IF(ISNUMBER(VLOOKUP(E137,'Tab 5-7a Soil & Air EPCs'!$D$7:$F$9,3,FALSE)),VLOOKUP(E137,'Tab 5-7a Soil & Air EPCs'!$D$7:$F$9,3,FALSE),\"--\")","v":"--"},"--","--","--","--"]
[0,0,0,0,0,"--","--",{"$f":"IF(ISNUMBER(VLOOKUP(E138,'Tab 5-7a Soil & Air EPCs'!$D$7:$E$9,2,FALSE)),VLOOKUP(E138,'Tab 5-7a Soil & Air EPCs'!$D$7:$E$9,2,FALSE),\"--\")","v":"--"},"--","--","--","--",{"$f":"IF(ISNUMBER(VLOOKUP(E138,'Tab 5-7a Soil & Air EPCs'!$D$7:$H$9,5,FALSE)),VLOOKUP(E138,'Tab 5-7a Soil & Air EPCs'!$D$7:$H$9,5,FALSE),\"--\")","v":"--"},"--","--",{"$f":"IF(ISNUMBER(VLOOKUP(E138,'Tab 5-7a Soil & Air EPCs'!$D$7:$F$9,3,FALSE)),VLOOKUP(E138,'Tab 5-7a Soil & Air EPCs'!$D$7:$F$9,3,FALSE),\"--\")","v":"--"},"--","--","--","--"]
[0,0,0,0,0,"--","--",{"$f":"IF(ISNUMBER(VLOOKUP(E139,'Tab 5-7a Soil & Air EPCs'!$D$7:$E$9,2,FALSE)),VLOOKUP(E139,'Tab 5-7a Soil & Air EPCs'!$D$7:$E$9,2,FALSE),\"--\")","v":"--"},"--","--","--","--",{"$f":"IF(ISNUMBER(VLOOKUP(E139,'Tab 5-7a Soil & Air EPCs'!$D$7:$H$9,5,FALSE)),VLOOKUP(E139,'Tab 5-7a Soil & Air EPCs'!$D$7:$H$9,5,FALSE),\"--\")","v":"--"},"--","--",{"$f":"IF(ISNUMBER(VLOOKUP(E139,'Tab 5-7a Soil & Air EPCs'!$D$7:$F$9,3,FALSE)),VLOOKUP(E139,'Tab 5-7a Soil & Air EPCs'!$D$7:$F$9,3,FALSE),\"--\")","v":"--"},"--","--","--","--"]
[0,0,0,0,0,"--","--",{"$f":"IF(ISNUMBER(VLOOKUP(E140,'Tab 5-7a Soil & Air EPCs'!$D$7:$E$9,2,FALSE)),VLOOKUP(E140,'Tab 5-7a Soil & Air EPCs'!$D$7:$E$9,2,FALSE),\"--\")","v":"--"},"--","--","--","--",{"$f":"IF(ISNUMBER(VLOOKUP(E140,'Tab 5-7a Soil & Air EPCs'!$D$7:$H$9,5,FALSE)),VLOOKUP(E140,'Tab 5-7a Soil & Air EPCs'!$D$7:$H$9,5,FALSE),\"--\")","v":"--"},"--","--",{"$f":"IF(ISNUMBER(VLOOKUP(E140,'Tab 5-7a Soil & Air EPCs'!$D$7:$F$9,3,FALSE)),VLOOKUP(E140,'Tab 5-7a Soil & Air EPCs'!$D$7:$F$9,3,FALSE),\"--\")","v":"--"},"--","--",{"$f":"IF(SUM(I140,N140,Q140)>0,SUM(I140,N140,Q140),\"--\")","v":"--"},{"$f":"IF(SUM(J140,O140,R140)>0,SUM(J140,O140,R140),\"--\")","v":"--"}]
[0,0,0,0,0,"--","--",{"$f":"IF(ISNUMBER(VLOOKUP(E141,'Tab 5-7a Soil & Air EPCs'!$D$7:$E$9,2,FALSE)),VLOOKUP(E141,'Tab 5-7a Soil & Air EPCs'!$D$7:$E$9,2,FALSE),\"--\")","v":"--"},"--","--","--","--",{"$f":"IF(ISNUMBER(VLOOKUP(E141,'Tab 5-7a Soil & Air EPCs'!$D$7:$H$9,5,FALSE)),VLOOKUP(E141,'Tab 5-7a Soil & Air EPCs'!$D$7:$H$9,5,FALSE),\"--\")","v":"--"},"--","--",{"$f":"IF(ISNUMBER(VLOOKUP(E141,'Tab 5-7a Soil & Air EPCs'!$D$7:$F$9,3,FALSE)),VLOOKUP(E141,'Tab 5-7a Soil & Air EPCs'!$D$7:$F$9,3,FALSE),\"--\")","v":"--"},"--","--","--","--"]
[0,0,0,0,0,"--","--",{"$f":"IF(ISNUMBER(VLOOKUP(E142,'Tab 5-7a Soil & Air EPCs'!$D$7:$E$9,2,FALSE)),VLOOKUP(E142,'Tab 5-7a Soil & Air EPCs'!$D$7:$E$9,2,FALSE),\"--\")","v":"--"},"--","--","--","--",{"$f":"IF(ISNUMBER(VLOOKUP(E142,'Tab 5-7a Soil & Air EPCs'!$D$7:$H$9,5,FALSE)),VLOOKUP(E142,'Tab 5-7a Soil & Air EPCs'!$D$7:$H$9,5,FALSE),\"--\")","v":"--"},"--","--",{"$f":"IF(ISNUMBER(VLOOKUP(E142,'Tab 5-7a Soil & Air EPCs'!$D$7:$F$9,3,FALSE)),VLOOKUP(E142,'Tab 5-7a Soil & Air EPCs'!$D$7:$F$9,3,FALSE),\"--\")","v":"--"},"--","--","--","--"]
[0,0,0,0,0,"--","--",{"$f":"IF(ISNUMBER(VLOOKUP(E143,'Tab 5-7a Soil & Air EPCs'!$D$7:$E$9,2,FALSE)),VLOOKUP(E143,'Tab 5-7a Soil & Air EPCs'!$D$7:$E$9,2,FALSE),\"--\")","v":"--"},"--","--","--","--",{"$f":"IF(ISNUMBER(VLOOKUP(E143,'Tab 5-7a Soil & Air EPCs'!$D$7:$H$9,5,FALSE)),VLOOKUP(E143,'Tab 5-7a Soil & Air EPCs'!$D$7:$H$9,5,FALSE),\"--\")","v":"--"},"--","--",{"$f":"IF(ISNUMBER(VLOOKUP(E143,'Tab 5-7a Soil & Air EPCs'!$D$7:$F$9,3,FALSE)),VLOOKUP(E143,'Tab 5-7a Soil & Air EPCs'!$D$7:$F$9,3,FALSE),\"--\")","v":"--"},"--","--","--","--"]
[0,0,0,0,0,"--","--",{"$f":"IF(ISNUMBER(VLOOKUP(E144,'Tab 5-7a Soil & Air EPCs'!$D$7:$E$9,2,FALSE)),VLOOKUP(E144,'Tab 5-7a Soil & Air EPCs'!$D$7:$E$9,2,FALSE),\"--\")","v":"--"},"--","--","--","--",{"$f":"IF(ISNUMBER(VLOOKUP(E144,'Tab 5-7a Soil & Air EPCs'!$D$7:$H$9,5,FALSE)),VLOOKUP(E144,'Tab 5-7a Soil & Air EPCs'!$D$7:$H$9,5,FALSE),\"--\")","v":"--"},"--","--",{"$f":"IF(ISNUMBER(VLOOKUP(E144,'Tab 5-7a Soil & Air EPCs'!$D$7:$F$9,3,FALSE)),VLOOKUP(E144,'Tab 5-7a Soil & Air EPCs'!$D$7:$F$9,3,FALSE),\"--\")","v":"--"},"--","--","--","--"]
[0,0,0,0,0,"--","--",{"$f":"IF(ISNUMBER(VLOOKUP(E145,'Tab 5-7a Soil & Air EPCs'!$D$7:$E$9,2,FALSE)),VLOOKUP(E145,'Tab 5-7a Soil & Air EPCs'!$D$7:$E$9,2,FALSE),\"--\")","v":"--"},"--","--","--","--",{"$f":"IF(ISNUMBER(VLOOKUP(E145,'Tab 5-7a Soil & Air EPCs'!$D$7:$H$9,5,FALSE)),VLOOKUP(E145,'Tab 5-7a Soil & Air EPCs'!$D$7:$H$9,5,FALSE),\"--\")","v":"--"},"--","--",{"$f":"IF(ISNUMBER(VLOOKUP(E145,'Tab 5-7a Soil & Air EPCs'!$D$7:$F$9,3,FALSE)),VLOOKUP(E145,'Tab 5-7a Soil & Air EPCs'!$D$7:$F$9,3,FALSE),\"--\")","v":"--"},"--","--","--","--"]
[0,0,0,0,0,"--","--",{"$f":"IF(ISNUMBER(VLOOKUP(E146,'Tab 5-7a Soil & Air EPCs'!$D$7:$E$9,2,FALSE)),VLOOKUP(E146,'Tab 5-7a Soil & Air EPCs'!$D$7:$E$9,2,FALSE),\"--\")","v":"--"},"--","--","--","--",{"$f":"IF(ISNUMBER(VLOOKUP(E146,'Tab 5-7a Soil & Air EPCs'!$D$7:$H$9,5,FALSE)),VLOOKUP(E146,'Tab 5-7a Soil & Air EPCs'!$D$7:$H$9,5,FALSE),\"--\")","v":"--"},"--","--",{"$f":"IF(ISNUMBER(VLOOKUP(E146,'Tab 5-7a Soil & Air EPCs'!$D$7:$F$9,3,FALSE)),VLOOKUP(E146,'Tab 5-7a Soil & Air EPCs'!$D$7:$F$9,3,FALSE),\"--\")","v":"--"},"--","--","--","--"]
[0,0,0,0,0,"--","--",{"$f":"IF(ISNUMBER(VLOOKUP(E147,'Tab 5-7a Soil & Air EPCs'!$D$7:$E$9,2,FALSE)),VLOOKUP(E147,'Tab 5-7a Soil & Air EPCs'!$D$7:$E$9,2,FALSE),\"--\")","v":"--"},"--","--","--","--",{"$f":"IF(ISNUMBER(VLOOKUP(E147,'Tab 5-7a Soil & Air EPCs'!$D$7:$H$9,5,FALSE)),VLOOKUP(E147,'Tab 5-7a Soil & Air EPCs'!$D$7:$H$9,5,FALSE),\"--\")","v":"--"},"--","--",{"$f":"IF(ISNUMBER(VLOOKUP(E147,'Tab 5-7a Soil & Air EPCs'!$D$7:$F$9,3,FALSE)),VLOOKUP(E147,'Tab 5-7a Soil & Air EPCs'!$D$7:$F$9,3,FALSE),\"--\")","v":"--"},"--","--","--","--"]
[0,0,0,0,0,"--","--",{"$f":"IF(ISNUMBER(VLOOKUP(E148,'Tab 5-7a Soil & Air EPCs'!$D$7:$E$9,2,FALSE)),VLOOKUP(E148,'Tab 5-7a Soil & Air EPCs'!$D$7:$E$9,2,FALSE),\"--\")","v":"--"},"--","--","--","--",{"$f":"IF(ISNUMBER(VLOOKUP(E148,'Tab 5-7a Soil & Air EPCs'!$D$7:$H$9,5,FALSE)),VLOOKUP(E148,'Tab 5-7a Soil & Air EPCs'!$D$7:$H$9,5,FALSE),\"--\")","v":"--"},"--","--",{"$f":"IF(ISNUMBER(VLOOKUP(E148,'Tab 5-7a Soil & Air EPCs'!$D$7:$F$9,3,FALSE)),VLOOKUP(E148,'Tab 5-7a Soil & Air EPCs'!$D$7:$F$9,3,FALSE),\"--\")","v":"--"},"--","--","--","--"]
[0,0,0,0,0,"--","--",{"$f":"IF(ISNUMBER(VLOOKUP(E149,'Tab 5-7a Soil & Air EPCs'!$D$7:$E$9,2,FALSE)),VLOOKUP(E149,'Tab 5-7a Soil & Air EPCs'!$D$7:$E$9,2,FALSE),\"--\")","v":"--"},"--","--","--","--",{"$f":"IF(ISNUMBER(VLOOKUP(E149,'Tab 5-7a Soil & Air EPCs'!$D$7:$H$9,5,FALSE)),VLOOKUP(E149,'Tab 5-7a Soil & Air EPCs'!$D$7:$H$9,5,FALSE),\"--\")","v":"--"},"--","--",{"$f":"IF(ISNUMBER(VLOOKUP(E149,'Tab 5-7a Soil & Air EPCs'!$D$7:$F$9,3,FALSE)),VLOOKUP(E149,'Tab 5-7a Soil & Air EPCs'!$D$7:$F$9,3,FALSE),\"--\")","v":"--"},"--","--","--","--"]
[0,0,0,0,0,"--","--",{"$f":"IF(ISNUMBER(VLOOKUP(E150,'Tab 5-7a Soil & Air EPCs'!$D$7:$E$9,2,FALSE)),VLOOKUP(E150,'Tab 5-7a Soil & Air EPCs'!$D$7:$E$9,2,FALSE),\"--\")","v":"--"},"--","--","--","--",{"$f":"IF(ISNUMBER(VLOOKUP(E150,'Tab 5-7a Soil & Air EPCs'!$D$7:$H$9,5,FALSE)),VLOOKUP(E150,'Tab 5-7a Soil & Air EPCs'!$D$7:$H$9,5,FALSE),\"--\")","v":"--"},"--","--",{"$f":"IF(ISNUMBER(VLOOKUP(E150,'Tab 5-7a Soil & Air EPCs'!$D$7:$F$9,3,FALSE)),VLOOKUP(E150,'Tab 5-7a Soil & Air EPCs'!$D$7:$F$9,3,FALSE),\"--\")","v":"--"},"--","--","--","--"]
[0,0,0,0,0,"--","--",{"$f":"IF(ISNUMBER(VLOOKUP(E151,'Tab 5-7a Soil & Air EPCs'!$D$7:$E$9,2,FALSE)),VLOOKUP(E151,'Tab 5-7a Soil & Air EPCs'!$D$7:$E$9,2,FALSE),\"--\")","v":"--"},"--","--","--","--",{"$f":"IF(ISNUMBER(VLOOKUP(E151,'Tab 5-7a Soil & Air EPCs'!$D$7:$H$9,5,FALSE)),VLOOKUP(E151,'Tab 5-7a Soil & Air EPCs'!$D$7:$H$9,5,FALSE),\"--\")","v":"--"},"--","--",{"$f":"IF(ISNUMBER(VLOOKUP(E151,'Tab 5-7a Soil & Air EPCs'!$D$7:$F$9,3,FALSE)),VLOOKUP(E151,'Tab 5-7a Soil & Air EPCs'!$D$7:$F$9,3,FALSE),\"--\")","v":"--"},"--","--","--","--"]
[0,0,0,0,0,"--","--",{"$f":"IF(ISNUMBER(VLOOKUP(E152,'Tab 5-7a Soil & Air EPCs'!$D$7:$E$9,2,FALSE)),VLOOKUP(E152,'Tab 5-7a Soil & Air EPCs'!$D$7:$E$9,2,FALSE),\"--\")","v":"--"},"--","--","--","--",{"$f":"IF(ISNUMBER(VLOOKUP(E152,'Tab 5-7a Soil & Air EPCs'!$D$7:$H$9,5,FALSE)),VLOOKUP(E152,'Tab 5-7a Soil & Air EPCs'!$D$7:$H$9,5,FALSE),\"--\")","v":"--"},"--","--",{"$f":"IF(ISNUMBER(VLOOKUP(E152,'Tab 5-7a Soil & Air EPCs'!$D$7:$F$9,3,FALSE)),VLOOKUP(E152,'Tab 5-7a Soil & Air EPCs'!$D$7:$F$9,3,FALSE),\"--\")","v":"--"},"--","--","--","--"]
[0,0,0,0,0,"--","--",{"$f":"IF(ISNUMBER(VLOOKUP(E153,'Tab 5-7a Soil & Air EPCs'!$D$7:$E$9,2,FALSE)),VLOOKUP(E153,'Tab 5-7a Soil & Air EPCs'!$D$7:$E$9,2,FALSE),\"--\")","v":"--"},"--","--","--","--",{"$f":"IF(ISNUMBER(VLOOKUP(E153,'Tab 5-7a Soil & Air EPCs'!$D$7:$H$9,5,FALSE)),VLOOKUP(E153,'Tab 5-7a Soil & Air EPCs'!$D$7:$H$9,5,FALSE),\"--\")","v":"--"},"--","--",{"$f":"IF(ISNUMBER(VLOOKUP(E153,'Tab 5-7a Soil & Air EPCs'!$D$7:$F$9,3,FALSE)),VLOOKUP(E153,'Tab 5-7a Soil & Air EPCs'!$D$7:$F$9,3,FALSE),\"--\")","v":"--"},"--","--","--","--"]
[0,0,0,0,0,"--","--",{"$f":"IF(ISNUMBER(VLOOKUP(E154,'Tab 5-7a Soil & Air EPCs'!$D$7:$E$9,2,FALSE)),VLOOKUP(E154,'Tab 5-7a Soil & Air EPCs'!$D$7:$E$9,2,FALSE),\"--\")","v":"--"},"--","--","--","--",{"$f":"IF(ISNUMBER(VLOOKUP(E154,'Tab 5-7a Soil & Air EPCs'!$D$7:$H$9,5,FALSE)),VLOOKUP(E154,'Tab 5-7a Soil & Air EPCs'!$D$7:$H$9,5,FALSE),\"--\")","v":"--"},"--","--",{"$f":"IF(ISNUMBER(VLOOKUP(E154,'Tab 5-7a Soil & Air EPCs'!$D$7:$F$9,3,FALSE)),VLOOKUP(E154,'Tab 5-7a Soil & Air EPCs'!$D$7:$F$9,3,FALSE),\"--\")","v":"--"},"--","--","--","--"]
[0,0,0,0,0,"--","--",{"$f":"IF(ISNUMBER(VLOOKUP(E155,'Tab 5-7a Soil & Air EPCs'!$D$7:$E$9,2,FALSE)),VLOOKUP(E155,'Tab 5-7a Soil & Air EPCs'!$D$7:$E$9,2,FALSE),\"--\")","v":"--"},"--","--","--","--",{"$f":"IF(ISNUMBER(VLOOKUP(E155,'Tab 5-7a Soil & Air EPCs'!$D$7:$H$9,5,FALSE)),VLOOKUP(E155,'Tab 5-7a Soil & Air EPCs'!$D$7:$H$9,5,FALSE),\"--\")","v":"--"},"--","--",{"$f":"IF(ISNUMBER(VLOOKUP(E155,'Tab 5-7a Soil & Air EPCs'!$D$7:$F$9,3,FALSE)),VLOOKUP(E155,'Tab 5-7a Soil & Air EPCs'!$D$7:$F$9,3,FALSE),\"--\")","v":"--"},"--","--","--","--"]
[0,0,0,0,0,"--","--",{"$f":"IF(ISNUMBER(VLOOKUP(E156,'Tab 5-7a Soil & Air EPCs'!$D$7:$E$9,2,FALSE)),VLOOKUP(E156,'Tab 5-7a Soil & Air EPCs'!$D$7:$E$9,2,FALSE),\"--\")","v":"--"},"--","--","--","--",{"$f":"IF(ISNUMBER(VLOOKUP(E156,'Tab 5-7a Soil & Air EPCs'!$D$7:$H$9,5,FALSE)),VLOOKUP(E156,'Tab 5-7a Soil & Air EPCs'!$D$7:$H$9,5,FALSE),\"--\")","v":"--"},"--","--",{"$f":"IF(ISNUMBER(VLOOKUP(E156,'Tab 5-7a Soil & Air EPCs'!$D$7:$F$9,3,FALSE)),VLOOKUP(E156,'Tab 5-7a Soil & Air EPCs'!$D$7:$F$9,3,FALSE),\"--\")","v":"--"},"--","--","--","--"]
[0,0,0,0,0,"--","--",{"$f":"IF(ISNUMBER(VLOOKUP(E157,'Tab 5-7a Soil & Air EPCs'!$D$7:$E$9,2,FALSE)),VLOOKUP(E157,'Tab 5-7a Soil & Air EPCs'!$D$7:$E$9,2,FALSE),\"--\")","v":"--"},"--","--","--","--",{"$f":"IF(ISNUMBER(VLOOKUP(E157,'Tab 5-7a Soil & Air EPCs'!$D$7:$H$9,5,FALSE)),VLOOKUP(E157,'Tab 5-7a Soil & Air EPCs'!$D$7:$H$9,5,FALSE),\"--\")","v":"--"},"--","--",{"$f":"IF(ISNUMBER(VLOOKUP(E157,'Tab 5-7a Soil & Air EPCs'!$D$7:$F$9,3,FALSE)),VLOOKUP(E157,'Tab 5-7a Soil & Air EPCs'!$D$7:$F$9,3,FALSE),\"--\")","v":"--"},"--","--","--","--"]
[0,0,0,0,0,"--","--",{"$f":"IF(ISNUMBER(VLOOKUP(E158,'Tab 5-7a Soil & Air EPCs'!$D$7:$E$9,2,FALSE)),VLOOKUP(E158,'Tab 5-7a Soil & Air EPCs'!$D$7:$E$9,2,FALSE),\"--\")","v":"--"},"--","--","--","--",{"$f":"IF(ISNUMBER(VLOOKUP(E158,'Tab 5-7a Soil & Air EPCs'!$D$7:$H$9,5,FALSE)),VLOOKUP(E158,'Tab 5-7a Soil & Air EPCs'!$D$7:$H$9,5,FALSE),\"--\")","v":"--"},"--","--",{"$f":"IF(ISNUMBER(VLOOKUP(E158,'Tab 5-7a Soil & Air EPCs'!$D$7:$F$9,3,FALSE)),VLOOKUP(E158,'Tab 5-7a Soil & Air EPCs'!$D$7:$F$9,3,FALSE),\"--\")","v":"--"},"--","--","--","--"]
[0,0,0,0,0,"--","--",{"$f":"IF(ISNUMBER(VLOOKUP(E159,'Tab 5-7a Soil & Air EPCs'!$D$7:$E$9,2,FALSE)),VLOOKUP(E159,'Tab 5-7a Soil & Air EPCs'!$D$7:$E$9,2,FALSE),\"--\")","v":"--"},"--","--","--","--",{"$f":"IF(ISNUMBER(VLOOKUP(E159,'Tab 5-7a Soil & Air EPCs'!$D$7:$H$9,5,FALSE)),VLOOKUP(E159,'Tab 5-7a Soil & Air EPCs'!$D$7:$H$9,5,FALSE),\"--\")","v":"--"},"--","--",{"$f":"IF(ISNUMBER(VLOOKUP(E159,'Tab 5-7a Soil & Air EPCs'!$D$7:$F$9,3,FALSE)),VLOOKUP(E159,'Tab 5-7a Soil & Air EPCs'!$D$7:$F$9,3,FALSE),\"--\")","v":"--"},"--","--","--","--"]
[0,0,0,0,0,"--","--",{"$f":"IF(ISNUMBER(VLOOKUP(E160,'Tab 5-7a Soil & Air EPCs'!$D$7:$E$9,2,FALSE)),VLOOKUP(E160,'Tab 5-7a Soil & Air EPCs'!$D$7:$E$9,2,FALSE),\"--\")","v":"--"},"--","--","--","--",{"$f":"IF(ISNUMBER(VLOOKUP(E160,'Tab 5-7a Soil & Air EPCs'!$D$7:$H$9,5,FALSE)),VLOOKUP(E160,'Tab 5-7a Soil & Air EPCs'!$D$7:$H$9,5,FALSE),\"--\")","v":"--"},"--","--",{"$f":"IF(ISNUMBER(VLOOKUP(E160,'Tab 5-7a Soil & Air EPCs'!$D$7:$F$9,3,FALSE)),VLOOKUP(E160,'Tab 5-7a Soil & Air EPCs'!$D$7:$F$9,3,FALSE),\"--\")","v":"--"},"--","--","--","--"]
[0,0,0,0,0,"--","--",{"$f":"IF(ISNUMBER(VLOOKUP(E161,'Tab 5-7a Soil & Air EPCs'!$D$7:$E$9,2,FALSE)),VLOOKUP(E161,'Tab 5-7a Soil & Air EPCs'!$D$7:$E$9,2,FALSE),\"--\")","v":"--"},"--","--","--","--",{"$f":"IF(ISNUMBER(VLOOKUP(E161,'Tab 5-7a Soil & Air EPCs'!$D$7:$H$9,5,FALSE)),VLOOKUP(E161,'Tab 5-7a Soil & Air EPCs'!$D$7:$H$9,5,FALSE),\"--\")","v":"--"},"--","--",{"$f":"IF(ISNUMBER(VLOOKUP(E161,'Tab 5-7a Soil & Air EPCs'!$D$7:$F$9,3,FALSE)),VLOOKUP(E161,'Tab 5-7a Soil & Air EPCs'!$D$7:$F$9,3,FALSE),\"--\")","v":"--"},"--","--","--","--"]
[0,0,0,0,0,"--","--",{"$f":"IF(ISNUMBER(VLOOKUP(E162,'Tab 5-7a Soil & Air EPCs'!$D$7:$E$9,2,FALSE)),VLOOKUP(E162,'Tab 5-7a Soil & Air EPCs'!$D$7:$E$9,2,FALSE),\"--\")","v":"--"},"--","--","--","--",{"$f":"IF(ISNUMBER(VLOOKUP(E162,'Tab 5-7a Soil & Air EPCs'!$D$7:$H$9,5,FALSE)),VLOOKUP(E162,'Tab 5-7a Soil & Air EPCs'!$D$7:$H$9,5,FALSE),\"--\")","v":"--"},"--","--",{"$f":"IF(ISNUMBER(VLOOKUP(E162,'Tab 5-7a Soil & Air EPCs'!$D$7:$F$9,3,FALSE)),VLOOKUP(E162,'Tab 5-7a Soil & Air EPCs'!$D$7:$F$9,3,FALSE),\"--\")","v":"--"},"--","--","--","--"]
[0,0,0,0,0,"--","--",{"$f":"IF(ISNUMBER(VLOOKUP(E163,'Tab 5-7a Soil & Air EPCs'!$D$7:$E$9,2,FALSE)),VLOOKUP(E163,'Tab 5-7a Soil & Air EPCs'!$D$7:$E$9,2,FALSE),\"--\")","v":"--"},"--","--","--","--",{"$f":"IF(ISNUMBER(VLOOKUP(E163,'Tab 5-7a Soil & Air EPCs'!$D$7:$H$9,5,FALSE)),VLOOKUP(E163,'Tab 5-7a Soil & Air EPCs'!$D$7:$H$9,5,FALSE),\"--\")","v":"--"},"--","--",{"$f":"IF(ISNUMBER(VLOOKUP(E163,'Tab 5-7a Soil & Air EPCs'!$D$7:$F$9,3,FALSE)),VLOOKUP(E163,'Tab 5-7a Soil & Air EPCs'!$D$7:$F$9,3,FALSE),\"--\")","v":"--"},"--","--","--","--"]
[0,0,0,0,0,"--","--",{"$f":"IF(ISNUMBER(VLOOKUP(E164,'Tab 5-7a Soil & Air EPCs'!$D$7:$E$9,2,FALSE)),VLOOKUP(E164,'Tab 5-7a Soil & Air EPCs'!$D$7:$E$9,2,FALSE),\"--\")","v":"--"},"--","--","--","--",{"$f":"IF(ISNUMBER(VLOOKUP(E164,'Tab 5-7a Soil & Air EPCs'!$D$7:$H$9,5,FALSE)),VLOOKUP(E164,'Tab 5-7a Soil & Air EPCs'!$D$7:$H$9,5,FALSE),\"--\")","v":"--"},"--","--",{"$f":"IF(ISNUMBER(VLOOKUP(E164,'Tab 5-7a Soil & Air EPCs'!$D$7:$F$9,3,FALSE)),VLOOKUP(E164,'Tab 5-7a Soil & Air EPCs'!$D$7:$F$9,3,FALSE),\"--\")","v":"--"},"--","--","--","--"]
[0,0,0,0,0,"--","--",{"$f":"IF(ISNUMBER(VLOOKUP(E165,'Tab 5-7a Soil & Air EPCs'!$D$7:$E$9,2,FALSE)),VLOOKUP(E165,'Tab 5-7a Soil & Air EPCs'!$D$7:$E$9,2,FALSE),\"--\")","v":"--"},"--","--","--","--",{"$f":"IF(ISNUMBER(VLOOKUP(E165,'Tab 5-7a Soil & Air EPCs'!$D$7:$H$9,5,FALSE)),VLOOKUP(E165,'Tab 5-7a Soil & Air EPCs'!$D$7:$H$9,5,FALSE),\"--\")","v":"--"},"--","--",{"$f":"IF(ISNUMBER(VLOOKUP(E165,'Tab 5-7a Soil & Air EPCs'!$D$7:$F$9,3,FALSE)),VLOOKUP(E165,'Tab 5-7a Soil & Air EPCs'!$D$7:$F$9,3,FALSE),\"--\")","v":"--"},"--","--","--","--"]
[0,0,0,0,0,"--","--",{"$f":"IF(ISNUMBER(VLOOKUP(E166,'Tab 5-7a Soil & Air EPCs'!$D$7:$E$9,2,FALSE)),VLOOKUP(E166,'Tab 5-7a Soil & Air EPCs'!$D$7:$E$9,2,FALSE),\"--\")","v":"--"},"--","--","--","--",{"$f":"IF(ISNUMBER(VLOOKUP(E166,'Tab 5-7a Soil & Air EPCs'!$D$7:$H$9,5,FALSE)),VLOOKUP(E166,'Tab 5-7a Soil & Air EPCs'!$D$7:$H$9,5,FALSE),\"--\")","v":"--"},"--","--",{"$f":"IF(ISNUMBER(VLOOKUP(E166,'Tab 5-7a Soil & Air EPCs'!$D$7:$F$9,3,FALSE)),VLOOKUP(E166,'Tab 5-7a Soil & Air EPCs'!$D$7:$F$9,3,FALSE),\"--\")","v":"--"},"--","--","--","--"]
[0,0,0,0,0,"--","--",{"$f":"IF(ISNUMBER(VLOOKUP(E167,'Tab 5-7a Soil & Air EPCs'!$D$7:$E$9,2,FALSE)),VLOOKUP(E167,'Tab 5-7a Soil & Air EPCs'!$D$7:$E$9,2,FALSE),\"--\")","v":"--"},"--","--","--","--",{"$f":"IF(ISNUMBER(VLOOKUP(E167,'Tab 5-7a Soil & Air EPCs'!$D$7:$H$9,5,FALSE)),VLOOKUP(E167,'Tab 5-7a Soil & Air EPCs'!$D$7:$H$9,5,FALSE),\"--\")","v":"--"},"--","--",{"$f":"IF(ISNUMBER(VLOOKUP(E167,'Tab 5-7a Soil & Air EPCs'!$D$7:$F$9,3,FALSE)),VLOOKUP(E167,'Tab 5-7a Soil & Air EPCs'!$D$7:$F$9,3,FALSE),\"--\")","v":"--"},"--","--","--","--"]
[0,0,0,0,0,"--","--",{"$f":"IF(ISNUMBER(VLOOKUP(E168,'Tab 5-7a Soil & Air EPCs'!$D$7:$E$9,2,FALSE)),VLOOKUP(E168,'Tab 5-7a Soil & Air EPCs'!$D$7:$E$9,2,FALSE),\"--\")","v":"--"},"--","--","--","--",{"$f":"IF(ISNUMBER(VLOOKUP(E168,'Tab 5-7a Soil & Air EPCs'!$D$7:$H$9,5,FALSE)),VLOOKUP(E168,'Tab 5-7a Soil & Air EPCs'!$D$7:$H$9,5,FALSE),\"--\")","v":"--"},"--","--",{"$f":"IF(ISNUMBER(VLOOKUP(E168,'Tab 5-7a Soil & Air EPCs'!$D$7:$F$9,3,FALSE)),VLOOKUP(E168,'Tab 5-7a Soil & Air EPCs'!$D$7:$F$9,3,FALSE),\"--\")","v":"--"},"--","--","--","--"]
[0,0,0,0,0,"--","--",{"$f":"IF(ISNUMBER(VLOOKUP(E169,'Tab 5-7a Soil & Air EPCs'!$D$7:$E$9,2,FALSE)),VLOOKUP(E169,'Tab 5-7a Soil & Air EPCs'!$D$7:$E$9,2,FALSE),\"--\")","v":"--"},"--","--","--","--",{"$f":"IF(ISNUMBER(VLOOKUP(E169,'Tab 5-7a Soil & Air EPCs'!$D$7:$H$9,5,FALSE)),VLOOKUP(E169,'Tab 5-7a Soil & Air EPCs'!$D$7:$H$9,5,FALSE),\"--\")","v":"--"},"--","--",{"$f":"IF(ISNUMBER(VLOOKUP(E169,'Tab 5-7a Soil & Air EPCs'!$D$7:$F$9,3,FALSE)),VLOOKUP(E169,'Tab 5-7a Soil & Air EPCs'!$D$7:$F$9,3,FALSE),\"--\")","v":"--"},"--","--","--","--"]
[0,0,0,0,0,"--","--",{"$f":"IF(ISNUMBER(VLOOKUP(E170,'Tab 5-7a Soil & Air EPCs'!$D$7:$E$9,2,FALSE)),VLOOKUP(E170,'Tab 5-7a Soil & Air EPCs'!$D$7:$E$9,2,FALSE),\"--\")","v":"--"},"--","--","--","--",{"$f":"IF(ISNUMBER(VLOOKUP(E170,'Tab 5-7a Soil & Air EPCs'!$D$7:$H$9,5,FALSE)),VLOOKUP(E170,'Tab 5-7a Soil & Air EPCs'!$D$7:$H$9,5,FALSE),\"--\")","v":"--"},"--","--",{"$f":"IF(ISNUMBER(VLOOKUP(E170,'Tab 5-7a Soil & Air EPCs'!$D$7:$F$9,3,FALSE)),VLOOKUP(E170,'Tab 5-7a Soil & Air EPCs'!$D$7:$F$9,3,FALSE),\"--\")","v":"--"},"--","--","--","--"]
[0,0,0,0,0,"--","--",{"$f":"IF(ISNUMBER(VLOOKUP(E171,'Tab 5-7a Soil & Air EPCs'!$D$7:$E$9,2,FALSE)),VLOOKUP(E171,'Tab 5-7a Soil & Air EPCs'!$D$7:$E$9,2,FALSE),\"--\")","v":"--"},"--","--","--","--",{"$f":"IF(ISNUMBER(VLOOKUP(E171,'Tab 5-7a Soil & Air EPCs'!$D$7:$H$9,5,FALSE)),VLOOKUP(E171,'Tab 5-7a Soil & Air EPCs'!$D$7:$H$9,5,FALSE),\"--\")","v":"--"},"--","--",{"$f":"IF(ISNUMBER(VLOOKUP(E171,'Tab 5-7a Soil & Air EPCs'!$D$7:$F$9,3,FALSE)),VLOOKUP(E171,'Tab 5-7a Soil & Air EPCs'!$D$7:$F$9,3,FALSE),\"--\")","v":"--"},"--","--","--","--"]
[0,0,0,0,0,"--","--",{"$f":"IF(ISNUMBER(VLOOKUP(E172,'Tab 5-7a Soil & Air EPCs'!$D$7:$E$9,2,FALSE)),VLOOKUP(E172,'Tab 5-7a Soil & Air EPCs'!$D$7:$E$9,2,FALSE),\"--\")","v":"--"},"--","--","--","--",{"$f":"IF(ISNUMBER(VLOOKUP(E172,'Tab 5-7a Soil & Air EPCs'!$D$7:$H$9,5,FALSE)),VLOOKUP(E172,'Tab 5-7a Soil & Air EPCs'!$D$7:$H$9,5,FALSE),\"--\")","v":"--"},"--","--",{"$f":"IF(ISNUMBER(VLOOKUP(E172,'Tab 5-7a Soil & Air EPCs'!$D$7:$F$9,3,FALSE)),VLOOKUP(E172,'Tab 5-7a Soil & Air EPCs'!$D$7:$F$9,3,FALSE),\"--\")","v":"--"},"--","--","--","--"]
[0,0,0,0,0,"--","--",{"$f":"IF(ISNUMBER(VLOOKUP(E173,'Tab 5-7a Soil & Air EPCs'!$D$7:$E$9,2,FALSE)),VLOOKUP(E173,'Tab 5-7a Soil & Air EPCs'!$D$7:$E$9,2,FALSE),\"--\")","v":"--"},"--","--","--","--",{"$f":"IF(ISNUMBER(VLOOKUP(E173,'Tab 5-7a Soil & Air EPCs'!$D$7:$H$9,5,FALSE)),VLOOKUP(E173,'Tab 5-7a Soil & Air EPCs'!$D$7:$H$9,5,FALSE),\"--\")","v":"--"},"--","--",{"$f":"IF(ISNUMBER(VLOOKUP(E173,'Tab 5-7a Soil & Air EPCs'!$D$7:$F$9,3,FALSE)),VLOOKUP(E173,'Tab 5-7a Soil & Air EPCs'!$D$7:$F$9,3,FALSE),\"--\")","v":"--"},"--","--","--","--"]
[0,0,0,0,0,"--","--",{"$f":"IF(ISNUMBER(VLOOKUP(E174,'Tab 5-7a Soil & Air EPCs'!$D$7:$E$9,2,FALSE)),VLOOKUP(E174,'Tab 5-7a Soil & Air EPCs'!$D$7:$E$9,2,FALSE),\"--\")","v":"--"},"--","--","--","--",{"$f":"IF(ISNUMBER(VLOOKUP(E174,'Tab 5-7a Soil & Air EPCs'!$D$7:$H$9,5,FALSE)),VLOOKUP(E174,'Tab 5-7a Soil & Air EPCs'!$D$7:$H$9,5,FALSE),\"--\")","v":"--"},"--","--",{"$f":"IF(ISNUMBER(VLOOKUP(E174,'Tab 5-7a Soil & Air EPCs'!$D$7:$F$9,3,FALSE)),VLOOKUP(E174,'Tab 5-7a Soil & Air EPCs'!$D$7:$F$9,3,FALSE),\"--\")","v":"--"},"--","--","--","--"]
[0,0,0,0,0,"--","--",{"$f":"IF(ISNUMBER(VLOOKUP(E175,'Tab 5-7a Soil & Air EPCs'!$D$7:$E$9,2,FALSE)),VLOOKUP(E175,'Tab 5-7a Soil & Air EPCs'!$D$7:$E$9,2,FALSE),\"--\")","v":"--"},"--","--","--","--",{"$f":"IF(ISNUMBER(VLOOKUP(E175,'Tab 5-7a Soil & Air EPCs'!$D$7:$H$9,5,FALSE)),VLOOKUP(E175,'Tab 5-7a Soil & Air EPCs'!$D$7:$H$9,5,FALSE),\"--\")","v":"--"},"--","--",{"$f":"IF(ISNUMBER(VLOOKUP(E175,'Tab 5-7a Soil & Air EPCs'!$D$7:$F$9,3,FALSE)),VLOOKUP(E175,'Tab 5-7a Soil & Air EPCs'!$D$7:$F$9,3,FALSE),\"--\")","v":"--"},"--","--","--","--"]
[0,0,0,0,0,"--","--",{"$f":"IF(ISNUMBER(VLOOKUP(E176,'Tab 5-7a Soil & Air EPCs'!$D$7:$E$9,2,FALSE)),VLOOKUP(E176,'Tab 5-7a Soil & Air EPCs'!$D$7:$E$9,2,FALSE),\"--\")","v":"--"},"--","--","--","--",{"$f":"IF(ISNUMBER(VLOOKUP(E176,'Tab 5-7a Soil & Air EPCs'!$D$7:$H$9,5,FALSE)),VLOOKUP(E176,'Tab 5-7a Soil & Air EPCs'!$D$7:$H$9,5,FALSE),\"--\")","v":"--"},"--","--",{"$f":"IF(ISNUMBER(VLOOKUP(E176,'Tab 5-7a Soil & Air EPCs'!$D$7:$F$9,3,FALSE)),VLOOKUP(E176,'Tab 5-7a Soil & Air EPCs'!$D$7:$F$9,3,FALSE),\"--\")","v":"--"},"--","--","--","--"]
[0,0,0,0,0,"--","--",{"$f":"IF(ISNUMBER(VLOOKUP(E177,'Tab 5-7a Soil & Air EPCs'!$D$7:$E$9,2,FALSE)),VLOOKUP(E177,'Tab 5-7a Soil & Air EPCs'!$D$7:$E$9,2,FALSE),\"--\")","v":"--"},"--","--","--","--",{"$f":"IF(ISNUMBER(VLOOKUP(E177,'Tab 5-7a Soil & Air EPCs'!$D$7:$H$9,5,FALSE)),VLOOKUP(E177,'Tab 5-7a Soil & Air EPCs'!$D$7:$H$9,5,FALSE),\"--\")","v":"--"},"--","--",{"$f":"IF(ISNUMBER(VLOOKUP(E177,'Tab 5-7a Soil & Air EPCs'!$D$7:$F$9,3,FALSE)),VLOOKUP(E177,'Tab 5-7a Soil & Air EPCs'!$D$7:$F$9,3,FALSE),\"--\")","v":"--"},"--","--","--","--"]
[0,0,0,0,0,"--","--",{"$f":"IF(ISNUMBER(VLOOKUP(E178,'Tab 5-7a Soil & Air EPCs'!$D$7:$E$9,2,FALSE)),VLOOKUP(E178,'Tab 5-7a Soil & Air EPCs'!$D$7:$E$9,2,FALSE),\"--\")","v":"--"},"--","--","--","--",{"$f":"IF(ISNUMBER(VLOOKUP(E178,'Tab 5-7a Soil & Air EPCs'!$D$7:$H$9,5,FALSE)),VLOOKUP(E178,'Tab 5-7a Soil & Air EPCs'!$D$7:$H$9,5,FALSE),\"--\")","v":"--"},"--","--",{"$f":"IF(ISNUMBER(VLOOKUP(E178,'Tab 5-7a Soil & Air EPCs'!$D$7:$F$9,3,FALSE)),VLOOKUP(E178,'Tab 5-7a Soil & Air EPCs'!$D$7:$F$9,3,FALSE),\"--\")","v":"--"},"--","--","--","--"]
[0,0,0,0,0,"--","--",{"$f":"IF(ISNUMBER(VLOOKUP(E179,'Tab 5-7a Soil & Air EPCs'!$D$7:$E$9,2,FALSE)),VLOOKUP(E179,'Tab 5-7a Soil & Air EPCs'!$D$7:$E$9,2,FALSE),\"--\")","v":"--"},"--","--","--","--",{"$f":"IF(ISNUMBER(VLOOKUP(E179,'Tab 5-7a Soil & Air EPCs'!$D$7:$H$9,5,FALSE)),VLOOKUP(E179,'Tab 5-7a Soil & Air EPCs'!$D$7:$H$9,5,FALSE),\"--\")","v":"--"},"--","--",{"$f":"IF(ISNUMBER(VLOOKUP(E179,'Tab 5-7a Soil & Air EPCs'!$D$7:$F$9,3,FALSE)),VLOOKUP(E179,'Tab 5-7a Soil & Air EPCs'!$D$7:$F$9,3,FALSE),\"--\")","v":"--"},"--","--","--","--"]
[0,0,0,0,0,"--","--",{"$f":"IF(ISNUMBER(VLOOKUP(E180,'Tab 5-7a Soil & Air EPCs'!$D$7:$E$9,2,FALSE)),VLOOKUP(E180,'Tab 5-7a Soil & Air EPCs'!$D$7:$E$9,2,FALSE),\"--\")","v":"--"},"--","--","--","--",{"$f":"IF(ISNUMBER(VLOOKUP(E180,'Tab 5-7a Soil & Air EPCs'!$D$7:$H$9,5,FALSE)),VLOOKUP(E180,'Tab 5-7a Soil & Air EPCs'!$D$7:$H$9,5,FALSE),\"--\")","v":"--"},"--","--",{"$f":"IF(ISNUMBER(VLOOKUP(E180,'Tab 5-7a Soil & Air EPCs'!$D$7:$F$9,3,FALSE)),VLOOKUP(E180,'Tab 5-7a Soil & Air EPCs'!$D$7:$F$9,3,FALSE),\"--\")","v":"--"},"--","--","--","--"]
[0,0,0,0,0,"--","--",{"$f":"IF(ISNUMBER(VLOOKUP(E181,'Tab 5-7a Soil & Air EPCs'!$D$7:$E$9,2,FALSE)),VLOOKUP(E181,'Tab 5-7a Soil & Air EPCs'!$D$7:$E$9,2,FALSE),\"--\")","v":"--"},"--","--","--","--",{"$f":"IF(ISNUMBER(VLOOKUP(E181,'Tab 5-7a Soil & Air EPCs'!$D$7:$H$9,5,FALSE)),VLOOKUP(E181,'Tab 5-7a Soil & Air EPCs'!$D$7:$H$9,5,FALSE),\"--\")","v":"--"},"--","--",{"$f":"IF(ISNUMBER(VLOOKUP(E181,'Tab 5-7a Soil & Air EPCs'!$D$7:$F$9,3,FALSE)),VLOOKUP(E181,'Tab 5-7a Soil & Air EPCs'!$D$7:$F$9,3,FALSE),\"--\")","v":"--"},"--","--","--","--"]
[0,0,0,0,0,"--","--",{"$f":"IF(ISNUMBER(VLOOKUP(E182,'Tab 5-7a Soil & Air EPCs'!$D$7:$E$9,2,FALSE)),VLOOKUP(E182,'Tab 5-7a Soil & Air EPCs'!$D$7:$E$9,2,FALSE),\"--\")","v":"--"},"--","--","--","--",{"$f":"IF(ISNUMBER(VLOOKUP(E182,'Tab 5-7a Soil & Air EPCs'!$D$7:$H$9,5,FALSE)),VLOOKUP(E182,'Tab 5-7a Soil & Air EPCs'!$D$7:$H$9,5,FALSE),\"--\")","v":"--"},"--","--",{"$f":"IF(ISNUMBER(VLOOKUP(E182,'Tab 5-7a Soil & Air EPCs'!$D$7:$F$9,3,FALSE)),VLOOKUP(E182,'Tab 5-7a Soil & Air EPCs'!$D$7:$F$9,3,FALSE),\"--\")","v":"--"},"--","--","--","--"]
[0,0,0,0,0,"--","--",{"$f":"IF(ISNUMBER(VLOOKUP(E183,'Tab 5-7a Soil & Air EPCs'!$D$7:$E$9,2,FALSE)),VLOOKUP(E183,'Tab 5-7a Soil & Air EPCs'!$D$7:$E$9,2,FALSE),\"--\")","v":"--"},"--","--","--","--",{"$f":"IF(ISNUMBER(VLOOKUP(E183,'Tab 5-7a Soil & Air EPCs'!$D$7:$H$9,5,FALSE)),VLOOKUP(E183,'Tab 5-7a Soil & Air EPCs'!$D$7:$H$9,5,FALSE),\"--\")","v":"--"},"--","--",{"$f":"IF(ISNUMBER(VLOOKUP(E183,'Tab 5-7a Soil & Air EPCs'!$D$7:$F$9,3,FALSE)),VLOOKUP(E183,'Tab 5-7a Soil & Air EPCs'!$D$7:$F$9,3,FALSE),\"--\")","v":"--"},"--","--","--","--"]
[0,0,0,0,0,"--","--",{"$f":"IF(ISNUMBER(VLOOKUP(E184,'Tab 5-7a Soil & Air EPCs'!$D$7:$E$9,2,FALSE)),VLOOKUP(E184,'Tab 5-7a Soil & Air EPCs'!$D$7:$E$9,2,FALSE),\"--\")","v":"--"},"--","--","--","--",{"$f":"IF(ISNUMBER(VLOOKUP(E184,'Tab 5-7a Soil & Air EPCs'!$D$7:$H$9,5,FALSE)),VLOOKUP(E184,'Tab 5-7a Soil & Air EPCs'!$D$7:$H$9,5,FALSE),\"--\")","v":"--"},"--","--",{"$f":"IF(ISNUMBER(VLOOKUP(E184,'Tab 5-7a Soil & Air EPCs'!$D$7:$F$9,3,FALSE)),VLOOKUP(E184,'Tab 5-7a Soil & Air EPCs'!$D$7:$F$9,3,FALSE),\"--\")","v":"--"},"--","--","--","--"]
[0,0,0,0,0,"--","--",{"$f":"IF(ISNUMBER(VLOOKUP(E185,'Tab 5-7a Soil & Air EPCs'!$D$7:$E$9,2,FALSE)),VLOOKUP(E185,'Tab 5-7a Soil & Air EPCs'!$D$7:$E$9,2,FALSE),\"--\")","v":"--"},"--","--","--","--",{"$f":"IF(ISNUMBER(VLOOKUP(E185,'Tab 5-7a Soil & Air EPCs'!$D$7:$H$9,5,FALSE)),VLOOKUP(E185,'Tab 5-7a Soil & Air EPCs'!$D$7:$H$9,5,FALSE),\"--\")","v":"--"},"--","--",{"$f":"IF(ISNUMBER(VLOOKUP(E185,'Tab 5-7a Soil & Air EPCs'!$D$7:$F$9,3,FALSE)),VLOOKUP(E185,'Tab 5-7a Soil & Air EPCs'!$D$7:$F$9,3,FALSE),\"--\")","v":"--"},"--","--","--","--"]
[0,0,0,0,0,"--","--",{"$f":"IF(ISNUMBER(VLOOKUP(E186,'Tab 5-7a Soil & Air EPCs'!$D$7:$E$9,2,FALSE)),VLOOKUP(E186,'Tab 5-7a Soil & Air EPCs'!$D$7:$E$9,2,FALSE),\"--\")","v":"--"},"--","--","--","--",{"$f":"IF(ISNUMBER(VLOOKUP(E186,'Tab 5-7a Soil & Air EPCs'!$D$7:$H$9,5,FALSE)),VLOOKUP(E186,'Tab 5-7a Soil & Air EPCs'!$D$7:$H$9,5,FALSE),\"--\")","v":"--"},"--","--",{"$f":"IF(ISNUMBER(VLOOKUP(E186,'Tab 5-7a Soil & Air EPCs'!$D$7:$F$9,3,FALSE)),VLOOKUP(E186,'Tab 5-7a Soil & Air EPCs'!$D$7:$F$9,3,FALSE),\"--\")","v":"--"},"--","--","--","--"]
[0,0,0,0,0,"--","--",{"$f":"IF(ISNUMBER(VLOOKUP(E187,'Tab 5-7a Soil & Air EPCs'!$D$7:$E$9,2,FALSE)),VLOOKUP(E187,'Tab 5-7a Soil & Air EPCs'!$D$7:$E$9,2,FALSE),\"--\")","v":"--"},"--","--","--","--",{"$f":"IF(ISNUMBER(VLOOKUP(E187,'Tab 5-7a Soil & Air EPCs'!$D$7:$H$9,5,FALSE)),VLOOKUP(E187,'Tab 5-7a Soil & Air EPCs'!$D$7:$H$9,5,FALSE),\"--\")","v":"--"},"--","--",{"$f":"IF(ISNUMBER(VLOOKUP(E187,'Tab 5-7a Soil & Air EPCs'!$D$7:$F$9,3,FALSE)),VLOOKUP(E187,'Tab 5-7a Soil & Air EPCs'!$D$7:$F$9,3,FALSE),\"--\")","v":"--"},"--","--","--","--"]
[0,0,0,0,0,"--","--",{"$f":"IF(ISNUMBER(VLOOKUP(E188,'Tab 5-7a Soil & Air EPCs'!$D$7:$E$9,2,FALSE)),VLOOKUP(E188,'Tab 5-7a Soil & Air EPCs'!$D$7:$E$9,2,FALSE),\"--\")","v":"--"},"--","--","--","--",{"$f":"IF(ISNUMBER(VLOOKUP(E188,'Tab 5-7a Soil & Air EPCs'!$D$7:$H$9,5,FALSE)),VLOOKUP(E188,'Tab 5-7a Soil & Air EPCs'!$D$7:$H$9,5,FALSE),\"--\")","v":"--"},"--","--",{"$f":"IF(ISNUMBER(VLOOKUP(E188,'Tab 5-7a Soil & Air EPCs'!$D$7:$F$9,3,FALSE)),VLOOKUP(E188,'Tab 5-7a Soil & Air EPCs'!$D$7:$F$9,3,FALSE),\"--\")","v":"--"},"--","--","--","--"]
[0,0,0,0,0,"--","--",{"$f":"IF(ISNUMBER(VLOOKUP(E189,'Tab 5-7a Soil & Air EPCs'!$D$7:$E$9,2,FALSE)),VLOOKUP(E189,'Tab 5-7a Soil & Air EPCs'!$D$7:$E$9,2,FALSE),\"--\")","v":"--"},"--","--","--","--",{"$f":"IF(ISNUMBER(VLOOKUP(E189,'Tab 5-7a Soil & Air EPCs'!$D$7:$H$9,5,FALSE)),VLOOKUP(E189,'Tab 5-7a Soil & Air EPCs'!$D$7:$H$9,5,FALSE),\"--\")","v":"--"},"--","--",{"$f":"IF(ISNUMBER(VLOOKUP(E189,'Tab 5-7a Soil & Air EPCs'!$D$7:$F$9,3,FALSE)),VLOOKUP(E189,'Tab 5-7a Soil & Air EPCs'!$D$7:$F$9,3,FALSE),\"--\")","v":"--"},"--","--","--","--"]
[0,0,0,0,0,"--","--",{"$f":"IF(ISNUMBER(VLOOKUP(E190,'Tab 5-7a Soil & Air EPCs'!$D$7:$E$9,2,FALSE)),VLOOKUP(E190,'Tab 5-7a Soil & Air EPCs'!$D$7:$E$9,2,FALSE),\"--\")","v":"--"},"--","--","--","--",{"$f":"IF(ISNUMBER(VLOOKUP(E190,'Tab 5-7a Soil & Air EPCs'!$D$7:$H$9,5,FALSE)),VLOOKUP(E190,'Tab 5-7a Soil & Air EPCs'!$D$7:$H$9,5,FALSE),\"--\")","v":"--"},"--","--",{"$f":"IF(ISNUMBER(VLOOKUP(E190,'Tab 5-7a Soil & Air EPCs'!$D$7:$F$9,3,FALSE)),VLOOKUP(E190,'Tab 5-7a Soil & Air EPCs'!$D$7:$F$9,3,FALSE),\"--\")","v":"--"},"--","--","--","--"]
[0,0,0,0,0,"--","--",{"$f":"IF(ISNUMBER(VLOOKUP(E191,'Tab 5-7a Soil & Air EPCs'!$D$7:$E$9,2,FALSE)),VLOOKUP(E191,'Tab 5-7a Soil & Air EPCs'!$D$7:$E$9,2,FALSE),\"--\")","v":"--"},"--","--","--","--",{"$f":"IF(ISNUMBER(VLOOKUP(E191,'Tab 5-7a Soil & Air EPCs'!$D$7:$H$9,5,FALSE)),VLOOKUP(E191,'Tab 5-7a Soil & Air EPCs'!$D$7:$H$9,5,FALSE),\"--\")","v":"--"},"--","--",{"$f":"IF(ISNUMBER(VLOOKUP(E191,'Tab 5-7a Soil & Air EPCs'!$D$7:$F$9,3,FALSE)),VLOOKUP(E191,'Tab 5-7a Soil & Air EPCs'!$D$7:$F$9,3,FALSE),\"--\")","v":"--"},"--","--","--","--"]
[0,0,0,0,0,"--","--",{"$f":"IF(ISNUMBER(VLOOKUP(E192,'Tab 5-7a Soil & Air EPCs'!$D$7:$E$9,2,FALSE)),VLOOKUP(E192,'Tab 5-7a Soil & Air EPCs'!$D$7:$E$9,2,FALSE),\"--\")","v":"--"},"--","--","--","--",{"$f":"IF(ISNUMBER(VLOOKUP(E192,'Tab 5-7a Soil & Air EPCs'!$D$7:$H$9,5,FALSE)),VLOOKUP(E192,'Tab 5-7a Soil & Air EPCs'!$D$7:$H$9,5,FALSE),\"--\")","v":"--"},"--","--",{"$f":"IF(ISNUMBER(VLOOKUP(E192,'Tab 5-7a Soil & Air EPCs'!$D$7:$F$9,3,FALSE)),VLOOKUP(E192,'Tab 5-7a Soil & Air EPCs'!$D$7:$F$9,3,FALSE),\"--\")","v":"--"},"--","--","--","--"]
[0,0,0,0,0,"--","--",{"$f":"IF(ISNUMBER(VLOOKUP(E193,'Tab 5-7a Soil & Air EPCs'!$D$7:$E$9,2,FALSE)),VLOOKUP(E193,'Tab 5-7a Soil & Air EPCs'!$D$7:$E$9,2,FALSE),\"--\")","v":"--"},"--","--","--","--",{"$f":"IF(ISNUMBER(VLOOKUP(E193,'Tab 5-7a Soil & Air EPCs'!$D$7:$H$9,5,FALSE)),VLOOKUP(E193,'Tab 5-7a Soil & Air EPCs'!$D$7:$H$9,5,FALSE),\"--\")","v":"--"},"--","--",{"$f":"IF(ISNUMBER(VLOOKUP(E193,'Tab 5-7a Soil & Air EPCs'!$D$7:$F$9,3,FALSE)),VLOOKUP(E193,'Tab 5-7a Soil & Air EPCs'!$D$7:$F$9,3,FALSE),\"--\")","v":"--"},"--","--","--","--"]
[0,0,0,0,0,"--","--",{"$f":"IF(ISNUMBER(VLOOKUP(E194,'Tab 5-7a Soil & Air EPCs'!$D$7:$E$9,2,FALSE)),VLOOKUP(E194,'Tab 5-7a Soil & Air EPCs'!$D$7:$E$9,2,FALSE),\"--\")","v":"--"},"--","--","--","--",{"$f":"IF(ISNUMBER(VLOOKUP(E194,'Tab 5-7a Soil & Air EPCs'!$D$7:$H$9,5,FALSE)),VLOOKUP(E194,'Tab 5-7a Soil & Air EPCs'!$D$7:$H$9,5,FALSE),\"--\")","v":"--"},"--","--",{"$f":"IF(ISNUMBER(VLOOKUP(E194,'Tab 5-7a Soil & Air EPCs'!$D$7:$F$9,3,FALSE)),VLOOKUP(E194,'Tab 5-7a Soil & Air EPCs'!$D$7:$F$9,3,FALSE),\"--\")","v":"--"},"--","--","--","--"]
[0,0,0,0,0,"--","--",{"$f":"IF(ISNUMBER(VLOOKUP(E195,'Tab 5-7a Soil & Air EPCs'!$D$7:$E$9,2,FALSE)),VLOOKUP(E195,'Tab 5-7a Soil & Air EPCs'!$D$7:$E$9,2,FALSE),\"--\")","v":"--"},"--","--","--","--",{"$f":"IF(ISNUMBER(VLOOKUP(E195,'Tab 5-7a Soil & Air EPCs'!$D$7:$H$9,5,FALSE)),VLOOKUP(E195,'Tab 5-7a Soil & Air EPCs'!$D$7:$H$9,5,FALSE),\"--\")","v":"--"},"--","--",{"$f":"IF(ISNUMBER(VLOOKUP(E195,'Tab 5-7a Soil & Air EPCs'!$D$7:$F$9,3,FALSE)),VLOOKUP(E195,'Tab 5-7a Soil & Air EPCs'!$D$7:$F$9,3,FALSE),\"--\")","v":"--"},"--","--","--","--"]
[0,0,0,0,0,"--","--",{"$f":"IF(ISNUMBER(VLOOKUP(E196,'Tab 5-7a Soil & Air EPCs'!$D$7:$E$9,2,FALSE)),VLOOKUP(E196,'Tab 5-7a Soil & Air EPCs'!$D$7:$E$9,2,FALSE),\"--\")","v":"--"},"--","--","--","--",{"$f":"IF(ISNUMBER(VLOOKUP(E196,'Tab 5-7a Soil & Air EPCs'!$D$7:$H$9,5,FALSE)),VLOOKUP(E196,'Tab 5-7a Soil & Air EPCs'!$D$7:$H$9,5,FALSE),\"--\")","v":"--"},"--","--",{"$f":"IF(ISNUMBER(VLOOKUP(E196,'Tab 5-7a Soil & Air EPCs'!$D$7:$F$9,3,FALSE)),VLOOKUP(E196,'Tab 5-7a Soil & Air EPCs'!$D$7:$F$9,3,FALSE),\"--\")","v":"--"},"--","--","--","--"]
[0,0,0,0,0,"--","--",{"$f":"IF(ISNUMBER(VLOOKUP(E197,'Tab 5-7a Soil & Air EPCs'!$D$7:$E$9,2,FALSE)),VLOOKUP(E197,'Tab 5-7a Soil & Air EPCs'!$D$7:$E$9,2,FALSE),\"--\")","v":"--"},"--","--","--","--",{"$f":"IF(ISNUMBER(VLOOKUP(E197,'Tab 5-7a Soil & Air EPCs'!$D$7:$H$9,5,FALSE)),VLOOKUP(E197,'Tab 5-7a Soil & Air EPCs'!$D$7:$H$9,5,FALSE),\"--\")","v":"--"},"--","--",{"$f":"IF(ISNUMBER(VLOOKUP(E197,'Tab 5-7a Soil & Air EPCs'!$D$7:$F$9,3,FALSE)),VLOOKUP(E197,'Tab 5-7a Soil & Air EPCs'!$D$7:$F$9,3,FALSE),\"--\")","v":"--"},"--","--","--","--"]
[0,0,0,0,0,"--","--",{"$f":"IF(ISNUMBER(VLOOKUP(E198,'Tab 5-7a Soil & Air EPCs'!$D$7:$E$9,2,FALSE)),VLOOKUP(E198,'Tab 5-7a Soil & Air EPCs'!$D$7:$E$9,2,FALSE),\"--\")","v":"--"},"--","--","--","--",{"$f":"IF(ISNUMBER(VLOOKUP(E198,'Tab 5-7a Soil & Air EPCs'!$D$7:$H$9,5,FALSE)),VLOOKUP(E198,'Tab 5-7a Soil & Air EPCs'!$D$7:$H$9,5,FALSE),\"--\")","v":"--"},"--","--",{"$f":"IF(ISNUMBER(VLOOKUP(E198,'Tab 5-7a Soil & Air EPCs'!$D$7:$F$9,3,FALSE)),VLOOKUP(E198,'Tab 5-7a Soil & Air EPCs'!$D$7:$F$9,3,FALSE),\"--\")","v":"--"},"--","--","--","--"]
[0,0,0,0,0,"--","--",{"$f":"IF(ISNUMBER(VLOOKUP(E199,'Tab 5-7a Soil & Air EPCs'!$D$7:$E$9,2,FALSE)),VLOOKUP(E199,'Tab 5-7a Soil & Air EPCs'!$D$7:$E$9,2,FALSE),\"--\")","v":"--"},"--","--","--","--",{"$f":"IF(ISNUMBER(VLOOKUP(E199,'Tab 5-7a Soil & Air EPCs'!$D$7:$H$9,5,FALSE)),VLOOKUP(E199,'Tab 5-7a Soil & Air EPCs'!$D$7:$H$9,5,FALSE),\"--\")","v":"--"},"--","--",{"$f":"IF(ISNUMBER(VLOOKUP(E199,'Tab 5-7a Soil & Air EPCs'!$D$7:$F$9,3,FALSE)),VLOOKUP(E199,'Tab 5-7a Soil & Air EPCs'!$D$7:$F$9,3,FALSE),\"--\")","v":"--"},"--","--","--","--"]
[0,0,0,0,0,"--","--",{"$f":"IF(ISNUMBER(VLOOKUP(E200,'Tab 5-7a Soil & Air EPCs'!$D$7:$E$9,2,FALSE)),VLOOKUP(E200,'Tab 5-7a Soil & Air EPCs'!$D$7:$E$9,2,FALSE),\"--\")","v":"--"},"--","--","--","--",{"$f":"IF(ISNUMBER(VLOOKUP(E200,'Tab 5-7a Soil & Air EPCs'!$D$7:$H$9,5,FALSE)),VLOOKUP(E200,'Tab 5-7a Soil & Air EPCs'!$D$7:$H$9,5,FALSE),\"--\")","v":"--"},"--","--",{"$f":"IF(ISNUMBER(VLOOKUP(E200,'Tab 5-7a Soil & Air EPCs'!$D$7:$F$9,3,FALSE)),VLOOKUP(E200,'Tab 5-7a Soil & Air EPCs'!$D$7:$F$9,3,FALSE),\"--\")","v":"--"},"--","--","--","--"]
[0,0,0,0,0,"--","--",{"$f":"IF(ISNUMBER(VLOOKUP(E201,'Tab 5-7a Soil & Air EPCs'!$D$7:$E$9,2,FALSE)),VLOOKUP(E201,'Tab 5-7a Soil & Air EPCs'!$D$7:$E$9,2,FALSE),\"--\")","v":"--"},"--","--","--","--",{"$f":"IF(ISNUMBER(VLOOKUP(E201,'Tab 5-7a Soil & Air EPCs'!$D$7:$H$9,5,FALSE)),VLOOKUP(E201,'Tab 5-7a Soil & Air EPCs'!$D$7:$H$9,5,FALSE),\"--\")","v":"--"},"--","--",{"$f":"IF(ISNUMBER(VLOOKUP(E201,'Tab 5-7a Soil & Air EPCs'!$D$7:$F$9,3,FALSE)),VLOOKUP(E201,'Tab 5-7a Soil & Air EPCs'!$D$7:$F$9,3,FALSE),\"--\")","v":"--"},"--","--","--","--"]
[0,0,0,0,0,"--","--",{"$f":"IF(ISNUMBER(VLOOKUP(E202,'Tab 5-7a Soil & Air EPCs'!$D$7:$E$9,2,FALSE)),VLOOKUP(E202,'Tab 5-7a Soil & Air EPCs'!$D$7:$E$9,2,FALSE),\"--\")","v":"--"},"--","--","--","--",{"$f":"IF(ISNUMBER(VLOOKUP(E202,'Tab 5-7a Soil & Air EPCs'!$D$7:$H$9,5,FALSE)),VLOOKUP(E202,'Tab 5-7a Soil & Air EPCs'!$D$7:$H$9,5,FALSE),\"--\")","v":"--"},"--","--",{"$f":"IF(ISNUMBER(VLOOKUP(E202,'Tab 5-7a Soil & Air EPCs'!$D$7:$F$9,3,FALSE)),VLOOKUP(E202,'Tab 5-7a Soil & Air EPCs'!$D$7:$F$9,3,FALSE),\"--\")","v":"--"},"--","--","--","--"]
[0,0,0,0,0,"--","--",{"$f":"IF(ISNUMBER(VLOOKUP(E203,'Tab 5-7a Soil & Air EPCs'!$D$7:$E$9,2,FALSE)),VLOOKUP(E203,'Tab 5-7a Soil & Air EPCs'!$D$7:$E$9,2,FALSE),\"--\")","v":"--"},"--","--","--","--",{"$f":"IF(ISNUMBER(VLOOKUP(E203,'Tab 5-7a Soil & Air EPCs'!$D$7:$H$9,5,FALSE)),VLOOKUP(E203,'Tab 5-7a Soil & Air EPCs'!$D$7:$H$9,5,FALSE),\"--\")","v":"--"},"--","--",{"$f":"IF(ISNUMBER(VLOOKUP(E203,'Tab 5-7a Soil & Air EPCs'!$D$7:$F$9,3,FALSE)),VLOOKUP(E203,'Tab 5-7a Soil & Air EPCs'!$D$7:$F$9,3,FALSE),\"--\")","v":"--"},"--","--","--","--"]
[0,0,0,0,0,"--","--",{"$f":"IF(ISNUMBER(VLOOKUP(E204,'Tab 5-7a Soil & Air EPCs'!$D$7:$E$9,2,FALSE)),VLOOKUP(E204,'Tab 5-7a Soil & Air EPCs'!$D$7:$E$9,2,FALSE),\"--\")","v":"--"},"--","--","--","--",{"$f":"IF(ISNUMBER(VLOOKUP(E204,'Tab 5-7a Soil & Air EPCs'!$D$7:$H$9,5,FALSE)),VLOOKUP(E204,'Tab 5-7a Soil & Air EPCs'!$D$7:$H$9,5,FALSE),\"--\")","v":"--"},"--","--",{"$f":"IF(ISNUMBER(VLOOKUP(E204,'Tab 5-7a Soil & Air EPCs'!$D$7:$F$9,3,FALSE)),VLOOKUP(E204,'Tab 5-7a Soil & Air EPCs'!$D$7:$F$9,3,FALSE),\"--\")","v":"--"},"--","--",{"$f":"IF(SUM(I204,N204,Q204)>0,SUM(I204,N204,Q204),\"--\")","v":"--"},{"$f":"IF(SUM(J204,O204,R204)>0,SUM(J204,O204,R204),\"--\")","v":"--"}]
[0,0,0,0,0,"--","--",{"$f":"IF(ISNUMBER(VLOOKUP(E205,'Tab 5-7a Soil & Air EPCs'!$D$7:$E$9,2,FALSE)),VLOOKUP(E205,'Tab 5-7a Soil & Air EPCs'!$D$7:$E$9,2,FALSE),\"--\")","v":"--"},"--","--","--","--",{"$f":"IF(ISNUMBER(VLOOKUP(E205,'Tab 5-7a Soil & Air EPCs'!$D$7:$H$9,5,FALSE)),VLOOKUP(E205,'Tab 5-7a Soil & Air EPCs'!$D$7:$H$9,5,FALSE),\"--\")","v":"--"},"--","--",{"$f":"IF(ISNUMBER(VLOOKUP(E205,'Tab 5-7a Soil & Air EPCs'!$D$7:$F$9,3,FALSE)),VLOOKUP(E205,'Tab 5-7a Soil & Air EPCs'!$D$7:$F$9,3,FALSE),\"--\")","v":"--"},"--","--","--","--"]
[0,0,0,0,0,"--","--",{"$f":"IF(ISNUMBER(VLOOKUP(E206,'Tab 5-7a Soil & Air EPCs'!$D$7:$E$9,2,FALSE)),VLOOKUP(E206,'Tab 5-7a Soil & Air EPCs'!$D$7:$E$9,2,FALSE),\"--\")","v":"--"},"--","--","--","--",{"$f":"IF(ISNUMBER(VLOOKUP(E206,'Tab 5-7a Soil & Air EPCs'!$D$7:$H$9,5,FALSE)),VLOOKUP(E206,'Tab 5-7a Soil & Air EPCs'!$D$7:$H$9,5,FALSE),\"--\")","v":"--"},"--","--",{"$f":"IF(ISNUMBER(VLOOKUP(E206,'Tab 5-7a Soil & Air EPCs'!$D$7:$F$9,3,FALSE)),VLOOKUP(E206,'Tab 5-7a Soil & Air EPCs'!$D$7:$F$9,3,FALSE),\"--\")","v":"--"},"--","--","--","--"]
[0,0,0,0,0,"--","--",{"$f":"IF(ISNUMBER(VLOOKUP(E207,'Tab 5-7a Soil & Air EPCs'!$D$7:$E$9,2,FALSE)),VLOOKUP(E207,'Tab 5-7a Soil & Air EPCs'!$D$7:$E$9,2,FALSE),\"--\")","v":"--"},"--","--","--","--",{"$f":"IF(ISNUMBER(VLOOKUP(E207,'Tab 5-7a Soil & Air EPCs'!$D$7:$H$9,5,FALSE)),VLOOKUP(E207,'Tab 5-7a Soil & Air EPCs'!$D$7:$H$9,5,FALSE),\"--\")","v":"--"},"--","--",{"$f":"IF(ISNUMBER(VLOOKUP(E207,'Tab 5-7a Soil & Air EPCs'!$D$7:$F$9,3,FALSE)),VLOOKUP(E207,'Tab 5-7a Soil & Air EPCs'!$D$7:$F$9,3,FALSE),\"--\")","v":"--"},"--","--","--","--"]
[0,0,0,0,0,"--","--",{"$f":"IF(ISNUMBER(VLOOKUP(E208,'Tab 5-7a Soil & Air EPCs'!$D$7:$E$9,2,FALSE)),VLOOKUP(E208,'Tab 5-7a Soil & Air EPCs'!$D$7:$E$9,2,FALSE),\"--\")","v":"--"},"--","--","--","--",{"$f":"IF(ISNUMBER(VLOOKUP(E208,'Tab 5-7a Soil & Air EPCs'!$D$7:$H$9,5,FALSE)),VLOOKUP(E208,'Tab 5-7a Soil & Air EPCs'!$D$7:$H$9,5,FALSE),\"--\")","v":"--"},"--","--",{"$f":"IF(ISNUMBER(VLOOKUP(E208,'Tab 5-7a Soil & Air EPCs'!$D$7:$F$9,3,FALSE)),VLOOKUP(E208,'Tab 5-7a Soil & Air EPCs'!$D$7:$F$9,3,FALSE),\"--\")","v":"--"},"--","--","--","--"]
[0,0,0,0,0,"--","--",{"$f":"IF(ISNUMBER(VLOOKUP(E209,'Tab 5-7a Soil & Air EPCs'!$D$7:$E$9,2,FALSE)),VLOOKUP(E209,'Tab 5-7a Soil & Air EPCs'!$D$7:$E$9,2,FALSE),\"--\")","v":"--"},"--","--","--","--",{"$f":"IF(ISNUMBER(VLOOKUP(E209,'Tab 5-7a Soil & Air EPCs'!$D$7:$H$9,5,FALSE)),VLOOKUP(E209,'Tab 5-7a Soil & Air EPCs'!$D$7:$H$9,5,FALSE),\"--\")","v":"--"},"--","--",{"$f":"IF(ISNUMBER(VLOOKUP(E209,'Tab 5-7a Soil & Air EPCs'!$D$7:$F$9,3,FALSE)),VLOOKUP(E209,'Tab 5-7a Soil & Air EPCs'!$D$7:$F$9,3,FALSE),\"--\")","v":"--"},"--","--","--","--"]
[0,0,0,0,0,"--","--",{"$f":"IF(ISNUMBER(VLOOKUP(E210,'Tab 5-7a Soil & Air EPCs'!$D$7:$E$9,2,FALSE)),VLOOKUP(E210,'Tab 5-7a Soil & Air EPCs'!$D$7:$E$9,2,FALSE),\"--\")","v":"--"},"--","--","--","--",{"$f":"IF(ISNUMBER(VLOOKUP(E210,'Tab 5-7a Soil & Air EPCs'!$D$7:$H$9,5,FALSE)),VLOOKUP(E210,'Tab 5-7a Soil & Air EPCs'!$D$7:$H$9,5,FALSE),\"--\")","v":"--"},"--","--",{"$f":"IF(ISNUMBER(VLOOKUP(E210,'Tab 5-7a Soil & Air EPCs'!$D$7:$F$9,3,FALSE)),VLOOKUP(E210,'Tab 5-7a Soil & Air EPCs'!$D$7:$F$9,3,FALSE),\"--\")","v":"--"},"--","--","--","--"]
[0,0,0,0,0,"--","--",{"$f":"IF(ISNUMBER(VLOOKUP(E211,'Tab 5-7a Soil & Air EPCs'!$D$7:$E$9,2,FALSE)),VLOOKUP(E211,'Tab 5-7a Soil & Air EPCs'!$D$7:$E$9,2,FALSE),\"--\")","v":"--"},"--","--","--","--",{"$f":"IF(ISNUMBER(VLOOKUP(E211,'Tab 5-7a Soil & Air EPCs'!$D$7:$H$9,5,FALSE)),VLOOKUP(E211,'Tab 5-7a Soil & Air EPCs'!$D$7:$H$9,5,FALSE),\"--\")","v":"--"},"--","--",{"$f":"IF(ISNUMBER(VLOOKUP(E211,'Tab 5-7a Soil & Air EPCs'!$D$7:$F$9,3,FALSE)),VLOOKUP(E211,'Tab 5-7a Soil & Air EPCs'!$D$7:$F$9,3,FALSE),\"--\")","v":"--"},"--","--","--","--"]
[0,0,0,0,0,"--","--",{"$f":"IF(ISNUMBER(VLOOKUP(E212,'Tab 5-7a Soil & Air EPCs'!$D$7:$E$9,2,FALSE)),VLOOKUP(E212,'Tab 5-7a Soil & Air EPCs'!$D$7:$E$9,2,FALSE),\"--\")","v":"--"},"--","--","--","--",{"$f":"IF(ISNUMBER(VLOOKUP(E212,'Tab 5-7a Soil & Air EPCs'!$D$7:$H$9,5,FALSE)),VLOOKUP(E212,'Tab 5-7a Soil & Air EPCs'!$D$7:$H$9,5,FALSE),\"--\")","v":"--"},"--","--",{"$f":"IF(ISNUMBER(VLOOKUP(E212,'Tab 5-7a Soil & Air EPCs'!$D$7:$F$9,3,FALSE)),VLOOKUP(E212,'Tab 5-7a Soil & Air EPCs'!$D$7:$F$9,3,FALSE),\"--\")","v":"--"},"--","--","--","--"]
[0,0,0,0,0,"--","--",{"$f":"IF(ISNUMBER(VLOOKUP(E213,'Tab 5-7a Soil & Air EPCs'!$D$7:$E$9,2,FALSE)),VLOOKUP(E213,'Tab 5-7a Soil & Air EPCs'!$D$7:$E$9,2,FALSE),\"--\")","v":"--"},"--","--","--","--",{"$f":"IF(ISNUMBER(VLOOKUP(E213,'Tab 5-7a Soil & Air EPCs'!$D$7:$H$9,5,FALSE)),VLOOKUP(E213,'Tab 5-7a Soil & Air EPCs'!$D$7:$H$9,5,FALSE),\"--\")","v":"--"},"--","--",{"$f":"IF(ISNUMBER(VLOOKUP(E213,'Tab 5-7a Soil & Air EPCs'!$D$7:$F$9,3,FALSE)),VLOOKUP(E213,'Tab 5-7a Soil & Air EPCs'!$D$7:$F$9,3,FALSE),\"--\")","v":"--"},"--","--","--","--"]
[0,0,0,0,0,"--","--",{"$f":"IF(ISNUMBER(VLOOKUP(E214,'Tab 5-7a Soil & Air EPCs'!$D$7:$E$9,2,FALSE)),VLOOKUP(E214,'Tab 5-7a Soil & Air EPCs'!$D$7:$E$9,2,FALSE),\"--\")","v":"--"},"--","--","--","--",{"$f":"IF(ISNUMBER(VLOOKUP(E214,'Tab 5-7a Soil & Air EPCs'!$D$7:$H$9,5,FALSE)),VLOOKUP(E214,'Tab 5-7a Soil & Air EPCs'!$D$7:$H$9,5,FALSE),\"--\")","v":"--"},"--","--",{"$f":"IF(ISNUMBER(VLOOKUP(E214,'Tab 5-7a Soil & Air EPCs'!$D$7:$F$9,3,FALSE)),VLOOKUP(E214,'Tab 5-7a Soil & Air EPCs'!$D$7:$F$9,3,FALSE),\"--\")","v":"--"},"--","--","--","--"]
[0,0,0,0,0,"--","--",{"$f":"IF(ISNUMBER(VLOOKUP(E215,'Tab 5-7a Soil & Air EPCs'!$D$7:$E$9,2,FALSE)),VLOOKUP(E215,'Tab 5-7a Soil & Air EPCs'!$D$7:$E$9,2,FALSE),\"--\")","v":"--"},"--","--","--","--",{"$f":"IF(ISNUMBER(VLOOKUP(E215,'Tab 5-7a Soil & Air EPCs'!$D$7:$H$9,5,FALSE)),VLOOKUP(E215,'Tab 5-7a Soil & Air EPCs'!$D$7:$H$9,5,FALSE),\"--\")","v":"--"},"--","--",{"$f":"IF(ISNUMBER(VLOOKUP(E215,'Tab 5-7a Soil & Air EPCs'!$D$7:$F$9,3,FALSE)),VLOOKUP(E215,'Tab 5-7a Soil & Air EPCs'!$D$7:$F$9,3,FALSE),\"--\")","v":"--"},"--","--","--","--"]
[0,0,0,0,0,"--","--",{"$f":"IF(ISNUMBER(VLOOKUP(E216,'Tab 5-7a Soil & Air EPCs'!$D$7:$E$9,2,FALSE)),VLOOKUP(E216,'Tab 5-7a Soil & Air EPCs'!$D$7:$E$9,2,FALSE),\"--\")","v":"--"},"--","--","--","--",{"$f":"IF(ISNUMBER(VLOOKUP(E216,'Tab 5-7a Soil & Air EPCs'!$D$7:$H$9,5,FALSE)),VLOOKUP(E216,'Tab 5-7a Soil & Air EPCs'!$D$7:$H$9,5,FALSE),\"--\")","v":"--"},"--","--",{"$f":"IF(ISNUMBER(VLOOKUP(E216,'Tab 5-7a Soil & Air EPCs'!$D$7:$F$9,3,FALSE)),VLOOKUP(E216,'Tab 5-7a Soil & Air EPCs'!$D$7:$F$9,3,FALSE),\"--\")","v":"--"},"--","--","--","--"]
[0,0,0,0,0,"--","--",{"$f":"IF(ISNUMBER(VLOOKUP(E217,'Tab 5-7a Soil & Air EPCs'!$D$7:$E$9,2,FALSE)),VLOOKUP(E217,'Tab 5-7a Soil & Air EPCs'!$D$7:$E$9,2,FALSE),\"--\")","v":"--"},"--","--","--","--",{"$f":"IF(ISNUMBER(VLOOKUP(E217,'Tab 5-7a Soil & Air EPCs'!$D$7:$H$9,5,FALSE)),VLOOKUP(E217,'Tab 5-7a Soil & Air EPCs'!$D$7:$H$9,5,FALSE),\"--\")","v":"--"},"--","--",{"$f":"IF(ISNUMBER(VLOOKUP(E217,'Tab 5-7a Soil & Air EPCs'!$D$7:$F$9,3,FALSE)),VLOOKUP(E217,'Tab 5-7a Soil & Air EPCs'!$D$7:$F$9,3,FALSE),\"--\")","v":"--"},"--","--","--","--"]
[0,0,0,0,0,"--","--",{"$f":"IF(ISNUMBER(VLOOKUP(E218,'Tab 5-7a Soil & Air EPCs'!$D$7:$E$9,2,FALSE)),VLOOKUP(E218,'Tab 5-7a Soil & Air EPCs'!$D$7:$E$9,2,FALSE),\"--\")","v":"--"},"--","--","--","--",{"$f":"IF(ISNUMBER(VLOOKUP(E218,'Tab 5-7a Soil & Air EPCs'!$D$7:$H$9,5,FALSE)),VLOOKUP(E218,'Tab 5-7a Soil & Air EPCs'!$D$7:$H$9,5,FALSE),\"--\")","v":"--"},"--","--",{"$f":"IF(ISNUMBER(VLOOKUP(E218,'Tab 5-7a Soil & Air EPCs'!$D$7:$F$9,3,FALSE)),VLOOKUP(E218,'Tab 5-7a Soil & Air EPCs'!$D$7:$F$9,3,FALSE),\"--\")","v":"--"},"--","--","--","--"]
[0,0,0,0,0,"--","--",{"$f":"IF(ISNUMBER(VLOOKUP(E219,'Tab 5-7a Soil & Air EPCs'!$D$7:$E$9,2,FALSE)),VLOOKUP(E219,'Tab 5-7a Soil & Air EPCs'!$D$7:$E$9,2,FALSE),\"--\")","v":"--"},"--","--","--","--",{"$f":"IF(ISNUMBER(VLOOKUP(E219,'Tab 5-7a Soil & Air EPCs'!$D$7:$H$9,5,FALSE)),VLOOKUP(E219,'Tab 5-7a Soil & Air EPCs'!$D$7:$H$9,5,FALSE),\"--\")","v":"--"},"--","--",{"$f":"IF(ISNUMBER(VLOOKUP(E219,'Tab 5-7a Soil & Air EPCs'!$D$7:$F$9,3,FALSE)),VLOOKUP(E219,'Tab 5-7a Soil & Air EPCs'!$D$7:$F$9,3,FALSE),\"--\")","v":"--"},"--","--","--","--"]
[0,0,0,0,0,"--","--",{"$f":"IF(ISNUMBER(VLOOKUP(E220,'Tab 5-7a Soil & Air EPCs'!$D$7:$E$9,2,FALSE)),VLOOKUP(E220,'Tab 5-7a Soil & Air EPCs'!$D$7:$E$9,2,FALSE),\"--\")","v":"--"},"--","--","--","--",{"$f":"IF(ISNUMBER(VLOOKUP(E220,'Tab 5-7a Soil & Air EPCs'!$D$7:$H$9,5,FALSE)),VLOOKUP(E220,'Tab 5-7a Soil & Air EPCs'!$D$7:$H$9,5,FALSE),\"--\")","v":"--"},"--","--",{"$f":"IF(ISNUMBER(VLOOKUP(E220,'Tab 5-7a Soil & Air EPCs'!$D$7:$F$9,3,FALSE)),VLOOKUP(E220,'Tab 5-7a Soil & Air EPCs'!$D$7:$F$9,3,FALSE),\"--\")","v":"--"},"--","--","--","--"]
[0,0,0,0,0,"--","--",{"$f":"IF(ISNUMBER(VLOOKUP(E221,'Tab 5-7a Soil & Air EPCs'!$D$7:$E$9,2,FALSE)),VLOOKUP(E221,'Tab 5-7a Soil & Air EPCs'!$D$7:$E$9,2,FALSE),\"--\")","v":"--"},"--","--","--","--",{"$f":"IF(ISNUMBER(VLOOKUP(E221,'Tab 5-7a Soil & Air EPCs'!$D$7:$H$9,5,FALSE)),VLOOKUP(E221,'Tab 5-7a Soil & Air EPCs'!$D$7:$H$9,5,FALSE),\"--\")","v":"--"},"--","--",{"$f":"IF(ISNUMBER(VLOOKUP(E221,'Tab 5-7a Soil & Air EPCs'!$D$7:$F$9,3,FALSE)),VLOOKUP(E221,'Tab 5-7a Soil & Air EPCs'!$D$7:$F$9,3,FALSE),\"--\")","v":"--"},"--","--","--","--"]
[0,0,0,0,0,"--","--",{"$f":"IF(ISNUMBER(VLOOKUP(E222,'Tab 5-7a Soil & Air EPCs'!$D$7:$E$9,2,FALSE)),VLOOKUP(E222,'Tab 5-7a Soil & Air EPCs'!$D$7:$E$9,2,FALSE),\"--\")","v":"--"},"--","--","--","--",{"$f":"IF(ISNUMBER(VLOOKUP(E222,'Tab 5-7a Soil & Air EPCs'!$D$7:$H$9,5,FALSE)),VLOOKUP(E222,'Tab 5-7a Soil & Air EPCs'!$D$7:$H$9,5,FALSE),\"--\")","v":"--"},"--","--",{"$f":"IF(ISNUMBER(VLOOKUP(E222,'Tab 5-7a Soil & Air EPCs'!$D$7:$F$9,3,FALSE)),VLOOKUP(E222,'Tab 5-7a Soil & Air EPCs'!$D$7:$F$9,3,FALSE),\"--\")","v":"--"},"--","--","--","--"]
[0,0,0,0,0,"--","--",{"$f":"IF(ISNUMBER(VLOOKUP(E223,'Tab 5-7a Soil & Air EPCs'!$D$7:$E$9,2,FALSE)),VLOOKUP(E223,'Tab 5-7a Soil & Air EPCs'!$D$7:$E$9,2,FALSE),\"--\")","v":"--"},"--","--","--","--",{"$f":"IF(ISNUMBER(VLOOKUP(E223,'Tab 5-7a Soil & Air EPCs'!$D$7:$H$9,5,FALSE)),VLOOKUP(E223,'Tab 5-7a Soil & Air EPCs'!$D$7:$H$9,5,FALSE),\"--\")","v":"--"},"--","--",{"$f":"IF(ISNUMBER(VLOOKUP(E223,'Tab 5-7a Soil & Air EPCs'!$D$7:$F$9,3,FALSE)),VLOOKUP(E223,'Tab 5-7a Soil & Air EPCs'!$D$7:$F$9,3,FALSE),\"--\")","v":"--"},"--","--","--","--"]
[0,0,0,0,0,"--","--",{"$f":"IF(ISNUMBER(VLOOKUP(E224,'Tab 5-7a Soil & Air EPCs'!$D$7:$E$9,2,FALSE)),VLOOKUP(E224,'Tab 5-7a Soil & Air EPCs'!$D$7:$E$9,2,FALSE),\"--\")","v":"--"},"--","--","--","--",{"$f":"IF(ISNUMBER(VLOOKUP(E224,'Tab 5-7a Soil & Air EPCs'!$D$7:$H$9,5,FALSE)),VLOOKUP(E224,'Tab 5-7a Soil & Air EPCs'!$D$7:$H$9,5,FALSE),\"--\")","v":"--"},"--","--",{"$f":"IF(ISNUMBER(VLOOKUP(E224,'Tab 5-7a Soil & Air EPCs'!$D$7:$F$9,3,FALSE)),VLOOKUP(E224,'Tab 5-7a Soil & Air EPCs'!$D$7:$F$9,3,FALSE),\"--\")","v":"--"},"--","--","--","--"]
[0,0,0,0,0,"--","--",{"$f":"IF(ISNUMBER(VLOOKUP(E225,'Tab 5-7a Soil & Air EPCs'!$D$7:$E$9,2,FALSE)),VLOOKUP(E225,'Tab 5-7a Soil & Air EPCs'!$D$7:$E$9,2,FALSE),\"--\")","v":"--"},"--","--","--","--",{"$f":"IF(ISNUMBER(VLOOKUP(E225,'Tab 5-7a Soil & Air EPCs'!$D$7:$H$9,5,FALSE)),VLOOKUP(E225,'Tab 5-7a Soil & Air EPCs'!$D$7:$H$9,5,FALSE),\"--\")","v":"--"},"--","--",{"$f":"IF(ISNUMBER(VLOOKUP(E225,'Tab 5-7a Soil & Air EPCs'!$D$7:$F$9,3,FALSE)),VLOOKUP(E225,'Tab 5-7a Soil & Air EPCs'!$D$7:$F$9,3,FALSE),\"--\")","v":"--"},"--","--","--","--"]
[0,0,0,0,0,"--","--",{"$f":"IF(ISNUMBER(VLOOKUP(E226,'Tab 5-7a Soil & Air EPCs'!$D$7:$E$9,2,FALSE)),VLOOKUP(E226,'Tab 5-7a Soil & Air EPCs'!$D$7:$E$9,2,FALSE),\"--\")","v":"--"},"--","--","--","--",{"$f":"IF(ISNUMBER(VLOOKUP(E226,'Tab 5-7a Soil & Air EPCs'!$D$7:$H$9,5,FALSE)),VLOOKUP(E226,'Tab 5-7a Soil & Air EPCs'!$D$7:$H$9,5,FALSE),\"--\")","v":"--"},"--","--",{"$f":"IF(ISNUMBER(VLOOKUP(E226,'Tab 5-7a Soil & Air EPCs'!$D$7:$F$9,3,FALSE)),VLOOKUP(E226,'Tab 5-7a Soil & Air EPCs'!$D$7:$F$9,3,FALSE),\"--\")","v":"--"},"--","--","--","--"]
[0,0,0,0,0,"--","--",{"$f":"IF(ISNUMBER(VLOOKUP(E227,'Tab 5-7a Soil & Air EPCs'!$D$7:$E$9,2,FALSE)),VLOOKUP(E227,'Tab 5-7a Soil & Air EPCs'!$D$7:$E$9,2,FALSE),\"--\")","v":"--"},"--","--","--","--",{"$f":"IF(ISNUMBER(VLOOKUP(E227,'Tab 5-7a Soil & Air EPCs'!$D$7:$H$9,5,FALSE)),VLOOKUP(E227,'Tab 5-7a Soil & Air EPCs'!$D$7:$H$9,5,FALSE),\"--\")","v":"--"},"--","--",{"$f":"IF(ISNUMBER(VLOOKUP(E227,'Tab 5-7a Soil & Air EPCs'!$D$7:$F$9,3,FALSE)),VLOOKUP(E227,'Tab 5-7a Soil & Air EPCs'!$D$7:$F$9,3,FALSE),\"--\")","v":"--"},"--","--","--","--"]
[0,0,0,0,0,"--","--",{"$f":"IF(ISNUMBER(VLOOKUP(E228,'Tab 5-7a Soil & Air EPCs'!$D$7:$E$9,2,FALSE)),VLOOKUP(E228,'Tab 5-7a Soil & Air EPCs'!$D$7:$E$9,2,FALSE),\"--\")","v":"--"},"--","--","--","--",{"$f":"IF(ISNUMBER(VLOOKUP(E228,'Tab 5-7a Soil & Air EPCs'!$D$7:$H$9,5,FALSE)),VLOOKUP(E228,'Tab 5-7a Soil & Air EPCs'!$D$7:$H$9,5,FALSE),\"--\")","v":"--"},"--","--",{"$f":"IF(ISNUMBER(VLOOKUP(E228,'Tab 5-7a Soil & Air EPCs'!$D$7:$F$9,3,FALSE)),VLOOKUP(E228,'Tab 5-7a Soil & Air EPCs'!$D$7:$F$9,3,FALSE),\"--\")","v":"--"},"--","--","--","--"]
[0,0,0,0,0,"--","--",{"$f":"IF(ISNUMBER(VLOOKUP(E229,'Tab 5-7a Soil & Air EPCs'!$D$7:$E$9,2,FALSE)),VLOOKUP(E229,'Tab 5-7a Soil & Air EPCs'!$D$7:$E$9,2,FALSE),\"--\")","v":"--"},"--","--","--","--",{"$f":"IF(ISNUMBER(VLOOKUP(E229,'Tab 5-7a Soil & Air EPCs'!$D$7:$H$9,5,FALSE)),VLOOKUP(E229,'Tab 5-7a Soil & Air EPCs'!$D$7:$H$9,5,FALSE),\"--\")","v":"--"},"--","--",{"$f":"IF(ISNUMBER(VLOOKUP(E229,'Tab 5-7a Soil & Air EPCs'!$D$7:$F$9,3,FALSE)),VLOOKUP(E229,'Tab 5-7a Soil & Air EPCs'!$D$7:$F$9,3,FALSE),\"--\")","v":"--"},"--","--","--","--"]
[0,0,0,0,0,"--","--",{"$f":"IF(ISNUMBER(VLOOKUP(E230,'Tab 5-7a Soil & Air EPCs'!$D$7:$E$9,2,FALSE)),VLOOKUP(E230,'Tab 5-7a Soil & Air EPCs'!$D$7:$E$9,2,FALSE),\"--\")","v":"--"},"--","--","--","--",{"$f":"IF(ISNUMBER(VLOOKUP(E230,'Tab 5-7a Soil & Air EPCs'!$D$7:$H$9,5,FALSE)),VLOOKUP(E230,'Tab 5-7a Soil & Air EPCs'!$D$7:$H$9,5,FALSE),\"--\")","v":"--"},"--","--",{"$f":"IF(ISNUMBER(VLOOKUP(E230,'Tab 5-7a Soil & Air EPCs'!$D$7:$F$9,3,FALSE)),VLOOKUP(E230,'Tab 5-7a Soil & Air EPCs'!$D$7:$F$9,3,FALSE),\"--\")","v":"--"},"--","--","--","--"]
[0,0,0,0,0,"--","--",{"$f":"IF(ISNUMBER(VLOOKUP(E231,'Tab 5-7a Soil & Air EPCs'!$D$7:$E$9,2,FALSE)),VLOOKUP(E231,'Tab 5-7a Soil & Air EPCs'!$D$7:$E$9,2,FALSE),\"--\")","v":"--"},"--","--","--","--",{"$f":"IF(ISNUMBER(VLOOKUP(E231,'Tab 5-7a Soil & Air EPCs'!$D$7:$H$9,5,FALSE)),VLOOKUP(E231,'Tab 5-7a Soil & Air EPCs'!$D$7:$H$9,5,FALSE),\"--\")","v":"--"},"--","--",{"$f":"IF(ISNUMBER(VLOOKUP(E231,'Tab 5-7a Soil & Air EPCs'!$D$7:$F$9,3,FALSE)),VLOOKUP(E231,'Tab 5-7a Soil & Air EPCs'!$D$7:$F$9,3,FALSE),\"--\")","v":"--"},"--","--","--","--"]
[0,0,0,0,0,"--","--",{"$f":"IF(ISNUMBER(VLOOKUP(E232,'Tab 5-7a Soil & Air EPCs'!$D$7:$E$9,2,FALSE)),VLOOKUP(E232,'Tab 5-7a Soil & Air EPCs'!$D$7:$E$9,2,FALSE),\"--\")","v":"--"},"--","--","--","--",{"$f":"IF(ISNUMBER(VLOOKUP(E232,'Tab 5-7a Soil & Air EPCs'!$D$7:$H$9,5,FALSE)),VLOOKUP(E232,'Tab 5-7a Soil & Air EPCs'!$D$7:$H$9,5,FALSE),\"--\")","v":"--"},"--","--",{"$f":"IF(ISNUMBER(VLOOKUP(E232,'Tab 5-7a Soil & Air EPCs'!$D$7:$F$9,3,FALSE)),VLOOKUP(E232,'Tab 5-7a Soil & Air EPCs'!$D$7:$F$9,3,FALSE),\"--\")","v":"--"},"--","--","--","--"]
[0,0,0,0,0,"--","--",{"$f":"IF(ISNUMBER(VLOOKUP(E233,'Tab 5-7a Soil & Air EPCs'!$D$7:$E$9,2,FALSE)),VLOOKUP(E233,'Tab 5-7a Soil & Air EPCs'!$D$7:$E$9,2,FALSE),\"--\")","v":"--"},"--","--","--","--",{"$f":"IF(ISNUMBER(VLOOKUP(E233,'Tab 5-7a Soil & Air EPCs'!$D$7:$H$9,5,FALSE)),VLOOKUP(E233,'Tab 5-7a Soil & Air EPCs'!$D$7:$H$9,5,FALSE),\"--\")","v":"--"},"--","--",{"$f":"IF(ISNUMBER(VLOOKUP(E233,'Tab 5-7a Soil & Air EPCs'!$D$7:$F$9,3,FALSE)),VLOOKUP(E233,'Tab 5-7a Soil & Air EPCs'!$D$7:$F$9,3,FALSE),\"--\")","v":"--"},"--","--","--","--"]
[0,0,0,0,0,"--","--",{"$f":"IF(ISNUMBER(VLOOKUP(E234,'Tab 5-7a Soil & Air EPCs'!$D$7:$E$9,2,FALSE)),VLOOKUP(E234,'Tab 5-7a Soil & Air EPCs'!$D$7:$E$9,2,FALSE),\"--\")","v":"--"},"--","--","--","--",{"$f":"IF(ISNUMBER(VLOOKUP(E234,'Tab 5-7a Soil & Air EPCs'!$D$7:$H$9,5,FALSE)),VLOOKUP(E234,'Tab 5-7a Soil & Air EPCs'!$D$7:$H$9,5,FALSE),\"--\")","v":"--"},"--","--",{"$f":"IF(ISNUMBER(VLOOKUP(E234,'Tab 5-7a Soil & Air EPCs'!$D$7:$F$9,3,FALSE)),VLOOKUP(E234,'Tab 5-7a Soil & Air EPCs'!$D$7:$F$9,3,FALSE),\"--\")","v":"--"},"--","--","--","--"]
[0,0,0,0,0,"--","--",{"$f":"IF(ISNUMBER(VLOOKUP(E235,'Tab 5-7a Soil & Air EPCs'!$D$7:$E$9,2,FALSE)),VLOOKUP(E235,'Tab 5-7a Soil & Air EPCs'!$D$7:$E$9,2,FALSE),\"--\")","v":"--"},"--","--","--","--",{"$f":"IF(ISNUMBER(VLOOKUP(E235,'Tab 5-7a Soil & Air EPCs'!$D$7:$H$9,5,FALSE)),VLOOKUP(E235,'Tab 5-7a Soil & Air EPCs'!$D$7:$H$9,5,FALSE),\"--\")","v":"--"},"--","--",{"$f":"IF(ISNUMBER(VLOOKUP(E235,'Tab 5-7a Soil & Air EPCs'!$D$7:$F$9,3,FALSE)),VLOOKUP(E235,'Tab 5-7a Soil & Air EPCs'!$D$7:$F$9,3,FALSE),\"--\")","v":"--"},"--","--","--","--"]
[0,0,0,0,0,"--","--",{"$f":"IF(ISNUMBER(VLOOKUP(E236,'Tab 5-7a Soil & Air EPCs'!$D$7:$E$9,2,FALSE)),VLOOKUP(E236,'Tab 5-7a Soil & Air EPCs'!$D$7:$E$9,2,FALSE),\"--\")","v":"--"},"--","--","--","--",{"$f":"IF(ISNUMBER(VLOOKUP(E236,'Tab 5-7a Soil & Air EPCs'!$D$7:$H$9,5,FALSE)),VLOOKUP(E236,'Tab 5-7a Soil & Air EPCs'!$D$7:$H$9,5,FALSE),\"--\")","v":"--"},"--","--",{"$f":"IF(ISNUMBER(VLOOKUP(E236,'Tab 5-7a Soil & Air EPCs'!$D$7:$F$9,3,FALSE)),VLOOKUP(E236,'Tab 5-7a Soil & Air EPCs'!$D$7:$F$9,3,FALSE),\"--\")","v":"--"},"--","--","--","--"]
[0,0,0,0,0,"--","--",{"$f":"IF(ISNUMBER(VLOOKUP(E237,'Tab 5-7a Soil & Air EPCs'!$D$7:$E$9,2,FALSE)),VLOOKUP(E237,'Tab 5-7a Soil & Air EPCs'!$D$7:$E$9,2,FALSE),\"--\")","v":"--"},"--","--","--","--",{"$f":"IF(ISNUMBER(VLOOKUP(E237,'Tab 5-7a Soil & Air EPCs'!$D$7:$H$9,5,FALSE)),VLOOKUP(E237,'Tab 5-7a Soil & Air EPCs'!$D$7:$H$9,5,FALSE),\"--\")","v":"--"},"--","--",{"$f":"IF(ISNUMBER(VLOOKUP(E237,'Tab 5-7a Soil & Air EPCs'!$D$7:$F$9,3,FALSE)),VLOOKUP(E237,'Tab 5-7a Soil & Air EPCs'!$D$7:$F$9,3,FALSE),\"--\")","v":"--"},"--","--","--","--"]
[0,0,0,0,0,"--","--",{"$f":"IF(ISNUMBER(VLOOKUP(E238,'Tab 5-7a Soil & Air EPCs'!$D$7:$E$9,2,FALSE)),VLOOKUP(E238,'Tab 5-7a Soil & Air EPCs'!$D$7:$E$9,2,FALSE),\"--\")","v":"--"},"--","--","--","--",{"$f":"IF(ISNUMBER(VLOOKUP(E238,'Tab 5-7a Soil & Air EPCs'!$D$7:$H$9,5,FALSE)),VLOOKUP(E238,'Tab 5-7a Soil & Air EPCs'!$D$7:$H$9,5,FALSE),\"--\")","v":"--"},"--","--",{"$f":"IF(ISNUMBER(VLOOKUP(E238,'Tab 5-7a Soil & Air EPCs'!$D$7:$F$9,3,FALSE)),VLOOKUP(E238,'Tab 5-7a Soil & Air EPCs'!$D$7:$F$9,3,FALSE),\"--\")","v":"--"},"--","--","--","--"]
[0,0,0,0,0,"--","--",{"$f":"IF(ISNUMBER(VLOOKUP(E239,'Tab 5-7a Soil & Air EPCs'!$D$7:$E$9,2,FALSE)),VLOOKUP(E239,'Tab 5-7a Soil & Air EPCs'!$D$7:$E$9,2,FALSE),\"--\")","v":"--"},"--","--","--","--",{"$f":"IF(ISNUMBER(VLOOKUP(E239,'Tab 5-7a Soil & Air EPCs'!$D$7:$H$9,5,FALSE)),VLOOKUP(E239,'Tab 5-7a Soil & Air EPCs'!$D$7:$H$9,5,FALSE),\"--\")","v":"--"},"--","--",{"$f":"IF(ISNUMBER(VLOOKUP(E239,'Tab 5-7a Soil & Air EPCs'!$D$7:$F$9,3,FALSE)),VLOOKUP(E239,'Tab 5-7a Soil & Air EPCs'!$D$7:$F$9,3,FALSE),\"--\")","v":"--"},"--","--","--","--"]
[0,0,0,0,0,"--","--",{"$f":"IF(ISNUMBER(VLOOKUP(E240,'Tab 5-7a Soil & Air EPCs'!$D$7:$E$9,2,FALSE)),VLOOKUP(E240,'Tab 5-7a Soil & Air EPCs'!$D$7:$E$9,2,FALSE),\"--\")","v":"--"},"--","--","--","--",{"$f":"IF(ISNUMBER(VLOOKUP(E240,'Tab 5-7a Soil & Air EPCs'!$D$7:$H$9,5,FALSE)),VLOOKUP(E240,'Tab 5-7a Soil & Air EPCs'!$D$7:$H$9,5,FALSE),\"--\")","v":"--"},"--","--",{"$f":"IF(ISNUMBER(VLOOKUP(E240,'Tab 5-7a Soil & Air EPCs'!$D$7:$F$9,3,FALSE)),VLOOKUP(E240,'Tab 5-7a Soil & Air EPCs'!$D$7:$F$9,3,FALSE),\"--\")","v":"--"},"--","--","--","--"]
[0,0,0,0,0,"--","--",{"$f":"IF(ISNUMBER(VLOOKUP(E241,'Tab 5-7a Soil & Air EPCs'!$D$7:$E$9,2,FALSE)),VLOOKUP(E241,'Tab 5-7a Soil & Air EPCs'!$D$7:$E$9,2,FALSE),\"--\")","v":"--"},"--","--","--","--",{"$f":"IF(ISNUMBER(VLOOKUP(E241,'Tab 5-7a Soil & Air EPCs'!$D$7:$H$9,5,FALSE)),VLOOKUP(E241,'Tab 5-7a Soil & Air EPCs'!$D$7:$H$9,5,FALSE),\"--\")","v":"--"},"--","--",{"$f":"IF(ISNUMBER(VLOOKUP(E241,'Tab 5-7a Soil & Air EPCs'!$D$7:$F$9,3,FALSE)),VLOOKUP(E241,'Tab 5-7a Soil & Air EPCs'!$D$7:$F$9,3,FALSE),\"--\")","v":"--"},"--","--","--","--"]
[0,0,0,0,0,"--","--",{"$f":"IF(ISNUMBER(VLOOKUP(E242,'Tab 5-7a Soil & Air EPCs'!$D$7:$E$9,2,FALSE)),VLOOKUP(E242,'Tab 5-7a Soil & Air EPCs'!$D$7:$E$9,2,FALSE),\"--\")","v":"--"},"--","--","--","--",{"$f":"IF(ISNUMBER(VLOOKUP(E242,'Tab 5-7a Soil & Air EPCs'!$D$7:$H$9,5,FALSE)),VLOOKUP(E242,'Tab 5-7a Soil & Air EPCs'!$D$7:$H$9,5,FALSE),\"--\")","v":"--"},"--","--",{"$f":"IF(ISNUMBER(VLOOKUP(E242,'Tab 5-7a Soil & Air EPCs'!$D$7:$F$9,3,FALSE)),VLOOKUP(E242,'Tab 5-7a Soil & Air EPCs'!$D$7:$F$9,3,FALSE),\"--\")","v":"--"},"--","--","--","--"]
[0,0,0,0,0,"--","--",{"$f":"IF(ISNUMBER(VLOOKUP(E243,'Tab 5-7a Soil & Air EPCs'!$D$7:$E$9,2,FALSE)),VLOOKUP(E243,'Tab 5-7a Soil & Air EPCs'!$D$7:$E$9,2,FALSE),\"--\")","v":"--"},"--","--","--","--",{"$f":"IF(ISNUMBER(VLOOKUP(E243,'Tab 5-7a Soil & Air EPCs'!$D$7:$H$9,5,FALSE)),VLOOKUP(E243,'Tab 5-7a Soil & Air EPCs'!$D$7:$H$9,5,FALSE),\"--\")","v":"--"},"--","--",{"$f":"IF(ISNUMBER(VLOOKUP(E243,'Tab 5-7a Soil & Air EPCs'!$D$7:$F$9,3,FALSE)),VLOOKUP(E243,'Tab 5-7a Soil & Air EPCs'!$D$7:$F$9,3,FALSE),\"--\")","v":"--"},"--","--","--","--"]
[0,0,0,0,0,"--","--",{"$f":"IF(ISNUMBER(VLOOKUP(E244,'Tab 5-7a Soil & Air EPCs'!$D$7:$E$9,2,FALSE)),VLOOKUP(E244,'Tab 5-7a Soil & Air EPCs'!$D$7:$E$9,2,FALSE),\"--\")","v":"--"},"--","--","--","--",{"$f":"IF(ISNUMBER(VLOOKUP(E244,'Tab 5-7a Soil & Air EPCs'!$D$7:$H$9,5,FALSE)),VLOOKUP(E244,'Tab 5-7a Soil & Air EPCs'!$D$7:$H$9,5,FALSE),\"--\")","v":"--"},"--","--",{"$f":"IF(ISNUMBER(VLOOKUP(E244,'Tab 5-7a Soil & Air EPCs'!$D$7:$F$9,3,FALSE)),VLOOKUP(E244,'Tab 5-7a Soil & Air EPCs'!$D$7:$F$9,3,FALSE),\"--\")","v":"--"},"--","--","--","--"]
[0,0,0,0,0,"--","--",{"$f":"IF(ISNUMBER(VLOOKUP(E245,'Tab 5-7a Soil & Air EPCs'!$D$7:$E$9,2,FALSE)),VLOOKUP(E245,'Tab 5-7a Soil & Air EPCs'!$D$7:$E$9,2,FALSE),\"--\")","v":"--"},"--","--","--","--",{"$f":"IF(ISNUMBER(VLOOKUP(E245,'Tab 5-7a Soil & Air EPCs'!$D$7:$H$9,5,FALSE)),VLOOKUP(E245,'Tab 5-7a Soil & Air EPCs'!$D$7:$H$9,5,FALSE),\"--\")","v":"--"},"--","--",{"$f":"IF(ISNUMBER(VLOOKUP(E245,'Tab 5-7a Soil & Air EPCs'!$D$7:$F$9,3,FALSE)),VLOOKUP(E245,'Tab 5-7a Soil & Air EPCs'!$D$7:$F$9,3,FALSE),\"--\")","v":"--"},"--","--","--","--"]
[0,0,0,0,0,"--","--",{"$f":"IF(ISNUMBER(VLOOKUP(E246,'Tab 5-7a Soil & Air EPCs'!$D$7:$E$9,2,FALSE)),VLOOKUP(E246,'Tab 5-7a Soil & Air EPCs'!$D$7:$E$9,2,FALSE),\"--\")","v":"--"},"--","--","--","--",{"$f":"IF(ISNUMBER(VLOOKUP(E246,'Tab 5-7a Soil & Air EPCs'!$D$7:$H$9,5,FALSE)),VLOOKUP(E246,'Tab 5-7a Soil & Air EPCs'!$D$7:$H$9,5,FALSE),\"--\")","v":"--"},"--","--",{"$f":"IF(ISNUMBER(VLOOKUP(E246,'Tab 5-7a Soil & Air EPCs'!$D$7:$F$9,3,FALSE)),VLOOKUP(E246,'Tab 5-7a Soil & Air EPCs'!$D$7:$F$9,3,FALSE),\"--\")","v":"--"},"--","--","--","--"]
[0,0,0,0,0,"--","--",{"$f":"IF(ISNUMBER(VLOOKUP(E247,'Tab 5-7a Soil & Air EPCs'!$D$7:$E$9,2,FALSE)),VLOOKUP(E247,'Tab 5-7a Soil & Air EPCs'!$D$7:$E$9,2,FALSE),\"--\")","v":"--"},"--","--","--","--",{"$f":"IF(ISNUMBER(VLOOKUP(E247,'Tab 5-7a Soil & Air EPCs'!$D$7:$H$9,5,FALSE)),VLOOKUP(E247,'Tab 5-7a Soil & Air EPCs'!$D$7:$H$9,5,FALSE),\"--\")","v":"--"},"--","--",{"$f":"IF(ISNUMBER(VLOOKUP(E247,'Tab 5-7a Soil & Air EPCs'!$D$7:$F$9,3,FALSE)),VLOOKUP(E247,'Tab 5-7a Soil & Air EPCs'!$D$7:$F$9,3,FALSE),\"--\")","v":"--"},"--","--","--","--"]
[0,0,0,0,0,"--","--",{"$f":"IF(ISNUMBER(VLOOKUP(E248,'Tab 5-7a Soil & Air EPCs'!$D$7:$E$9,2,FALSE)),VLOOKUP(E248,'Tab 5-7a Soil & Air EPCs'!$D$7:$E$9,2,FALSE),\"--\")","v":"--"},"--","--","--","--",{"$f":"IF(ISNUMBER(VLOOKUP(E248,'Tab 5-7a Soil & Air EPCs'!$D$7:$H$9,5,FALSE)),VLOOKUP(E248,'Tab 5-7a Soil & Air EPCs'!$D$7:$H$9,5,FALSE),\"--\")","v":"--"},"--","--",{"$f":"IF(ISNUMBER(VLOOKUP(E248,'Tab 5-7a Soil & Air EPCs'!$D$7:$F$9,3,FALSE)),VLOOKUP(E248,'Tab 5-7a Soil & Air EPCs'!$D$7:$F$9,3,FALSE),\"--\")","v":"--"},"--","--","--","--"]
[0,0,0,0,0,"--","--",{"$f":"IF(ISNUMBER(VLOOKUP(E249,'Tab 5-7a Soil & Air EPCs'!$D$7:$E$9,2,FALSE)),VLOOKUP(E249,'Tab 5-7a Soil & Air EPCs'!$D$7:$E$9,2,FALSE),\"--\")","v":"--"},"--","--","--","--",{"$f":"IF(ISNUMBER(VLOOKUP(E249,'Tab 5-7a Soil & Air EPCs'!$D$7:$H$9,5,FALSE)),VLOOKUP(E249,'Tab 5-7a Soil & Air EPCs'!$D$7:$H$9,5,FALSE),\"--\")","v":"--"},"--","--",{"$f":"IF(ISNUMBER(VLOOKUP(E249,'Tab 5-7a Soil & Air EPCs'!$D$7:$F$9,3,FALSE)),VLOOKUP(E249,'Tab 5-7a Soil & Air EPCs'!$D$7:$F$9,3,FALSE),\"--\")","v":"--"},"--","--","--","--"]
[0,0,0,0,0,"--","--",{"$f":"IF(ISNUMBER(VLOOKUP(E250,'Tab 5-7a Soil & Air EPCs'!$D$7:$E$9,2,FALSE)),VLOOKUP(E250,'Tab 5-7a Soil & Air EPCs'!$D$7:$E$9,2,FALSE),\"--\")","v":"--"},"--","--","--","--",{"$f":"IF(ISNUMBER(VLOOKUP(E250,'Tab 5-7a Soil & Air EPCs'!$D$7:$H$9,5,FALSE)),VLOOKUP(E250,'Tab 5-7a Soil & Air EPCs'!$D$7:$H$9,5,FALSE),\"--\")","v":"--"},"--","--",{"$f":"IF(ISNUMBER(VLOOKUP(E250,'Tab 5-7a Soil & Air EPCs'!$D$7:$F$9,3,FALSE)),VLOOKUP(E250,'Tab 5-7a Soil & Air EPCs'!$D$7:$F$9,3,FALSE),\"--\")","v":"--"},"--","--","--","--"]
[0,0,0,0,0,"--","--",{"$f":"IF(ISNUMBER(VLOOKUP(E251,'Tab 5-7a Soil & Air EPCs'!$D$7:$E$9,2,FALSE)),VLOOKUP(E251,'Tab 5-7a Soil & Air EPCs'!$D$7:$E$9,2,FALSE),\"--\")","v":"--"},"--","--","--","--",{"$f":"IF(ISNUMBER(VLOOKUP(E251,'Tab 5-7a Soil & Air EPCs'!$D$7:$H$9,5,FALSE)),VLOOKUP(E251,'Tab 5-7a Soil & Air EPCs'!$D$7:$H$9,5,FALSE),\"--\")","v":"--"},"--","--",{"$f":"IF(ISNUMBER(VLOOKUP(E251,'Tab 5-7a Soil & Air EPCs'!$D$7:$F$9,3,FALSE)),VLOOKUP(E251,'Tab 5-7a Soil & Air EPCs'!$D$7:$F$9,3,FALSE),\"--\")","v":"--"},"--","--","--","--"]
[0,0,0,0,0,"--","--",{"$f":"IF(ISNUMBER(VLOOKUP(E252,'Tab 5-7a Soil & Air EPCs'!$D$7:$E$9,2,FALSE)),VLOOKUP(E252,'Tab 5-7a Soil & Air EPCs'!$D$7:$E$9,2,FALSE),\"--\")","v":"--"},"--","--","--","--",{"$f":"IF(ISNUMBER(VLOOKUP(E252,'Tab 5-7a Soil & Air EPCs'!$D$7:$H$9,5,FALSE)),VLOOKUP(E252,'Tab 5-7a Soil & Air EPCs'!$D$7:$H$9,5,FALSE),\"--\")","v":"--"},"--","--",{"$f":"IF(ISNUMBER(VLOOKUP(E252,'Tab 5-7a Soil & Air EPCs'!$D$7:$F$9,3,FALSE)),VLOOKUP(E252,'Tab 5-7a Soil & Air EPCs'!$D$7:$F$9,3,FALSE),\"--\")","v":"--"},"--","--","--","--"]
[0,0,0,0,0,"--","--",{"$f":"IF(ISNUMBER(VLOOKUP(E253,'Tab 5-7a Soil & Air EPCs'!$D$7:$E$9,2,FALSE)),VLOOKUP(E253,'Tab 5-7a Soil & Air EPCs'!$D$7:$E$9,2,FALSE),\"--\")","v":"--"},"--","--","--","--",{"$f":"IF(ISNUMBER(VLOOKUP(E253,'Tab 5-7a Soil & Air EPCs'!$D$7:$H$9,5,FALSE)),VLOOKUP(E253,'Tab 5-7a Soil & Air EPCs'!$D$7:$H$9,5,FALSE),\"--\")","v":"--"},"--","--",{"$f":"IF(ISNUMBER(VLOOKUP(E253,'Tab 5-7a Soil & Air EPCs'!$D$7:$F$9,3,FALSE)),VLOOKUP(E253,'Tab 5-7a Soil & Air EPCs'!$D$7:$F$9,3,FALSE),\"--\")","v":"--"},"--","--","--","--"]
[0,0,0,0,0,"--","--",{"$f":"IF(ISNUMBER(VLOOKUP(E254,'Tab 5-7a Soil & Air EPCs'!$D$7:$E$9,2,FALSE)),VLOOKUP(E254,'Tab 5-7a Soil & Air EPCs'!$D$7:$E$9,2,FALSE),\"--\")","v":"--"},"--","--","--","--",{"$f":"IF(ISNUMBER(VLOOKUP(E254,'Tab 5-7a Soil & Air EPCs'!$D$7:$H$9,5,FALSE)),VLOOKUP(E254,'Tab 5-7a Soil & Air EPCs'!$D$7:$H$9,5,FALSE),\"--\")","v":"--"},"--","--",{"$f":"IF(ISNUMBER(VLOOKUP(E254,'Tab 5-7a Soil & Air EPCs'!$D$7:$F$9,3,FALSE)),VLOOKUP(E254,'Tab 5-7a Soil & Air EPCs'!$D$7:$F$9,3,FALSE),\"--\")","v":"--"},"--","--","--","--"]
[0,0,0,0,0,"--","--",{"$f":"IF(ISNUMBER(VLOOKUP(E255,'Tab 5-7a Soil & Air EPCs'!$D$7:$E$9,2,FALSE)),VLOOKUP(E255,'Tab 5-7a Soil & Air EPCs'!$D$7:$E$9,2,FALSE),\"--\")","v":"--"},"--","--","--","--",{"$f":"IF(ISNUMBER(VLOOKUP(E255,'Tab 5-7a Soil & Air EPCs'!$D$7:$H$9,5,FALSE)),VLOOKUP(E255,'Tab 5-7a Soil & Air EPCs'!$D$7:$H$9,5,FALSE),\"--\")","v":"--"},"--","--",{"$f":"IF(ISNUMBER(VLOOKUP(E255,'Tab 5-7a Soil & Air EPCs'!$D$7:$F$9,3,FALSE)),VLOOKUP(E255,'Tab 5-7a Soil & Air EPCs'!$D$7:$F$9,3,FALSE),\"--\")","v":"--"},"--","--","--","--"]
[0,0,0,0,0,"--","--",{"$f":"IF(ISNUMBER(VLOOKUP(E256,'Tab 5-7a Soil & Air EPCs'!$D$7:$E$9,2,FALSE)),VLOOKUP(E256,'Tab 5-7a Soil & Air EPCs'!$D$7:$E$9,2,FALSE),\"--\")","v":"--"},"--","--","--","--",{"$f":"IF(ISNUMBER(VLOOKUP(E256,'Tab 5-7a Soil & Air EPCs'!$D$7:$H$9,5,FALSE)),VLOOKUP(E256,'Tab 5-7a Soil & Air EPCs'!$D$7:$H$9,5,FALSE),\"--\")","v":"--"},"--","--",{"$f":"IF(ISNUMBER(VLOOKUP(E256,'Tab 5-7a Soil & Air EPCs'!$D$7:$F$9,3,FALSE)),VLOOKUP(E256,'Tab 5-7a Soil & Air EPCs'!$D$7:$F$9,3,FALSE),\"--\")","v":"--"},"--","--","--","--"]
[0,0,0,0,0,"--","--",{"$f":"IF(ISNUMBER(VLOOKUP(E257,'Tab 5-7a Soil & Air EPCs'!$D$7:$E$9,2,FALSE)),VLOOKUP(E257,'Tab 5-7a Soil & Air EPCs'!$D$7:$E$9,2,FALSE),\"--\")","v":"--"},"--","--","--","--",{"$f":"IF(ISNUMBER(VLOOKUP(E257,'Tab 5-7a Soil & Air EPCs'!$D$7:$H$9,5,FALSE)),VLOOKUP(E257,'Tab 5-7a Soil & Air EPCs'!$D$7:$H$9,5,FALSE),\"--\")","v":"--"},"--","--",{"$f":"IF(ISNUMBER(VLOOKUP(E257,'Tab 5-7a Soil & Air EPCs'!$D$7:$F$9,3,FALSE)),VLOOKUP(E257,'Tab 5-7a Soil & Air EPCs'!$D$7:$F$9,3,FALSE),\"--\")","v":"--"},"--","--","--","--"]
[0,0,0,0,0,"--","--",{"$f":"IF(ISNUMBER(VLOOKUP(E258,'Tab 5-7a Soil & Air EPCs'!$D$7:$E$9,2,FALSE)),VLOOKUP(E258,'Tab 5-7a Soil & Air EPCs'!$D$7:$E$9,2,FALSE),\"--\")","v":"--"},"--","--","--","--",{"$f":"IF(ISNUMBER(VLOOKUP(E258,'Tab 5-7a Soil & Air EPCs'!$D$7:$H$9,5,FALSE)),VLOOKUP(E258,'Tab 5-7a Soil & Air EPCs'!$D$7:$H$9,5,FALSE),\"--\")","v":"--"},"--","--",{"$f":"IF(ISNUMBER(VLOOKUP(E258,'Tab 5-7a Soil & Air EPCs'!$D$7:$F$9,3,FALSE)),VLOOKUP(E258,'Tab 5-7a Soil & Air EPCs'!$D$7:$F$9,3,FALSE),\"--\")","v":"--"},"--","--","--","--"]
[0,0,0,0,0,"--","--",{"$f":"IF(ISNUMBER(VLOOKUP(E259,'Tab 5-7a Soil & Air EPCs'!$D$7:$E$9,2,FALSE)),VLOOKUP(E259,'Tab 5-7a Soil & Air EPCs'!$D$7:$E$9,2,FALSE),\"--\")","v":"--"},"--","--","--","--",{"$f":"IF(ISNUMBER(VLOOKUP(E259,'Tab 5-7a Soil & Air EPCs'!$D$7:$H$9,5,FALSE)),VLOOKUP(E259,'Tab 5-7a Soil & Air EPCs'!$D$7:$H$9,5,FALSE),\"--\")","v":"--"},"--","--",{"$f":"IF(ISNUMBER(VLOOKUP(E259,'Tab 5-7a Soil & Air EPCs'!$D$7:$F$9,3,FALSE)),VLOOKUP(E259,'Tab 5-7a Soil & Air EPCs'!$D$7:$F$9,3,FALSE),\"--\")","v":"--"},"--","--","--","--"]
[0,0,0,0,0,"--","--",{"$f":"IF(ISNUMBER(VLOOKUP(E260,'Tab 5-7a Soil & Air EPCs'!$D$7:$E$9,2,FALSE)),VLOOKUP(E260,'Tab 5-7a Soil & Air EPCs'!$D$7:$E$9,2,FALSE),\"--\")","v":"--"},"--","--","--","--",{"$f":"IF(ISNUMBER(VLOOKUP(E260,'Tab 5-7a Soil & Air EPCs'!$D$7:$H$9,5,FALSE)),VLOOKUP(E260,'Tab 5-7a Soil & Air EPCs'!$D$7:$H$9,5,FALSE),\"--\")","v":"--"},"--","--",{"$f":"IF(ISNUMBER(VLOOKUP(E260,'Tab 5-7a Soil & Air EPCs'!$D$7:$F$9,3,FALSE)),VLOOKUP(E260,'Tab 5-7a Soil & Air EPCs'!$D$7:$F$9,3,FALSE),\"--\")","v":"--"},"--","--","--","--"]
[0,0,0,0,0,"--","--",{"$f":"IF(ISNUMBER(VLOOKUP(E261,'Tab 5-7a Soil & Air EPCs'!$D$7:$E$9,2,FALSE)),VLOOKUP(E261,'Tab 5-7a Soil & Air EPCs'!$D$7:$E$9,2,FALSE),\"--\")","v":"--"},"--","--","--","--",{"$f":"IF(ISNUMBER(VLOOKUP(E261,'Tab 5-7a Soil & Air EPCs'!$D$7:$H$9,5,FALSE)),VLOOKUP(E261,'Tab 5-7a Soil & Air EPCs'!$D$7:$H$9,5,FALSE),\"--\")","v":"--"},"--","--",{"$f":"IF(ISNUMBER(VLOOKUP(E261,'Tab 5-7a Soil & Air EPCs'!$D$7:$F$9,3,FALSE)),VLOOKUP(E261,'Tab 5-7a Soil & Air EPCs'!$D$7:$F$9,3,FALSE),\"--\")","v":"--"},"--","--","--","--"]
[0,0,0,0,0,"--","--",{"$f":"IF(ISNUMBER(VLOOKUP(E262,'Tab 5-7a Soil & Air EPCs'!$D$7:$E$9,2,FALSE)),VLOOKUP(E262,'Tab 5-7a Soil & Air EPCs'!$D$7:$E$9,2,FALSE),\"--\")","v":"--"},"--","--","--","--",{"$f":"IF(ISNUMBER(VLOOKUP(E262,'Tab 5-7a Soil & Air EPCs'!$D$7:$H$9,5,FALSE)),VLOOKUP(E262,'Tab 5-7a Soil & Air EPCs'!$D$7:$H$9,5,FALSE),\"--\")","v":"--"},"--","--",{"$f":"IF(ISNUMBER(VLOOKUP(E262,'Tab 5-7a Soil & Air EPCs'!$D$7:$F$9,3,FALSE)),VLOOKUP(E262,'Tab 5-7a Soil & Air EPCs'!$D$7:$F$9,3,FALSE),\"--\")","v":"--"},"--","--","--","--"]
[0,0,0,0,0,"--","--",{"$f":"IF(ISNUMBER(VLOOKUP(E263,'Tab 5-7a Soil & Air EPCs'!$D$7:$E$9,2,FALSE)),VLOOKUP(E263,'Tab 5-7a Soil & Air EPCs'!$D$7:$E$9,2,FALSE),\"--\")","v":"--"},"--","--","--","--",{"$f":"IF(ISNUMBER(VLOOKUP(E263,'Tab 5-7a Soil & Air EPCs'!$D$7:$H$9,5,FALSE)),VLOOKUP(E263,'Tab 5-7a Soil & Air EPCs'!$D$7:$H$9,5,FALSE),\"--\")","v":"--"},"--","--",{"$f":"IF(ISNUMBER(VLOOKUP(E263,'Tab 5-7a Soil & Air EPCs'!$D$7:$F$9,3,FALSE)),VLOOKUP(E263,'Tab 5-7a Soil & Air EPCs'!$D$7:$F$9,3,FALSE),\"--\")","v":"--"},"--","--","--","--"]
[0,0,0,0,0,"--","--",{"$f":"IF(ISNUMBER(VLOOKUP(E264,'Tab 5-7a Soil & Air EPCs'!$D$7:$E$9,2,FALSE)),VLOOKUP(E264,'Tab 5-7a Soil & Air EPCs'!$D$7:$E$9,2,FALSE),\"--\")","v":"--"},"--","--","--","--",{"$f":"IF(ISNUMBER(VLOOKUP(E264,'Tab 5-7a Soil & Air EPCs'!$D$7:$H$9,5,FALSE)),VLOOKUP(E264,'Tab 5-7a Soil & Air EPCs'!$D$7:$H$9,5,FALSE),\"--\")","v":"--"},"--","--",{"$f":"IF(ISNUMBER(VLOOKUP(E264,'Tab 5-7a Soil & Air EPCs'!$D$7:$F$9,3,FALSE)),VLOOKUP(E264,'Tab 5-7a Soil & Air EPCs'!$D$7:$F$9,3,FALSE),\"--\")","v":"--"},"--","--","--","--"]
[0,0,0,0,0,"--","--",{"$f":"IF(ISNUMBER(VLOOKUP(E265,'Tab 5-7a Soil & Air EPCs'!$D$7:$E$9,2,FALSE)),VLOOKUP(E265,'Tab 5-7a Soil & Air EPCs'!$D$7:$E$9,2,FALSE),\"--\")","v":"--"},"--","--","--","--",{"$f":"IF(ISNUMBER(VLOOKUP(E265,'Tab 5-7a Soil & Air EPCs'!$D$7:$H$9,5,FALSE)),VLOOKUP(E265,'Tab 5-7a Soil & Air EPCs'!$D$7:$H$9,5,FALSE),\"--\")","v":"--"},"--","--",{"$f":"IF(ISNUMBER(VLOOKUP(E265,'Tab 5-7a Soil & Air EPCs'!$D$7:$F$9,3,FALSE)),VLOOKUP(E265,'Tab 5-7a Soil & Air EPCs'!$D$7:$F$9,3,FALSE),\"--\")","v":"--"},"--","--","--","--"]
[0,0,0,0,0,"--","--",{"$f":"IF(ISNUMBER(VLOOKUP(E266,'Tab 5-7a Soil & Air EPCs'!$D$7:$E$9,2,FALSE)),VLOOKUP(E266,'Tab 5-7a Soil & Air EPCs'!$D$7:$E$9,2,FALSE),\"--\")","v":"--"},"--","--","--","--",{"$f":"IF(ISNUMBER(VLOOKUP(E266,'Tab 5-7a Soil & Air EPCs'!$D$7:$H$9,5,FALSE)),VLOOKUP(E266,'Tab 5-7a Soil & Air EPCs'!$D$7:$H$9,5,FALSE),\"--\")","v":"--"},"--","--",{"$f":"IF(ISNUMBER(VLOOKUP(E266,'Tab 5-7a Soil & Air EPCs'!$D$7:$F$9,3,FALSE)),VLOOKUP(E266,'Tab 5-7a Soil & Air EPCs'!$D$7:$F$9,3,FALSE),\"--\")","v":"--"},"--","--","--","--"]
[0,0,0,0,0,"--","--",{"$f":"IF(ISNUMBER(VLOOKUP(E267,'Tab 5-7a Soil & Air EPCs'!$D$7:$E$9,2,FALSE)),VLOOKUP(E267,'Tab 5-7a Soil & Air EPCs'!$D$7:$E$9,2,FALSE),\"--\")","v":"--"},"--","--","--","--",{"$f":"IF(ISNUMBER(VLOOKUP(E267,'Tab 5-7a Soil & Air EPCs'!$D$7:$H$9,5,FALSE)),VLOOKUP(E267,'Tab 5-7a Soil & Air EPCs'!$D$7:$H$9,5,FALSE),\"--\")","v":"--"},"--","--",{"$f":"IF(ISNUMBER(VLOOKUP(E267,'Tab 5-7a Soil & Air EPCs'!$D$7:$F$9,3,FALSE)),VLOOKUP(E267,'Tab 5-7a Soil & Air EPCs'!$D$7:$F$9,3,FALSE),\"--\")","v":"--"},"--","--","--","--"]
[0,0,0,0,0,"--","--",{"$f":"IF(ISNUMBER(VLOOKUP(E268,'Tab 5-7a Soil & Air EPCs'!$D$7:$E$9,2,FALSE)),VLOOKUP(E268,'Tab 5-7a Soil & Air EPCs'!$D$7:$E$9,2,FALSE),\"--\")","v":"--"},"--","--","--","--",{"$f":"IF(ISNUMBER(VLOOKUP(E268,'Tab 5-7a Soil & Air EPCs'!$D$7:$H$9,5,FALSE)),VLOOKUP(E268,'Tab 5-7a Soil & Air EPCs'!$D$7:$H$9,5,FALSE),\"--\")","v":"--"},"--","--",{"$f":"IF(ISNUMBER(VLOOKUP(E268,'Tab 5-7a Soil & Air EPCs'!$D$7:$F$9,3,FALSE)),VLOOKUP(E268,'Tab 5-7a Soil & Air EPCs'!$D$7:$F$9,3,FALSE),\"--\")","v":"--"},"--","--",{"$f":"IF(SUM(I268,N268,Q268)>0,SUM(I268,N268,Q268),\"--\")","v":"--"},{"$f":"IF(SUM(J268,O268,R268)>0,SUM(J268,O268,R268),\"--\")","v":"--"}]
[0,0,0,0,0,"--","--",{"$f":"IF(ISNUMBER(VLOOKUP(E269,'Tab 5-7a Soil & Air EPCs'!$D$7:$E$9,2,FALSE)),VLOOKUP(E269,'Tab 5-7a Soil & Air EPCs'!$D$7:$E$9,2,FALSE),\"--\")","v":"--"},"--","--","--","--",{"$f":"IF(ISNUMBER(VLOOKUP(E269,'Tab 5-7a Soil & Air EPCs'!$D$7:$H$9,5,FALSE)),VLOOKUP(E269,'Tab 5-7a Soil & Air EPCs'!$D$7:$H$9,5,FALSE),\"--\")","v":"--"},"--","--",{"$f":"IF(ISNUMBER(VLOOKUP(E269,'Tab 5-7a Soil & Air EPCs'!$D$7:$F$9,3,FALSE)),VLOOKUP(E269,'Tab 5-7a Soil & Air EPCs'!$D$7:$F$9,3,FALSE),\"--\")","v":"--"},"--","--","--","--"]
[0,0,0,0,0,"--","--",{"$f":"IF(ISNUMBER(VLOOKUP(E270,'Tab 5-7a Soil & Air EPCs'!$D$7:$E$9,2,FALSE)),VLOOKUP(E270,'Tab 5-7a Soil & Air EPCs'!$D$7:$E$9,2,FALSE),\"--\")","v":"--"},"--","--","--","--",{"$f":"IF(ISNUMBER(VLOOKUP(E270,'Tab 5-7a Soil & Air EPCs'!$D$7:$H$9,5,FALSE)),VLOOKUP(E270,'Tab 5-7a Soil & Air EPCs'!$D$7:$H$9,5,FALSE),\"--\")","v":"--"},"--","--",{"$f":"IF(ISNUMBER(VLOOKUP(E270,'Tab 5-7a Soil & Air EPCs'!$D$7:$F$9,3,FALSE)),VLOOKUP(E270,'Tab 5-7a Soil & Air EPCs'!$D$7:$F$9,3,FALSE),\"--\")","v":"--"},"--","--","--","--"]
[0,0,0,0,0,"--","--",{"$f":"IF(ISNUMBER(VLOOKUP(E271,'Tab 5-7a Soil & Air EPCs'!$D$7:$E$9,2,FALSE)),VLOOKUP(E271,'Tab 5-7a Soil & Air EPCs'!$D$7:$E$9,2,FALSE),\"--\")","v":"--"},"--","--","--","--",{"$f":"IF(ISNUMBER(VLOOKUP(E271,'Tab 5-7a Soil & Air EPCs'!$D$7:$H$9,5,FALSE)),VLOOKUP(E271,'Tab 5-7a Soil & Air EPCs'!$D$7:$H$9,5,FALSE),\"--\")","v":"--"},"--","--",{"$f":"IF(ISNUMBER(VLOOKUP(E271,'Tab 5-7a Soil & Air EPCs'!$D$7:$F$9,3,FALSE)),VLOOKUP(E271,'Tab 5-7a Soil & Air EPCs'!$D$7:$F$9,3,FALSE),\"--\")","v":"--"},"--","--","--","--"]
[0,0,0,0,0,"--","--",{"$f":"IF(ISNUMBER(VLOOKUP(E272,'Tab 5-7a Soil & Air EPCs'!$D$7:$E$9,2,FALSE)),VLOOKUP(E272,'Tab 5-7a Soil & Air EPCs'!$D$7:$E$9,2,FALSE),\"--\")","v":"--"},"--","--","--","--",{"$f":"IF(ISNUMBER(VLOOKUP(E272,'Tab 5-7a Soil & Air EPCs'!$D$7:$H$9,5,FALSE)),VLOOKUP(E272,'Tab 5-7a Soil & Air EPCs'!$D$7:$H$9,5,FALSE),\"--\")","v":"--"},"--","--",{"$f":"IF(ISNUMBER(VLOOKUP(E272,'Tab 5-7a Soil & Air EPCs'!$D$7:$F$9,3,FALSE)),VLOOKUP(E272,'Tab 5-7a Soil & Air EPCs'!$D$7:$F$9,3,FALSE),\"--\")","v":"--"},"--","--","--","--"]
[0,0,0,0,0,"--","--",{"$f":"IF(ISNUMBER(VLOOKUP(E273,'Tab 5-7a Soil & Air EPCs'!$D$7:$E$9,2,FALSE)),VLOOKUP(E273,'Tab 5-7a Soil & Air EPCs'!$D$7:$E$9,2,FALSE),\"--\")","v":"--"},"--","--","--","--",{"$f":"IF(ISNUMBER(VLOOKUP(E273,'Tab 5-7a Soil & Air EPCs'!$D$7:$H$9,5,FALSE)),VLOOKUP(E273,'Tab 5-7a Soil & Air EPCs'!$D$7:$H$9,5,FALSE),\"--\")","v":"--"},"--","--",{"$f":"IF(ISNUMBER(VLOOKUP(E273,'Tab 5-7a Soil & Air EPCs'!$D$7:$F$9,3,FALSE)),VLOOKUP(E273,'Tab 5-7a Soil & Air EPCs'!$D$7:$F$9,3,FALSE),\"--\")","v":"--"},"--","--","--","--"]
[0,0,0,0,0,"--","--",{"$f":"IF(ISNUMBER(VLOOKUP(E274,'Tab 5-7a Soil & Air EPCs'!$D$7:$E$9,2,FALSE)),VLOOKUP(E274,'Tab 5-7a Soil & Air EPCs'!$D$7:$E$9,2,FALSE),\"--\")","v":"--"},"--","--","--","--",{"$f":"IF(ISNUMBER(VLOOKUP(E274,'Tab 5-7a Soil & Air EPCs'!$D$7:$H$9,5,FALSE)),VLOOKUP(E274,'Tab 5-7a Soil & Air EPCs'!$D$7:$H$9,5,FALSE),\"--\")","v":"--"},"--","--",{"$f":"IF(ISNUMBER(VLOOKUP(E274,'Tab 5-7a Soil & Air EPCs'!$D$7:$F$9,3,FALSE)),VLOOKUP(E274,'Tab 5-7a Soil & Air EPCs'!$D$7:$F$9,3,FALSE),\"--\")","v":"--"},"--","--","--","--"]
[0,0,0,0,0,"--","--",{"$f":"IF(ISNUMBER(VLOOKUP(E275,'Tab 5-7a Soil & Air EPCs'!$D$7:$E$9,2,FALSE)),VLOOKUP(E275,'Tab 5-7a Soil & Air EPCs'!$D$7:$E$9,2,FALSE),\"--\")","v":"--"},"--","--","--","--",{"$f":"IF(ISNUMBER(VLOOKUP(E275,'Tab 5-7a Soil & Air EPCs'!$D$7:$H$9,5,FALSE)),VLOOKUP(E275,'Tab 5-7a Soil & Air EPCs'!$D$7:$H$9,5,FALSE),\"--\")","v":"--"},"--","--",{"$f":"IF(ISNUMBER(VLOOKUP(E275,'Tab 5-7a Soil & Air EPCs'!$D$7:$F$9,3,FALSE)),VLOOKUP(E275,'Tab 5-7a Soil & Air EPCs'!$D$7:$F$9,3,FALSE),\"--\")","v":"--"},"--","--","--","--"]
[0,0,0,0,0,"--","--",{"$f":"IF(ISNUMBER(VLOOKUP(E276,'Tab 5-7a Soil & Air EPCs'!$D$7:$E$9,2,FALSE)),VLOOKUP(E276,'Tab 5-7a Soil & Air EPCs'!$D$7:$E$9,2,FALSE),\"--\")","v":"--"},"--","--","--","--",{"$f":"IF(ISNUMBER(VLOOKUP(E276,'Tab 5-7a Soil & Air EPCs'!$D$7:$H$9,5,FALSE)),VLOOKUP(E276,'Tab 5-7a Soil & Air EPCs'!$D$7:$H$9,5,FALSE),\"--\")","v":"--"},"--","--",{"$f":"IF(ISNUMBER(VLOOKUP(E276,'Tab 5-7a Soil & Air EPCs'!$D$7:$F$9,3,FALSE)),VLOOKUP(E276,'Tab 5-7a Soil & Air EPCs'!$D$7:$F$9,3,FALSE),\"--\")","v":"--"},"--","--","--","--"]
[0,0,0,0,0,"--","--",{"$f":"IF(ISNUMBER(VLOOKUP(E277,'Tab 5-7a Soil & Air EPCs'!$D$7:$E$9,2,FALSE)),VLOOKUP(E277,'Tab 5-7a Soil & Air EPCs'!$D$7:$E$9,2,FALSE),\"--\")","v":"--"},"--","--","--","--",{"$f":"IF(ISNUMBER(VLOOKUP(E277,'Tab 5-7a Soil & Air EPCs'!$D$7:$H$9,5,FALSE)),VLOOKUP(E277,'Tab 5-7a Soil & Air EPCs'!$D$7:$H$9,5,FALSE),\"--\")","v":"--"},"--","--",{"$f":"IF(ISNUMBER(VLOOKUP(E277,'Tab 5-7a Soil & Air EPCs'!$D$7:$F$9,3,FALSE)),VLOOKUP(E277,'Tab 5-7a Soil & Air EPCs'!$D$7:$F$9,3,FALSE),\"--\")","v":"--"},"--","--","--","--"]
[0,0,0,0,0,"--","--",{"$f":"IF(ISNUMBER(VLOOKUP(E278,'Tab 5-7a Soil & Air EPCs'!$D$7:$E$9,2,FALSE)),VLOOKUP(E278,'Tab 5-7a Soil & Air EPCs'!$D$7:$E$9,2,FALSE),\"--\")","v":"--"},"--","--","--","--",{"$f":"IF(ISNUMBER(VLOOKUP(E278,'Tab 5-7a Soil & Air EPCs'!$D$7:$H$9,5,FALSE)),VLOOKUP(E278,'Tab 5-7a Soil & Air EPCs'!$D$7:$H$9,5,FALSE),\"--\")","v":"--"},"--","--",{"$f":"IF(ISNUMBER(VLOOKUP(E278,'Tab 5-7a Soil & Air EPCs'!$D$7:$F$9,3,FALSE)),VLOOKUP(E278,'Tab 5-7a Soil & Air EPCs'!$D$7:$F$9,3,FALSE),\"--\")","v":"--"},"--","--","--","--"]
[0,0,0,0,0,"--","--",{"$f":"IF(ISNUMBER(VLOOKUP(E279,'Tab 5-7a Soil & Air EPCs'!$D$7:$E$9,2,FALSE)),VLOOKUP(E279,'Tab 5-7a Soil & Air EPCs'!$D$7:$E$9,2,FALSE),\"--\")","v":"--"},"--","--","--","--",{"$f":"IF(ISNUMBER(VLOOKUP(E279,'Tab 5-7a Soil & Air EPCs'!$D$7:$H$9,5,FALSE)),VLOOKUP(E279,'Tab 5-7a Soil & Air EPCs'!$D$7:$H$9,5,FALSE),\"--\")","v":"--"},"--","--",{"$f":"IF(ISNUMBER(VLOOKUP(E279,'Tab 5-7a Soil & Air EPCs'!$D$7:$F$9,3,FALSE)),VLOOKUP(E279,'Tab 5-7a Soil & Air EPCs'!$D$7:$F$9,3,FALSE),\"--\")","v":"--"},"--","--","--","--"]
[0,"EOR",0,"End of Record"," ","--","--",{"$f":"IF(ISNUMBER(VLOOKUP(E280,'Tab 5-7a Soil & Air EPCs'!$D$7:$E$9,2,FALSE)),VLOOKUP(E280,'Tab 5-7a Soil & Air EPCs'!$D$7:$E$9,2,FALSE),\"--\")","v":"--"},"--","--","--","--",{"$f":"IF(ISNUMBER(VLOOKUP(E280,'Tab 5-7a Soil & Air EPCs'!$D$7:$H$9,5,FALSE)),VLOOKUP(E280,'Tab 5-7a Soil & Air EPCs'!$D$7:$H$9,5,FALSE),\"--\")","v":"--"},"--","--",{"$f":"IF(ISNUMBER(VLOOKUP(E280,'Tab 5-7a Soil & Air EPCs'!$D$7:$F$9,3,FALSE)),VLOOKUP(E280,'Tab 5-7a Soil & Air EPCs'!$D$7:$F$9,3,FALSE),\"--\")","v":"--"},"--","--","--","--"]
["X","Total Cancer Risk/Non-Cancer HI",null,null,null,null,null,null,{"$f":"IF(SUM(I11:I17)>0,SUM(I11:I17),\"--\")","v":5.1369863013698629E-8},{"$f":"IF(SUM(J11:J17)>0,SUM(J11:J17),\"--\")","v":0.13335295376712328},null,null,null,{"$f":"IF(SUM(N11:N17)>0,SUM(N11:N17),\"--\")","v":3.465494034360281E-7},"--",null,8.249650624869026E-12,"--",3.979275161003516E-7,0.13335295376712328]
["X"]
["X","Notes: "]
["X","-- = Not calculated"]
["X","bgs = below ground surface"]
["X","HI = Hazard index"]
["X","HQ = Hazard quotient"]
["X","OCP = Organochlorine pesticide"]

{"sheet":"Tab Q-2a OutdoorWorker Parcel H","index":9,"n_rows":288,"n_cols":23,"rows_kept":288,"cut":false,"hidden":false,"merged":[[280,1,280,3],[4,3,4,22],[0,1,0,22],[1,1,1,22],[2,1,2,22],[3,1,3,22],[6,22,9,22],[6,19,6,20],[6,5,6,6],[6,8,6,9],[6,11,6,12],[6,16,6,17],[6,0,9,0],[6,1,9,1],[6,3,9,3],[6,4,9,4],[6,21,9,21]]}
[null,{"$f":"TOC!A4&\". \"&TOC!B4","v":"TABLE Q-1-2A. Estimated Cancer Risks and Non-Cancer Hazard Indices for Outdoor Commercial/Industrial Workers Exposed to Soil (0-2 feet bgs) in Parcel H"}]
[null,{"$f":"Tracking!B2","v":"Nevada Environmental Response Trust Site"}]
[null,{"$f":"Tracking!C2","v":"Henderson, Nevada"}]
[]
[]
[]
["Parcel C COPC","Chemical\nGroup",null,"Chemical","CASRN",null,null,null,"Soil Ingestion",null,null,"Dermal Contact",null,null,null,null,"Vapor Inhalation",null,null,"Airborne Particulate Inhalation",null,"Cancer Risk_All Pathways","Non-Cancer HQ_All Pathways"]
[null,null,null,null,null,null,null,null,"Cancer IF","Noncancer IF",null,"Cancer IF","Noncancer IF",null,null,null,"Cancer IF","Noncancer IF",null,"Cancer IF","Noncancer IF"]
[null,null,null,null,null,null,null,null,{"$f":"'Tab 5-15 Exposure Assumption'!F20","v":2.7519569471624267E-7},{"$f":"'Tab 5-15 Exposure Assumption'!F21","v":7.7054794520547943E-7},null,{"$f":"'Tab 5-15 Exposure Assumption'!F26","v":1.1647382583170255E-6},{"$f":"'Tab 5-15 Exposure Assumption'!F27","v":3.2612671232876713E-6},null,null,null,{"$f":"'Tab 5-15 Exposure Assumption'!F34","v":7.3385518590998039E-2},{"$f":"'Tab 5-15 Exposure Assumption'!F35","v":0.20547945205479454},null,{"$f":"'Tab 5-15 Exposure Assumption'!F30","v":7.3385518590998039E-2},{"$f":"'Tab 5-15 Exposure Assumption'!F31","v":0.20547945205479454}]
[null,null,"Sort Name",null,null,"SForal\n(mg/kg/d)-1","RfDoral\n(mg/kg/d)","Soil EPC (mg/kg)","Cancer Risk","Non-Cancer HQ","ABSderm\n(unitless)","Cancer Risk","Non-Cancer HQ","IUR\n(ug/m3)-1","RfC\n(ug/m3)","Vapor EPC (ug/m3)","Cancer \nRisk","Non-Cancer \nHQ","Airborne Particulate EPC (ug/m3)","Cancer \nRisk","Non-Cancer \nHQ"]
[{"$f":"'Tab 5-16 Tox'!X11:X280","v":"X"},{"$f":"'Tab 5-16 Tox'!B11:E280","v":"Metal"},0,"Palladium","7440-05-3",{"$f":"IF(ISNUMBER('Tab 5-16 Tox'!$F11:$F280),'Tab 5-16 Tox'!$F11:$F280,\"--\")","v":"--"},{"$f":"IF(ISNUMBER('Tab 5-16 Tox'!$K11:$K280),'Tab 5-16 Tox'!$K11:$K280,\"--\")","v":"--"},{"$f":"IF(ISNUMBER(VLOOKUP(E11,'Tab 5-7a Soil & Air EPCs'!$D$7:$E$9,2,FALSE)),VLOOKUP(E11,'Tab 5-7a Soil & Air EPCs'!$D$7:$E$9,2,FALSE),\"--\")","v":0.47},{"$f":"IF(F11:F280<>\"--\",IF(H11:H280<>\"--\",H11:H280*I9*F11:F280,\"--\"),\"--\")","v":"--"},{"$f":"IF(G11:G280<>\"--\",IF(H11:H280<>\"--\",H11:H280*J9/G11:G280,\"--\"),\"--\")","v":"--"},{"$f":"'Tab 5-16 Tox'!S11:S280","v":"--"},{"$f":"IF(F11:F280<>\"--\",IF(H11:H280<>\"--\",IF(K11:K280<>\"--\",H11:H280*L9*F11:F280*K11:K280,\"--\"),\"--\"),\"--\")","v":"--"},{"$f":"IF(G11:G280<>\"--\",IF(H11:H280<>\"--\",IF(K11:K280<>\"--\",H11:H280*M9*K11:K280/G11:G280,\"--\"),\"--\"),\"--\")","v":"--"},{"$f":"IF(ISNUMBER('Tab 5-16 Tox'!$H11:$H280),'Tab 5-16 Tox'!$H11:$H280,\"--\")","v":"--"},{"$f":"IF(ISNUMBER('Tab 5-16 Tox'!$M11:$M280),'Tab 5-16 Tox'!$M11:$M280,\"--\")","v":"--"},{"$f":"IF(ISNUMBER(VLOOKUP(E11,'Tab 5-7a Soil & Air EPCs'!$D$7:$H$9,5,FALSE)),VLOOKUP(E11,'Tab 5-7a Soil & Air EPCs'!$D$7:$H$9,5,FALSE),\"--\")","v":"--"},{"$f":"IF(N11:N280<>\"--\",IF(P11:P280<>\"--\",P11:P280*Q9*N11:N280,\"--\"),\"--\")","v":"--"},{"$f":"IF(O11:O280<>\"--\",IF(P11:P280<>\"--\",P11:P280*R9/O11:O280,\"--\"),\"--\")","v":"--"},{"$f":"IF(ISNUMBER(VLOOKUP(E11,'Tab 5-7a Soil & Air EPCs'!$D$7:$F$9,3,FALSE)),VLOOKUP(E11,'Tab 5-7a Soil & Air EPCs'!$D$7:$F$9,3,FALSE),\"--\")","v":4.9225306598131534E-7},{"$f":"IF(N11:N280<>\"--\",IF(S11:S280<>\"--\",S11:S280*T9*N11:N280,\"--\"),\"--\")","v":"--"},{"$f":"IF(O11:O280<>\"--\",IF(S11:S280<>\"--\",S11:S280*U9/O11:O280,\"--\"),\"--\")","v":"--"},{"$f":"IF(SUM(I11,L11,Q11,T11)>0,SUM(I11,L11,Q11,T11),\"--\")","v":"--"},{"$f":"IF(SUM(J11,M11,R11,U11)>0,SUM(J11,M11,R11,U11),\"--\")","v":"--"}]
["X","Metal",0,"Zirconium","7440-67-7","--",8.0000000000000007E-5,{"$f":"IF(ISNUMBER(VLOOKUP(E12,'Tab 5-7a Soil & Air EPCs'!$D$7:$E$9,2,FALSE)),VLOOKUP(E12,'Tab 5-7a Soil & Air EPCs'!$D$7:$E$9,2,FALSE),\"--\")","v":24.9},"--",0.23983304794520541,"--","--","--","--","--",{"$f":"IF(ISNUMBER(VLOOKUP(E12,'Tab 5-7a Soil & Air EPCs'!$D$7:$H$9,5,FALSE)),VLOOKUP(E12,'Tab 5-7a Soil & Air EPCs'!$D$7:$H$9,5,FALSE),\"--\")","v":"--"},"--","--",{"$f":"IF(ISNUMBER(VLOOKUP(E12,'Tab 5-7a Soil & Air EPCs'!$D$7:$F$9,3,FALSE)),VLOOKUP(E12,'Tab 5-7a Soil & Air EPCs'!$D$7:$F$9,3,FALSE),\"--\")","v":2.6078939027520743E-5},"--","--",{"$f":"IF(SUM(I12,L12,Q12,T12)>0,SUM(I12,L12,Q12,T12),\"--\")","v":"--"},{"$f":"IF(SUM(J12,M12,R12,U12)>0,SUM(J12,M12,R12,U12),\"--\")","v":0.23983304794520541}]
["X","Pesticide - OCP",0,"Hexachlorobenzene","118-74-1",1.6,8.0000000000000004E-4,{"$f":"IF(ISNUMBER(VLOOKUP(E13,'Tab 5-7a Soil & Air EPCs'!$D$7:$E$9,2,FALSE)),VLOOKUP(E13,'Tab 5-7a Soil & Air EPCs'!$D$7:$E$9,2,FALSE),\"--\")","v":0.21},9.2465753424657539E-8,2.0226883561643834E-4,"--","--","--",4.6000000000000001E-4,"--",{"$f":"IF(ISNUMBER(VLOOKUP(E13,'Tab 5-7a Soil & Air EPCs'!$D$7:$H$9,5,FALSE)),VLOOKUP(E13,'Tab 5-7a Soil & Air EPCs'!$D$7:$H$9,5,FALSE),\"--\")","v":9.2393084429118477E-3},3.1189446309242534E-7,"--",{"$f":"IF(ISNUMBER(VLOOKUP(E13,'Tab 5-7a Soil & Air EPCs'!$D$7:$F$9,3,FALSE)),VLOOKUP(E13,'Tab 5-7a Soil & Air EPCs'!$D$7:$F$9,3,FALSE),\"--\")","v":2.1994285926824725E-7},7.4246855623821237E-12,"--",4.0436764120264531E-7,2.0226883561643834E-4]
[0,0,0,0,0,"--","--",{"$f":"IF(ISNUMBER(VLOOKUP(E14,'Tab 5-7a Soil & Air EPCs'!$D$7:$E$9,2,FALSE)),VLOOKUP(E14,'Tab 5-7a Soil & Air EPCs'!$D$7:$E$9,2,FALSE),\"--\")","v":"--"},"--","--",0,"--","--","--","--",{"$f":"IF(ISNUMBER(VLOOKUP(E14,'Tab 5-7a Soil & Air EPCs'!$D$7:$H$9,5,FALSE)),VLOOKUP(E14,'Tab 5-7a Soil & Air EPCs'!$D$7:$H$9,5,FALSE),\"--\")","v":"--"},"--","--",{"$f":"IF(ISNUMBER(VLOOKUP(E14,'Tab 5-7a Soil & Air EPCs'!$D$7:$F$9,3,FALSE)),VLOOKUP(E14,'Tab 5-7a Soil & Air EPCs'!$D$7:$F$9,3,FALSE),\"--\")","v":"--"},"--","--","--","--"]
[0,0,0,0,0,"--","--",{"$f":"IF(ISNUMBER(VLOOKUP(E15,'Tab 5-7a Soil & Air EPCs'!$D$7:$E$9,2,FALSE)),VLOOKUP(E15,'Tab 5-7a Soil & Air EPCs'!$D$7:$E$9,2,FALSE),\"--\")","v":"--"},"--","--",0,"--","--","--","--",{"$f":"IF(ISNUMBER(VLOOKUP(E15,'Tab 5-7a Soil & Air EPCs'!$D$7:$H$9,5,FALSE)),VLOOKUP(E15,'Tab 5-7a Soil & Air EPCs'!$D$7:$H$9,5,FALSE),\"--\")","v":"--"},"--","--",{"$f":"IF(ISNUMBER(VLOOKUP(E15,'Tab 5-7a Soil & Air EPCs'!$D$7:$F$9,3,FALSE)),VLOOKUP(E15,'Tab 5-7a Soil & Air EPCs'!$D$7:$F$9,3,FALSE),\"--\")","v":"--"},"--","--","--","--"]
[0,0,0,0,0,"--","--",{"$f":"IF(ISNUMBER(VLOOKUP(E16,'Tab 5-7a Soil & Air EPCs'!$D$7:$E$9,2,FALSE)),VLOOKUP(E16,'Tab 5-7a Soil & Air EPCs'!$D$7:$E$9,2,FALSE),\"--\")","v":"--"},"--","--",0,"--","--","--","--",{"$f":"IF(ISNUMBER(VLOOKUP(E16,'Tab 5-7a Soil & Air EPCs'!$D$7:$H$9,5,FALSE)),VLOOKUP(E16,'Tab 5-7a Soil & Air EPCs'!$D$7:$H$9,5,FALSE),\"--\")","v":"--"},"--","--",{"$f":"IF(ISNUMBER(VLOOKUP(E16,'Tab 5-7a Soil & Air EPCs'!$D$7:$F$9,3,FALSE)),VLOOKUP(E16,'Tab 5-7a Soil & Air EPCs'!$D$7:$F$9,3,FALSE),\"--\")","v":"--"},"--","--","--","--"]
[0,0,0,0,0,"--","--",{"$f":"IF(ISNUMBER(VLOOKUP(E17,'Tab 5-7a Soil & Air EPCs'!$D$7:$E$9,2,FALSE)),VLOOKUP(E17,'Tab 5-7a Soil & Air EPCs'!$D$7:$E$9,2,FALSE),\"--\")","v":"--"},"--","--",0,"--","--","--","--",{"$f":"IF(ISNUMBER(VLOOKUP(E17,'Tab 5-7a Soil & Air EPCs'!$D$7:$H$9,5,FALSE)),VLOOKUP(E17,'Tab 5-7a Soil & Air EPCs'!$D$7:$H$9,5,FALSE),\"--\")","v":"--"},"--","--",{"$f":"IF(ISNUMBER(VLOOKUP(E17,'Tab 5-7a Soil & Air EPCs'!$D$7:$F$9,3,FALSE)),VLOOKUP(E17,'Tab 5-7a Soil & Air EPCs'!$D$7:$F$9,3,FALSE),\"--\")","v":"--"},"--","--","--","--"]
[0,0,0,0,0,"--","--",{"$f":"IF(ISNUMBER(VLOOKUP(E18,'Tab 5-7a Soil & Air EPCs'!$D$7:$E$9,2,FALSE)),VLOOKUP(E18,'Tab 5-7a Soil & Air EPCs'!$D$7:$E$9,2,FALSE),\"--\")","v":"--"},"--","--",0,"--","--","--","--",{"$f":"IF(ISNUMBER(VLOOKUP(E18,'Tab 5-7a Soil & Air EPCs'!$D$7:$H$9,5,FALSE)),VLOOKUP(E18,'Tab 5-7a Soil & Air EPCs'!$D$7:$H$9,5,FALSE),\"--\")","v":"--"},"--","--",{"$f":"IF(ISNUMBER(VLOOKUP(E18,'Tab 5-7a Soil & Air EPCs'!$D$7:$F$9,3,FALSE)),VLOOKUP(E18,'Tab 5-7a Soil & Air EPCs'!$D$7:$F$9,3,FALSE),\"--\")","v":"--"},"--","--","--","--"]
[0,0,0,0,0,"--","--",{"$f":"IF(ISNUMBER(VLOOKUP(E19,'Tab 5-7a Soil & Air EPCs'!$D$7:$E$9,2,FALSE)),VLOOKUP(E19,'Tab 5-7a Soil & Air EPCs'!$D$7:$E$9,2,FALSE),\"--\")","v":"--"},"--","--",0,"--","--","--","--",{"$f":"IF(ISNUMBER(VLOOKUP(E19,'Tab 5-7a Soil & Air EPCs'!$D$7:$H$9,5,FALSE)),VLOOKUP(E19,'Tab 5-7a Soil & Air EPCs'!$D$7:$H$9,5,FALSE),\"--\")","v":"--"},"--","--",{"$f":"IF(ISNUMBER(VLOOKUP(E19,'Tab 5-7a Soil & Air EPCs'!$D$7:$F$9,3,FALSE)),VLOOKUP(E19,'Tab 5-7a Soil & Air EPCs'!$D$7:$F$9,3,FALSE),\"--\")","v":"--"},"--","--","--","--"]
[0,0,0,0,0,"--","--",{"$f":"IF(ISNUMBER(VLOOKUP(E20,'Tab 5-7a Soil & Air EPCs'!$D$7:$E$9,2,FALSE)),VLOOKUP(E20,'Tab 5-7a Soil & Air EPCs'!$D$7:$E$9,2,FALSE),\"--\")","v":"--"},"--","--",0,"--","--","--","--",{"$f":"IF(ISNUMBER(VLOOKUP(E20,'Tab 5-7a Soil & Air EPCs'!$D$7:$H$9,5,FALSE)),VLOOKUP(E20,'Tab 5-7a Soil & Air EPCs'!$D$7:$H$9,5,FALSE),\"--\")","v":"--"},"--","--",{"$f":"IF(ISNUMBER(VLOOKUP(E20,'Tab 5-7a Soil & Air EPCs'!$D$7:$F$9,3,FALSE)),VLOOKUP(E20,'Tab 5-7a Soil & Air EPCs'!$D$7:$F$9,3,FALSE),\"--\")","v":"--"},"--","--","--","--"]
[0,0,0,0,0,"--","--",{"$f":"IF(ISNUMBER(VLOOKUP(E21,'Tab 5-7a Soil & Air EPCs'!$D$7:$E$9,2,FALSE)),VLOOKUP(E21,'Tab 5-7a Soil & Air EPCs'!$D$7:$E$9,2,FALSE),\"--\")","v":"--"},"--","--",0,"--","--","--","--",{"$f":"IF(ISNUMBER(VLOOKUP(E21,'Tab 5-7a Soil & Air EPCs'!$D$7:$H$9,5,FALSE)),VLOOKUP(E21,'Tab 5-7a Soil & Air EPCs'!$D$7:$H$9,5,FALSE),\"--\")","v":"--"},"--","--",{"$f":"IF(ISNUMBER(VLOOKUP(E21,'Tab 5-7a Soil & Air EPCs'!$D$7:$F$9,3,FALSE)),VLOOKUP(E21,'Tab 5-7a Soil & Air EPCs'!$D$7:$F$9,3,FALSE),\"--\")","v":"--"},"--","--","--","--"]
[0,0,0,0,0,"--","--",{"$f":"IF(ISNUMBER(VLOOKUP(E22,'Tab 5-7a Soil & Air EPCs'!$D$7:$E$9,2,FALSE)),VLOOKUP(E22,'Tab 5-7a Soil & Air EPCs'!$D$7:$E$9,2,FALSE),\"--\")","v":"--"},"--","--",0,"--","--","--","--",{"$f":"IF(ISNUMBER(VLOOKUP(E22,'Tab 5-7a Soil & Air EPCs'!$D$7:$H$9,5,FALSE)),VLOOKUP(E22,'Tab 5-7a Soil & Air EPCs'!$D$7:$H$9,5,FALSE),\"--\")","v":"--"},"--","--",{"$f":"IF(ISNUMBER(VLOOKUP(E22,'Tab 5-7a Soil & Air EPCs'!$D$7:$F$9,3,FALSE)),VLOOKUP(E22,'Tab 5-7a Soil & Air EPCs'!$D$7:$F$9,3,FALSE),\"--\")","v":"--"},"--","--","--","--"]
[0,0,0,0,0,"--","--",{"$f":"IF(ISNUMBER(VLOOKUP(E23,'Tab 5-7a Soil & Air EPCs'!$D$7:$E$9,2,FALSE)),VLOOKUP(E23,'Tab 5-7a Soil & Air EPCs'!$D$7:$E$9,2,FALSE),\"--\")","v":"--"},"--","--",0,"--","--","--","--",{"$f":"IF(ISNUMBER(VLOOKUP(E23,'Tab 5-7a Soil & Air EPCs'!$D$7:$H$9,5,FALSE)),VLOOKUP(E23,'Tab 5-7a Soil & Air EPCs'!$D$7:$H$9,5,FALSE),\"--\")","v":"--"},"--","--",{"$f":"IF(ISNUMBER(VLOOKUP(E23,'Tab 5-7a Soil & Air EPCs'!$D$7:$F$9,3,FALSE)),VLOOKUP(E23,'Tab 5-7a Soil & Air EPCs'!$D$7:$F$9,3,FALSE),\"--\")","v":"--"},"--","--","--","--"]
[0,0,0,0,0,"--","--",{"$f":"IF(ISNUMBER(VLOOKUP(E24,'Tab 5-7a Soil & Air EPCs'!$D$7:$E$9,2,FALSE)),VLOOKUP(E24,'Tab 5-7a Soil & Air EPCs'!$D$7:$E$9,2,FALSE),\"--\")","v":"--"},"--","--",0,"--","--","--","--",{"$f":"IF(ISNUMBER(VLOOKUP(E24,'Tab 5-7a Soil & Air EPCs'!$D$7:$H$9,5,FALSE)),VLOOKUP(E24,'Tab 5-7a Soil & Air EPCs'!$D$7:$H$9,5,FALSE),\"--\")","v":"--"},"--","--",{"$f":"IF(ISNUMBER(VLOOKUP(E24,'Tab 5-7a Soil & Air EPCs'!$D$7:$F$9,3,FALSE)),VLOOKUP(E24,'Tab 5-7a Soil & Air EPCs'!$D$7:$F$9,3,FALSE),\"--\")","v":"--"},"--","--","--","--"]
[0,0,0,0,0,"--","--",{"$f":"IF(ISNUMBER(VLOOKUP(E25,'Tab 5-7a Soil & Air EPCs'!$D$7:$E$9,2,FALSE)),VLOOKUP(E25,'Tab 5-7a Soil & Air EPCs'!$D$7:$E$9,2,FALSE),\"--\")","v":"--"},"--","--",0,"--","--","--","--",{"$f":"IF(ISNUMBER(VLOOKUP(E25,'Tab 5-7a Soil & Air EPCs'!$D$7:$H$9,5,FALSE)),VLOOKUP(E25,'Tab 5-7a Soil & Air EPCs'!$D$7:$H$9,5,FALSE),\"--\")","v":"--"},"--","--",{"$f":"IF(ISNUMBER(VLOOKUP(E25,'Tab 5-7a Soil & Air EPCs'!$D$7:$F$9,3,FALSE)),VLOOKUP(E25,'Tab 5-7a Soil & Air EPCs'!$D$7:$F$9,3,FALSE),\"--\")","v":"--"},"--","--","--","--"]
[0,0,0,0,0,"--","--",{"$f":"IF(ISNUMBER(VLOOKUP(E26,'Tab 5-7a Soil & Air EPCs'!$D$7:$E$9,2,FALSE)),VLOOKUP(E26,'Tab 5-7a Soil & Air EPCs'!$D$7:$E$9,2,FALSE),\"--\")","v":"--"},"--","--",0,"--","--","--","--",{"$f":"IF(ISNUMBER(VLOOKUP(E26,'Tab 5-7a Soil & Air EPCs'!$D$7:$H$9,5,FALSE)),VLOOKUP(E26,'Tab 5-7a Soil & Air EPCs'!$D$7:$H$9,5,FALSE),\"--\")","v":"--"},"--","--",{"$f":"IF(ISNUMBER(VLOOKUP(E26,'Tab 5-7a Soil & Air EPCs'!$D$7:$F$9,3,FALSE)),VLOOKUP(E26,'Tab 5-7a Soil & Air EPCs'!$D$7:$F$9,3,FALSE),\"--\")","v":"--"},"--","--","--","--"]
[0,0,0,0,0,"--","--",{"$f":"IF(ISNUMBER(VLOOKUP(E27,'Tab 5-7a Soil & Air EPCs'!$D$7:$E$9,2,FALSE)),VLOOKUP(E27,'Tab 5-7a Soil & Air EPCs'!$D$7:$E$9,2,FALSE),\"--\")","v":"--"},"--","--",0,"--","--","--","--",{"$f":"IF(ISNUMBER(VLOOKUP(E27,'Tab 5-7a Soil & Air EPCs'!$D$7:$H$9,5,FALSE)),VLOOKUP(E27,'Tab 5-7a Soil & Air EPCs'!$D$7:$H$9,5,FALSE),\"--\")","v":"--"},"--","--",{"$f":"IF(ISNUMBER(VLOOKUP(E27,'Tab 5-7a Soil & Air EPCs'!$D$7:$F$9,3,FALSE)),VLOOKUP(E27,'Tab 5-7a Soil & Air EPCs'!$D$7:$F$9,3,FALSE),\"--\")","v":"--"},"--","--","--","--"]
[0,0,0,0,0,"--","--",{"$f":"IF(ISNUMBER(VLOOKUP(E28,'Tab 5-7a Soil & Air EPCs'!$D$7:$E$9,2,FALSE)),VLOOKUP(E28,'Tab 5-7a Soil & Air EPCs'!$D$7:$E$9,2,FALSE),\"--\")","v":"--"},"--","--",0,"--","--","--","--",{"$f":"IF(ISNUMBER(VLOOKUP(E28,'Tab 5-7a Soil & Air EPCs'!$D$7:$H$9,5,FALSE)),VLOOKUP(E28,'Tab 5-7a Soil & Air EPCs'!$D$7:$H$9,5,FALSE),\"--\")","v":"--"},"--","--",{"$f":"IF(ISNUMBER(VLOOKUP(E28,'Tab 5-7a Soil & Air EPCs'!$D$7:$F$9,3,FALSE)),VLOOKUP(E28,'Tab 5-7a Soil & Air EPCs'!$D$7:$F$9,3,FALSE),\"--\")","v":"--"},"--","--","--","--"]
[0,0,0,0,0,"--","--",{"$f":"IF(ISNUMBER(VLOOKUP(E29,'Tab 5-7a Soil & Air EPCs'!$D$7:$E$9,2,FALSE)),VLOOKUP(E29,'Tab 5-7a Soil & Air EPCs'!$D$7:$E$9,2,FALSE),\"--\")","v":"--"},"--","--",0,"--","--","--","--",{"$f":"IF(ISNUMBER(VLOOKUP(E29,'Tab 5-7a Soil & Air EPCs'!$D$7:$H$9,5,FALSE)),VLOOKUP(E29,'Tab 5-7a Soil & Air EPCs'!$D$7:$H$9,5,FALSE),\"--\")","v":"--"},"--","--",{"$f":"IF(ISNUMBER(VLOOKUP(E29,'Tab 5-7a Soil & Air EPCs'!$D$7:$F$9,3,FALSE)),VLOOKUP(E29,'Tab 5-7a Soil & Air EPCs'!$D$7:$F$9,3,FALSE),\"--\")","v":"--"},"--","--","--","--"]
[0,0,0,0,0,"--","--",{"$f":"IF(ISNUMBER(VLOOKUP(E30,'Tab 5-7a Soil & Air EPCs'!$D$7:$E$9,2,FALSE)),VLOOKUP(E30,'Tab 5-7a Soil & Air EPCs'!$D$7:$E$9,2,FALSE),\"--\")","v":"--"},"--","--",0,"--","--","--","--",{"$f":"IF(ISNUMBER(VLOOKUP(E30,'Tab 5-7a Soil & Air EPCs'!$D$7:$H$9,5,FALSE)),VLOOKUP(E30,'Tab 5-7a Soil & Air EPCs'!$D$7:$H$9,5,FALSE),\"--\")","v":"--"},"--","--",{"$f":"IF(ISNUMBER(VLOOKUP(E30,'Tab 5-7a Soil & Air EPCs'!$D$7:$F$9,3,FALSE)),VLOOKUP(E30,'Tab 5-7a Soil & Air EPCs'!$D$7:$F$9,3,FALSE),\"--\")","v":"--"},"--","--","--","--"]
[0,0,0,0,0,"--","--",{"$f":"IF(ISNUMBER(VLOOKUP(E31,'Tab 5-7a Soil & Air EPCs'!$D$7:$E$9,2,FALSE)),VLOOKUP(E31,'Tab 5-7a Soil & Air EPCs'!$D$7:$E$9,2,FALSE),\"--\")","v":"--"},"--","--",0,"--","--","--","--",{"$f":"IF(ISNUMBER(VLOOKUP(E31,'Tab 5-7a Soil & Air EPCs'!$D$7:$H$9,5,FALSE)),VLOOKUP(E31,'Tab 5-7a Soil & Air EPCs'!$D$7:$H$9,5,FALSE),\"--\")","v":"--"},"--","--",{"$f":"IF(ISNUMBER(VLOOKUP(E31,'Tab 5-7a Soil & Air EPCs'!$D$7:$F$9,3,FALSE)),VLOOKUP(E31,'Tab 5-7a Soil & Air EPCs'!$D$7:$F$9,3,FALSE),\"--\")","v":"--"},"--","--","--","--"]
[0,0,0,0,0,"--","--",{"$f":"IF(ISNUMBER(VLOOKUP(E32,'Tab 5-7a Soil & Air EPCs'!$D$7:$E$9,2,FALSE)),VLOOKUP(E32,'Tab 5-7a Soil & Air EPCs'!$D$7:$E$9,2,FALSE),\"--\")","v":"--"},"--","--",0,"--","--","--","--",{"$f":"IF(ISNUMBER(VLOOKUP(E32,'Tab 5-7a Soil & Air EPCs'!$D$7:$H$9,5,FALSE)),VLOOKUP(E32,'Tab 5-7a Soil & Air EPCs'!$D$7:$H$9,5,FALSE),\"--\")","v":"--"},"--","--",{"$f":"IF(ISNUMBER(VLOOKUP(E32,'Tab 5-7a Soil & Air EPCs'!$D$7:$F$9,3,FALSE)),VLOOKUP(E32,'Tab 5-7a Soil & Air EPCs'!$D$7:$F$9,3,FALSE),\"--\")","v":"--"},"--","--","--","--"]
[0,0,0,0,0,"--","--",{"$f":"IF(ISNUMBER(VLOOKUP(E33,'Tab 5-7a Soil & Air EPCs'!$D$7:$E$9,2,FALSE)),VLOOKUP(E33,'Tab 5-7a Soil & Air EPCs'!$D$7:$E$9,2,FALSE),\"--\")","v":"--"},"--","--",0,"--","--","--","--",{"$f":"IF(ISNUMBER(VLOOKUP(E33,'Tab 5-7a Soil & Air EPCs'!$D$7:$H$9,5,FALSE)),VLOOKUP(E33,'Tab 5-7a Soil & Air EPCs'!$D$7:$H$9,5,FALSE),\"--\")","v":"--"},"--","--",{"$f":"IF(ISNUMBER(VLOOKUP(E33,'Tab 5-7a Soil & Air EPCs'!$D$7:$F$9,3,FALSE)),VLOOKUP(E33,'Tab 5-7a Soil & Air EPCs'!$D$7:$F$9,3,FALSE),\"--\")","v":"--"},"--","--","--","--"]
[0,0,0,0,0,"--","--",{"$f":"IF(ISNUMBER(VLOOKUP(E34,'Tab 5-7a Soil & Air EPCs'!$D$7:$E$9,2,FALSE)),VLOOKUP(E34,'Tab 5-7a Soil & Air EPCs'!$D$7:$E$9,2,FALSE),\"--\")","v":"--"},"--","--",0,"--","--","--","--",{"$f":"IF(ISNUMBER(VLOOKUP(E34,'Tab 5-7a Soil & Air EPCs'!$D$7:$H$9,5,FALSE)),VLOOKUP(E34,'Tab 5-7a Soil & Air EPCs'!$D$7:$H$9,5,FALSE),\"--\")","v":"--"},"--","--",{"$f":"IF(ISNUMBER(VLOOKUP(E34,'Tab 5-7a Soil & Air EPCs'!$D$7:$F$9,3,FALSE)),VLOOKUP(E34,'Tab 5-7a Soil & Air EPCs'!$D$7:$F$9,3,FALSE),\"--\")","v":"--"},"--","--","--","--"]
[0,0,0,0,0,"--","--",{"$f":"IF(ISNUMBER(VLOOKUP(E35,'Tab 5-7a Soil & Air EPCs'!$D$7:$E$9,2,FALSE)),VLOOKUP(E35,'Tab 5-7a Soil & Air EPCs'!$D$7:$E$9,2,FALSE),\"--\")","v":"--"},"--","--",0,"--","--","--","--",{"$f":"IF(ISNUMBER(VLOOKUP(E35,'Tab 5-7a Soil & Air EPCs'!$D$7:$H$9,5,FALSE)),VLOOKUP(E35,'Tab 5-7a Soil & Air EPCs'!$D$7:$H$9,5,FALSE),\"--\")","v":"--"},"--","--",{"$f":"IF(ISNUMBER(VLOOKUP(E35,'Tab 5-7a Soil & Air EPCs'!$D$7:$F$9,3,FALSE)),VLOOKUP(E35,'Tab 5-7a Soil & Air EPCs'!$D$7:$F$9,3,FALSE),\"--\")","v":"--"},"--","--","--","--"]
[0,0,0,0,0,"--","--",{"$f":"IF(ISNUMBER(VLOOKUP(E36,'Tab 5-7a Soil & Air EPCs'!$D$7:$E$9,2,FALSE)),VLOOKUP(E36,'Tab 5-7a Soil & Air EPCs'!$D$7:$E$9,2,FALSE),\"--\")","v":"--"},"--","--",0,"--","--","--","--",{"$f":"IF(ISNUMBER(VLOOKUP(E36,'Tab 5-7a Soil & Air EPCs'!$D$7:$H$9,5,FALSE)),VLOOKUP(E36,'Tab 5-7a Soil & Air EPCs'!$D$7:$H$9,5,FALSE),\"--\")","v":"--"},"--","--",{"$f":"IF(ISNUMBER(VLOOKUP(E36,'Tab 5-7a Soil & Air EPCs'!$D$7:$F$9,3,FALSE)),VLOOKUP(E36,'Tab 5-7a Soil & Air EPCs'!$D$7:$F$9,3,FALSE),\"--\")","v":"--"},"--","--","--","--"]
[0,0,0,0,0,"--","--",{"$f":"IF(ISNUMBER(VLOOKUP(E37,'Tab 5-7a Soil & Air EPCs'!$D$7:$E$9,2,FALSE)),VLOOKUP(E37,'Tab 5-7a Soil & Air EPCs'!$D$7:$E$9,2,FALSE),\"--\")","v":"--"},"--","--",0,"--","--","--","--",{"$f":"IF(ISNUMBER(VLOOKUP(E37,'Tab 5-7a Soil & Air EPCs'!$D$7:$H$9,5,FALSE)),VLOOKUP(E37,'Tab 5-7a Soil & Air EPCs'!$D$7:$H$9,5,FALSE),\"--\")","v":"--"},"--","--",{"$f":"IF(ISNUMBER(VLOOKUP(E37,'Tab 5-7a Soil & Air EPCs'!$D$7:$F$9,3,FALSE)),VLOOKUP(E37,'Tab 5-7a Soil & Air EPCs'!$D$7:$F$9,3,FALSE),\"--\")","v":"--"},"--","--","--","--"]
[0,0,0,0,0,"--","--",{"$f":"IF(ISNUMBER(VLOOKUP(E38,'Tab 5-7a Soil & Air EPCs'!$D$7:$E$9,2,FALSE)),VLOOKUP(E38,'Tab 5-7a Soil & Air EPCs'!$D$7:$E$9,2,FALSE),\"--\")","v":"--"},"--","--",0,"--","--","--","--",{"$f":"IF(ISNUMBER(VLOOKUP(E38,'Tab 5-7a Soil & Air EPCs'!$D$7:$H$9,5,FALSE)),VLOOKUP(E38,'Tab 5-7a Soil & Air EPCs'!$D$7:$H$9,5,FALSE),\"--\")","v":"--"},"--","--",{"$f":"IF(ISNUMBER(VLOOKUP(E38,'Tab 5-7a Soil & Air EPCs'!$D$7:$F$9,3,FALSE)),VLOOKUP(E38,'Tab 5-7a Soil & Air EPCs'!$D$7:$F$9,3,FALSE),\"--\")","v":"--"},"--","--","--","--"]
[0,0,0,0,0,"--","--",{"$f":"IF(ISNUMBER(VLOOKUP(E39,'Tab 5-7a Soil & Air EPCs'!$D$7:$E$9,2,FALSE)),VLOOKUP(E39,'Tab 5-7a Soil & Air EPCs'!$D$7:$E$9,2,FALSE),\"--\")","v":"--"},"--","--",0,"--","--","--","--",{"$f":"IF(ISNUMBER(VLOOKUP(E39,'Tab 5-7a Soil & Air EPCs'!$D$7:$H$9,5,FALSE)),VLOOKUP(E39,'Tab 5-7a Soil & Air EPCs'!$D$7:$H$9,5,FALSE),\"--\")","v":"--"},"--","--",{"$f":"IF(ISNUMBER(VLOOKUP(E39,'Tab 5-7a Soil & Air EPCs'!$D$7:$F$9,3,FALSE)),VLOOKUP(E39,'Tab 5-7a Soil & Air EPCs'!$D$7:$F$9,3,FALSE),\"--\")","v":"--"},"--","--","--","--"]
[0,0,0,0,0,"--","--",{"$f":"IF(ISNUMBER(VLOOKUP(E40,'Tab 5-7a Soil & Air EPCs'!$D$7:$E$9,2,FALSE)),VLOOKUP(E40,'Tab 5-7a Soil & Air EPCs'!$D$7:$E$9,2,FALSE),\"--\")","v":"--"},"--","--",0,"--","--","--","--",{"$f":"IF(ISNUMBER(VLOOKUP(E40,'Tab 5-7a Soil & Air EPCs'!$D$7:$H$9,5,FALSE)),VLOOKUP(E40,'Tab 5-7a Soil & Air EPCs'!$D$7:$H$9,5,FALSE),\"--\")","v":"--"},"--","--",{"$f":"IF(ISNUMBER(VLOOKUP(E40,'Tab 5-7a Soil & Air EPCs'!$D$7:$F$9,3,FALSE)),VLOOKUP(E40,'Tab 5-7a Soil & Air EPCs'!$D$7:$F$9,3,FALSE),\"--\")","v":"--"},"--","--","--","--"]
[0,0,0,0,0,"--","--",{"$f":"IF(ISNUMBER(VLOOKUP(E41,'Tab 5-7a Soil & Air EPCs'!$D$7:$E$9,2,FALSE)),VLOOKUP(E41,'Tab 5-7a Soil & Air EPCs'!$D$7:$E$9,2,FALSE),\"--\")","v":"--"},"--","--",0,"--","--","--","--",{"$f":"IF(ISNUMBER(VLOOKUP(E41,'Tab 5-7a Soil & Air EPCs'!$D$7:$H$9,5,FALSE)),VLOOKUP(E41,'Tab 5-7a Soil & Air EPCs'!$D$7:$H$9,5,FALSE),\"--\")","v":"--"},"--","--",{"$f":"IF(ISNUMBER(VLOOKUP(E41,'Tab 5-7a Soil & Air EPCs'!$D$7:$F$9,3,FALSE)),VLOOKUP(E41,'Tab 5-7a Soil & Air EPCs'!$D$7:$F$9,3,FALSE),\"--\")","v":"--"},"--","--","--","--"]
[0,0,0,0,0,"--","--",{"$f":"IF(ISNUMBER(VLOOKUP(E42,'Tab 5-7a Soil & Air EPCs'!$D$7:$E$9,2,FALSE)),VLOOKUP(E42,'Tab 5-7a Soil & Air EPCs'!$D$7:$E$9,2,FALSE),\"--\")","v":"--"},"--","--",0,"--","--","--","--",{"$f":"IF(ISNUMBER(VLOOKUP(E42,'Tab 5-7a Soil & Air EPCs'!$D$7:$H$9,5,FALSE)),VLOOKUP(E42,'Tab 5-7a Soil & Air EPCs'!$D$7:$H$9,5,FALSE),\"--\")","v":"--"},"--","--",{"$f":"IF(ISNUMBER(VLOOKUP(E42,'Tab 5-7a Soil & Air EPCs'!$D$7:$F$9,3,FALSE)),VLOOKUP(E42,'Tab 5-7a Soil & Air EPCs'!$D$7:$F$9,3,FALSE),\"--\")","v":"--"},"--","--","--","--"]
[0,0,0,0,0,"--","--",{"$f":"IF(ISNUMBER(VLOOKUP(E43,'Tab 5-7a Soil & Air EPCs'!$D$7:$E$9,2,FALSE)),VLOOKUP(E43,'Tab 5-7a Soil & Air EPCs'!$D$7:$E$9,2,FALSE),\"--\")","v":"--"},"--","--",0,"--","--","--","--",{"$f":"IF(ISNUMBER(VLOOKUP(E43,'Tab 5-7a Soil & Air EPCs'!$D$7:$H$9,5,FALSE)),VLOOKUP(E43,'Tab 5-7a Soil & Air EPCs'!$D$7:$H$9,5,FALSE),\"--\")","v":"--"},"--","--",{"$f":"IF(ISNUMBER(VLOOKUP(E43,'Tab 5-7a Soil & Air EPCs'!$D$7:$F$9,3,FALSE)),VLOOKUP(E43,'Tab 5-7a Soil & Air EPCs'!$D$7:$F$9,3,FALSE),\"--\")","v":"--"},"--","--","--","--"]
[0,0,0,0,0,"--","--",{"$f":"IF(ISNUMBER(VLOOKUP(E44,'Tab 5-7a Soil & Air EPCs'!$D$7:$E$9,2,FALSE)),VLOOKUP(E44,'Tab 5-7a Soil & Air EPCs'!$D$7:$E$9,2,FALSE),\"--\")","v":"--"},"--","--",0,"--","--","--","--",{"$f":"IF(ISNUMBER(VLOOKUP(E44,'Tab 5-7a Soil & Air EPCs'!$D$7:$H$9,5,FALSE)),VLOOKUP(E44,'Tab 5-7a Soil & Air EPCs'!$D$7:$H$9,5,FALSE),\"--\")","v":"--"},"--","--",{"$f":"IF(ISNUMBER(VLOOKUP(E44,'Tab 5-7a Soil & Air EPCs'!$D$7:$F$9,3,FALSE)),VLOOKUP(E44,'Tab 5-7a Soil & Air EPCs'!$D$7:$F$9,3,FALSE),\"--\")","v":"--"},"--","--","--","--"]
[0,0,0,0,0,"--","--",{"$f":"IF(ISNUMBER(VLOOKUP(E45,'Tab 5-7a Soil & Air EPCs'!$D$7:$E$9,2,FALSE)),VLOOKUP(E45,'Tab 5-7a Soil & Air EPCs'!$D$7:$E$9,2,FALSE),\"--\")","v":"--"},"--","--",0,"--","--","--","--",{"$f":"IF(ISNUMBER(VLOOKUP(E45,'Tab 5-7a Soil & Air EPCs'!$D$7:$H$9,5,FALSE)),VLOOKUP(E45,'Tab 5-7a Soil & Air EPCs'!$D$7:$H$9,5,FALSE),\"--\")","v":"--"},"--","--",{"$f":"IF(ISNUMBER(VLOOKUP(E45,'Tab 5-7a Soil & Air EPCs'!$D$7:$F$9,3,FALSE)),VLOOKUP(E45,'Tab 5-7a Soil & Air EPCs'!$D$7:$F$9,3,FALSE),\"--\")","v":"--"},"--","--","--","--"]
[0,0,0,0,0,"--","--",{"$f":"IF(ISNUMBER(VLOOKUP(E46,'Tab 5-7a Soil & Air EPCs'!$D$7:$E$9,2,FALSE)),VLOOKUP(E46,'Tab 5-7a Soil & Air EPCs'!$D$7:$E$9,2,FALSE),\"--\")","v":"--"},"--","--",0,"--","--","--","--",{"$f":"IF(ISNUMBER(VLOOKUP(E46,'Tab 5-7a Soil & Air EPCs'!$D$7:$H$9,5,FALSE)),VLOOKUP(E46,'Tab 5-7a Soil & Air EPCs'!$D$7:$H$9,5,FALSE),\"--\")","v":"--"},"--","--",{"$f":"IF(ISNUMBER(VLOOKUP(E46,'Tab 5-7a Soil & Air EPCs'!$D$7:$F$9,3,FALSE)),VLOOKUP(E46,'Tab 5-7a Soil & Air EPCs'!$D$7:$F$9,3,FALSE),\"--\")","v":"--"},"--","--","--","--"]
[0,0,0,0,0,"--","--",{"$f":"IF(ISNUMBER(VLOOKUP(E47,'Tab 5-7a Soil & Air EPCs'!$D$7:$E$9,2,FALSE)),VLOOKUP(E47,'Tab 5-7a Soil & Air EPCs'!$D$7:$E$9,2,FALSE),\"--\")","v":"--"},"--","--",0,"--","--","--","--",{"$f":"IF(ISNUMBER(VLOOKUP(E47,'Tab 5-7a Soil & Air EPCs'!$D$7:$H$9,5,FALSE)),VLOOKUP(E47,'Tab 5-7a Soil & Air EPCs'!$D$7:$H$9,5,FALSE),\"--\")","v":"--"},"--","--",{"$f":"IF(ISNUMBER(VLOOKUP(E47,'Tab 5-7a Soil & Air EPCs'!$D$7:$F$9,3,FALSE)),VLOOKUP(E47,'Tab 5-7a Soil & Air EPCs'!$D$7:$F$9,3,FALSE),\"--\")","v":"--"},"--","--","--","--"]
[0,0,0,0,0,"--","--",{"$f":"IF(ISNUMBER(VLOOKUP(E48,'Tab 5-7a Soil & Air EPCs'!$D$7:$E$9,2,FALSE)),VLOOKUP(E48,'Tab 5-7a Soil & Air EPCs'!$D$7:$E$9,2,FALSE),\"--\")","v":"--"},"--","--",0,"--","--","--","--",{"$f":"IF(ISNUMBER(VLOOKUP(E48,'Tab 5-7a Soil & Air EPCs'!$D$7:$H$9,5,FALSE)),VLOOKUP(E48,'Tab 5-7a Soil & Air EPCs'!$D$7:$H$9,5,FALSE),\"--\")","v":"--"},"--","--",{"$f":"IF(ISNUMBER(VLOOKUP(E48,'Tab 5-7a Soil & Air EPCs'!$D$7:$F$9,3,FALSE)),VLOOKUP(E48,'Tab 5-7a Soil & Air EPCs'!$D$7:$F$9,3,FALSE),\"--\")","v":"--"},"--","--","--","--"]
[0,0,0,0,0,"--","--",{"$f":"IF(ISNUMBER(VLOOKUP(E49,'Tab 5-7a Soil & Air EPCs'!$D$7:$E$9,2,FALSE)),VLOOKUP(E49,'Tab 5-7a Soil & Air EPCs'!$D$7:$E$9,2,FALSE),\"--\")","v":"--"},"--","--",0,"--","--","--","--",{"$f":"IF(ISNUMBER(VLOOKUP(E49,'Tab 5-7a Soil & Air EPCs'!$D$7:$H$9,5,FALSE)),VLOOKUP(E49,'Tab 5-7a Soil & Air EPCs'!$D$7:$H$9,5,FALSE),\"--\")","v":"--"},"--","--",{"$f":"IF(ISNUMBER(VLOOKUP(E49,'Tab 5-7a Soil & Air EPCs'!$D$7:$F$9,3,FALSE)),VLOOKUP(E49,'Tab 5-7a Soil & Air EPCs'!$D$7:$F$9,3,FALSE),\"--\")","v":"--"},"--","--","--","--"]
[0,0,0,0,0,"--","--",{"$f":"IF(ISNUMBER(VLOOKUP(E50,'Tab 5-7a Soil & Air EPCs'!$D$7:$E$9,2,FALSE)),VLOOKUP(E50,'Tab 5-7a Soil & Air EPCs'!$D$7:$E$9,2,FALSE),\"--\")","v":"--"},"--","--",0,"--","--","--","--",{"$f":"IF(ISNUMBER(VLOOKUP(E50,'Tab 5-7a Soil & Air EPCs'!$D$7:$H$9,5,FALSE)),VLOOKUP(E50,'Tab 5-7a Soil & Air EPCs'!$D$7:$H$9,5,FALSE),\"--\")","v":"--"},"--","--",{"$f":"IF(ISNUMBER(VLOOKUP(E50,'Tab 5-7a Soil & Air EPCs'!$D$7:$F$9,3,FALSE)),VLOOKUP(E50,'Tab 5-7a Soil & Air EPCs'!$D$7:$F$9,3,FALSE),\"--\")","v":"--"},"--","--","--","--"]
[0,0,0,0,0,"--","--",{"$f":"IF(ISNUMBER(VLOOKUP(E51,'Tab 5-7a Soil & Air EPCs'!$D$7:$E$9,2,FALSE)),VLOOKUP(E51,'Tab 5-7a Soil & Air EPCs'!$D$7:$E$9,2,FALSE),\"--\")","v":"--"},"--","--",0,"--","--","--","--",{"$f":"IF(ISNUMBER(VLOOKUP(E51,'Tab 5-7a Soil & Air EPCs'!$D$7:$H$9,5,FALSE)),VLOOKUP(E51,'Tab 5-7a Soil & Air EPCs'!$D$7:$H$9,5,FALSE),\"--\")","v":"--"},"--","--",{"$f":"IF(ISNUMBER(VLOOKUP(E51,'Tab 5-7a Soil & Air EPCs'!$D$7:$F$9,3,FALSE)),VLOOKUP(E51,'Tab 5-7a Soil & Air EPCs'!$D$7:$F$9,3,FALSE),\"--\")","v":"--"},"--","--","--","--"]
[0,0,0,0,0,"--","--",{"$f":"IF(ISNUMBER(VLOOKUP(E52,'Tab 5-7a Soil & Air EPCs'!$D$7:$E$9,2,FALSE)),VLOOKUP(E52,'Tab 5-7a Soil & Air EPCs'!$D$7:$E$9,2,FALSE),\"--\")","v":"--"},"--","--",0,"--","--","--","--",{"$f":"IF(ISNUMBER(VLOOKUP(E52,'Tab 5-7a Soil & Air EPCs'!$D$7:$H$9,5,FALSE)),VLOOKUP(E52,'Tab 5-7a Soil & Air EPCs'!$D$7:$H$9,5,FALSE),\"--\")","v":"--"},"--","--",{"$f":"IF(ISNUMBER(VLOOKUP(E52,'Tab 5-7a Soil & Air EPCs'!$D$7:$F$9,3,FALSE)),VLOOKUP(E52,'Tab 5-7a Soil & Air EPCs'!$D$7:$F$9,3,FALSE),\"--\")","v":"--"},"--","--","--","--"]
[0,0,0,0,0,"--","--",{"$f":"IF(ISNUMBER(VLOOKUP(E53,'Tab 5-7a Soil & Air EPCs'!$D$7:$E$9,2,FALSE)),VLOOKUP(E53,'Tab 5-7a Soil & Air EPCs'!$D$7:$E$9,2,FALSE),\"--\")","v":"--"},"--","--",0,"--","--","--","--",{"$f":"IF(ISNUMBER(VLOOKUP(E53,'Tab 5-7a Soil & Air EPCs'!$D$7:$H$9,5,FALSE)),VLOOKUP(E53,'Tab 5-7a Soil & Air EPCs'!$D$7:$H$9,5,FALSE),\"--\")","v":"--"},"--","--",{"$f":"IF(ISNUMBER(VLOOKUP(E53,'Tab 5-7a Soil & Air EPCs'!$D$7:$F$9,3,FALSE)),VLOOKUP(E53,'Tab 5-7a Soil & Air EPCs'!$D$7:$F$9,3,FALSE),\"--\")","v":"--"},"--","--","--","--"]
[0,0,0,0,0,"--","--",{"$f":"IF(ISNUMBER(VLOOKUP(E54,'Tab 5-7a Soil & Air EPCs'!$D$7:$E$9,2,FALSE)),VLOOKUP(E54,'Tab 5-7a Soil & Air EPCs'!$D$7:$E$9,2,FALSE),\"--\")","v":"--"},"--","--",0,"--","--","--","--",{"$f":"IF(ISNUMBER(VLOOKUP(E54,'Tab 5-7a Soil & Air EPCs'!$D$7:$H$9,5,FALSE)),VLOOKUP(E54,'Tab 5-7a Soil & Air EPCs'!$D$7:$H$9,5,FALSE),\"--\")","v":"--"},"--","--",{"$f":"IF(ISNUMBER(VLOOKUP(E54,'Tab 5-7a Soil & Air EPCs'!$D$7:$F$9,3,FALSE)),VLOOKUP(E54,'Tab 5-7a Soil & Air EPCs'!$D$7:$F$9,3,FALSE),\"--\")","v":"--"},"--","--","--","--"]
[0,0,0,0,0,"--","--",{"$f":"IF(ISNUMBER(VLOOKUP(E55,'Tab 5-7a Soil & Air EPCs'!$D$7:$E$9,2,FALSE)),VLOOKUP(E55,'Tab 5-7a Soil & Air EPCs'!$D$7:$E$9,2,FALSE),\"--\")","v":"--"},"--","--",0,"--","--","--","--",{"$f":"IF(ISNUMBER(VLOOKUP(E55,'Tab 5-7a Soil & Air EPCs'!$D$7:$H$9,5,FALSE)),VLOOKUP(E55,'Tab 5-7a Soil & Air EPCs'!$D$7:$H$9,5,FALSE),\"--\")","v":"--"},"--","--",{"$f":"IF(ISNUMBER(VLOOKUP(E55,'Tab 5-7a Soil & Air EPCs'!$D$7:$F$9,3,FALSE)),VLOOKUP(E55,'Tab 5-7a Soil & Air EPCs'!$D$7:$F$9,3,FALSE),\"--\")","v":"--"},"--","--","--","--"]
[0,0,0,0,0,"--","--",{"$f":"IF(ISNUMBER(VLOOKUP(E56,'Tab 5-7a Soil & Air EPCs'!$D$7:$E$9,2,FALSE)),VLOOKUP(E56,'Tab 5-7a Soil & Air EPCs'!$D$7:$E$9,2,FALSE),\"--\")","v":"--"},"--","--",0,"--","--","--","--",{"$f":"IF(ISNUMBER(VLOOKUP(E56,'Tab 5-7a Soil & Air EPCs'!$D$7:$H$9,5,FALSE)),VLOOKUP(E56,'Tab 5-7a Soil & Air EPCs'!$D$7:$H$9,5,FALSE),\"--\")","v":"--"},"--","--",{"$f":"IF(ISNUMBER(VLOOKUP(E56,'Tab 5-7a Soil & Air EPCs'!$D$7:$F$9,3,FALSE)),VLOOKUP(E56,'Tab 5-7a Soil & Air EPCs'!$D$7:$F$9,3,FALSE),\"--\")","v":"--"},"--","--","--","--"]
[0,0,0,0,0,"--","--",{"$f":"IF(ISNUMBER(VLOOKUP(E57,'Tab 5-7a Soil & Air EPCs'!$D$7:$E$9,2,FALSE)),VLOOKUP(E57,'Tab 5-7a Soil & Air EPCs'!$D$7:$E$9,2,FALSE),\"--\")","v":"--"},"--","--",0,"--","--","--","--",{"$f":"IF(ISNUMBER(VLOOKUP(E57,'Tab 5-7a Soil & Air EPCs'!$D$7:$H$9,5,FALSE)),VLOOKUP(E57,'Tab 5-7a Soil & Air EPCs'!$D$7:$H$9,5,FALSE),\"--\")","v":"--"},"--","--",{"$f":"IF(ISNUMBER(VLOOKUP(E57,'Tab 5-7a Soil & Air EPCs'!$D$7:$F$9,3,FALSE)),VLOOKUP(E57,'Tab 5-7a Soil & Air EPCs'!$D$7:$F$9,3,FALSE),\"--\")","v":"--"},"--","--","--","--"]
[0,0,0,0,0,"--","--",{"$f":"IF(ISNUMBER(VLOOKUP(E58,'Tab 5-7a Soil & Air EPCs'!$D$7:$E$9,2,FALSE)),VLOOKUP(E58,'Tab 5-7a Soil & Air EPCs'!$D$7:$E$9,2,FALSE),\"--\")","v":"--"},"--","--",0,"--","--","--","--",{"$f":"IF(ISNUMBER(VLOOKUP(E58,'Tab 5-7a Soil & Air EPCs'!$D$7:$H$9,5,FALSE)),VLOOKUP(E58,'Tab 5-7a Soil & Air EPCs'!$D$7:$H$9,5,FALSE),\"--\")","v":"--"},"--","--",{"$f":"IF(ISNUMBER(VLOOKUP(E58,'Tab 5-7a Soil & Air EPCs'!$D$7:$F$9,3,FALSE)),VLOOKUP(E58,'Tab 5-7a Soil & Air EPCs'!$D$7:$F$9,3,FALSE),\"--\")","v":"--"},"--","--","--","--"]
[0,0,0,0,0,"--","--",{"$f":"IF(ISNUMBER(VLOOKUP(E59,'Tab 5-7a Soil & Air EPCs'!$D$7:$E$9,2,FALSE)),VLOOKUP(E59,'Tab 5-7a Soil & Air EPCs'!$D$7:$E$9,2,FALSE),\"--\")","v":"--"},"--","--",0,"--","--","--","--",{"$f":"IF(ISNUMBER(VLOOKUP(E59,'Tab 5-7a Soil & Air EPCs'!$D$7:$H$9,5,FALSE)),VLOOKUP(E59,'Tab 5-7a Soil & Air EPCs'!$D$7:$H$9,5,FALSE),\"--\")","v":"--"},"--","--",{"$f":"IF(ISNUMBER(VLOOKUP(E59,'Tab 5-7a Soil & Air EPCs'!$D$7:$F$9,3,FALSE)),VLOOKUP(E59,'Tab 5-7a Soil & Air EPCs'!$D$7:$F$9,3,FALSE),\"--\")","v":"--"},"--","--","--","--"]
[0,0,0,0,0,"--","--",{"$f":"IF(ISNUMBER(VLOOKUP(E60,'Tab 5-7a Soil & Air EPCs'!$D$7:$E$9,2,FALSE)),VLOOKUP(E60,'Tab 5-7a Soil & Air EPCs'!$D$7:$E$9,2,FALSE),\"--\")","v":"--"},"--","--",0,"--","--","--","--",{"$f":"IF(ISNUMBER(VLOOKUP(E60,'Tab 5-7a Soil & Air EPCs'!$D$7:$H$9,5,FALSE)),VLOOKUP(E60,'Tab 5-7a Soil & Air EPCs'!$D$7:$H$9,5,FALSE),\"--\")","v":"--"},"--","--",{"$f":"IF(ISNUMBER(VLOOKUP(E60,'Tab 5-7a Soil & Air EPCs'!$D$7:$F$9,3,FALSE)),VLOOKUP(E60,'Tab 5-7a Soil & Air EPCs'!$D$7:$F$9,3,FALSE),\"--\")","v":"--"},"--","--","--","--"]
[0,0,0,0,0,"--","--",{"$f":"IF(ISNUMBER(VLOOKUP(E61,'Tab 5-7a Soil & Air EPCs'!$D$7:$E$9,2,FALSE)),VLOOKUP(E61,'Tab 5-7a Soil & Air EPCs'!$D$7:$E$9,2,FALSE),\"--\")","v":"--"},"--","--",0,"--","--","--","--",{"$f":"IF(ISNUMBER(VLOOKUP(E61,'Tab 5-7a Soil & Air EPCs'!$D$7:$H$9,5,FALSE)),VLOOKUP(E61,'Tab 5-7a Soil & Air EPCs'!$D$7:$H$9,5,FALSE),\"--\")","v":"--"},"--","--",{"$f":"IF(ISNUMBER(VLOOKUP(E61,'Tab 5-7a Soil & Air EPCs'!$D$7:$F$9,3,FALSE)),VLOOKUP(E61,'Tab 5-7a Soil & Air EPCs'!$D$7:$F$9,3,FALSE),\"--\")","v":"--"},"--","--","--","--"]
[0,0,0,0,0,"--","--",{"$f":"IF(ISNUMBER(VLOOKUP(E62,'Tab 5-7a Soil & Air EPCs'!$D$7:$E$9,2,FALSE)),VLOOKUP(E62,'Tab 5-7a Soil & Air EPCs'!$D$7:$E$9,2,FALSE),\"--\")","v":"--"},"--","--",0,"--","--","--","--",{"$f":"IF(ISNUMBER(VLOOKUP(E62,'Tab 5-7a Soil & Air EPCs'!$D$7:$H$9,5,FALSE)),VLOOKUP(E62,'Tab 5-7a Soil & Air EPCs'!$D$7:$H$9,5,FALSE),\"--\")","v":"--"},"--","--",{"$f":"IF(ISNUMBER(VLOOKUP(E62,'Tab 5-7a Soil & Air EPCs'!$D$7:$F$9,3,FALSE)),VLOOKUP(E62,'Tab 5-7a Soil & Air EPCs'!$D$7:$F$9,3,FALSE),\"--\")","v":"--"},"--","--","--","--"]
[0,0,0,0,0,"--","--",{"$f":"IF(ISNUMBER(VLOOKUP(E63,'Tab 5-7a Soil & Air EPCs'!$D$7:$E$9,2,FALSE)),VLOOKUP(E63,'Tab 5-7a Soil & Air EPCs'!$D$7:$E$9,2,FALSE),\"--\")","v":"--"},"--","--",0,"--","--","--","--",{"$f":"IF(ISNUMBER(VLOOKUP(E63,'Tab 5-7a Soil & Air EPCs'!$D$7:$H$9,5,FALSE)),VLOOKUP(E63,'Tab 5-7a Soil & Air EPCs'!$D$7:$H$9,5,FALSE),\"--\")","v":"--"},"--","--",{"$f":"IF(ISNUMBER(VLOOKUP(E63,'Tab 5-7a Soil & Air EPCs'!$D$7:$F$9,3,FALSE)),VLOOKUP(E63,'Tab 5-7a Soil & Air EPCs'!$D$7:$F$9,3,FALSE),\"--\")","v":"--"},"--","--","--","--"]
[0,0,0,0,0,"--","--",{"$f":"IF(ISNUMBER(VLOOKUP(E64,'Tab 5-7a Soil & Air EPCs'!$D$7:$E$9,2,FALSE)),VLOOKUP(E64,'Tab 5-7a Soil & Air EPCs'!$D$7:$E$9,2,FALSE),\"--\")","v":"--"},"--","--",0,"--","--","--","--",{"$f":"IF(ISNUMBER(VLOOKUP(E64,'Tab 5-7a Soil & Air EPCs'!$D$7:$H$9,5,FALSE)),VLOOKUP(E64,'Tab 5-7a Soil & Air EPCs'!$D$7:$H$9,5,FALSE),\"--\")","v":"--"},"--","--",{"$f":"IF(ISNUMBER(VLOOKUP(E64,'Tab 5-7a Soil & Air EPCs'!$D$7:$F$9,3,FALSE)),VLOOKUP(E64,'Tab 5-7a Soil & Air EPCs'!$D$7:$F$9,3,FALSE),\"--\")","v":"--"},"--","--","--","--"]
[0,0,0,0,0,"--","--",{"$f":"IF(ISNUMBER(VLOOKUP(E65,'Tab 5-7a Soil & Air EPCs'!$D$7:$E$9,2,FALSE)),VLOOKUP(E65,'Tab 5-7a Soil & Air EPCs'!$D$7:$E$9,2,FALSE),\"--\")","v":"--"},"--","--",0,"--","--","--","--",{"$f":"IF(ISNUMBER(VLOOKUP(E65,'Tab 5-7a Soil & Air EPCs'!$D$7:$H$9,5,FALSE)),VLOOKUP(E65,'Tab 5-7a Soil & Air EPCs'!$D$7:$H$9,5,FALSE),\"--\")","v":"--"},"--","--",{"$f":"IF(ISNUMBER(VLOOKUP(E65,'Tab 5-7a Soil & Air EPCs'!$D$7:$F$9,3,FALSE)),VLOOKUP(E65,'Tab 5-7a Soil & Air EPCs'!$D$7:$F$9,3,FALSE),\"--\")","v":"--"},"--","--","--","--"]
[0,0,0,0,0,"--","--",{"$f":"IF(ISNUMBER(VLOOKUP(E66,'Tab 5-7a Soil & Air EPCs'!$D$7:$E$9,2,FALSE)),VLOOKUP(E66,'Tab 5-7a Soil & Air EPCs'!$D$7:$E$9,2,FALSE),\"--\")","v":"--"},"--","--",0,"--","--","--","--",{"$f":"IF(ISNUMBER(VLOOKUP(E66,'Tab 5-7a Soil & Air EPCs'!$D$7:$H$9,5,FALSE)),VLOOKUP(E66,'Tab 5-7a Soil & Air EPCs'!$D$7:$H$9,5,FALSE),\"--\")","v":"--"},"--","--",{"$f":"IF(ISNUMBER(VLOOKUP(E66,'Tab 5-7a Soil & Air EPCs'!$D$7:$F$9,3,FALSE)),VLOOKUP(E66,'Tab 5-7a Soil & Air EPCs'!$D$7:$F$9,3,FALSE),\"--\")","v":"--"},"--","--","--","--"]
[0,0,0,0,0,"--","--",{"$f":"IF(ISNUMBER(VLOOKUP(E67,'Tab 5-7a Soil & Air EPCs'!$D$7:$E$9,2,FALSE)),VLOOKUP(E67,'Tab 5-7a Soil & Air EPCs'!$D$7:$E$9,2,FALSE),\"--\")","v":"--"},"--","--",0,"--","--","--","--",{"$f":"IF(ISNUMBER(VLOOKUP(E67,'Tab 5-7a Soil & Air EPCs'!$D$7:$H$9,5,FALSE)),VLOOKUP(E67,'Tab 5-7a Soil & Air EPCs'!$D$7:$H$9,5,FALSE),\"--\")","v":"--"},"--","--",{"$f":"IF(ISNUMBER(VLOOKUP(E67,'Tab 5-7a Soil & Air EPCs'!$D$7:$F$9,3,FALSE)),VLOOKUP(E67,'Tab 5-7a Soil & Air EPCs'!$D$7:$F$9,3,FALSE),\"--\")","v":"--"},"--","--","--","--"]
[0,0,0,0,0,"--","--",{"$f":"IF(ISNUMBER(VLOOKUP(E68,'Tab 5-7a Soil & Air EPCs'!$D$7:$E$9,2,FALSE)),VLOOKUP(E68,'Tab 5-7a Soil & Air EPCs'!$D$7:$E$9,2,FALSE),\"--\")","v":"--"},"--","--",0,"--","--","--","--",{"$f":"IF(ISNUMBER(VLOOKUP(E68,'Tab 5-7a Soil & Air EPCs'!$D$7:$H$9,5,FALSE)),VLOOKUP(E68,'Tab 5-7a Soil & Air EPCs'!$D$7:$H$9,5,FALSE),\"--\")","v":"--"},"--","--",{"$f":"IF(ISNUMBER(VLOOKUP(E68,'Tab 5-7a Soil & Air EPCs'!$D$7:$F$9,3,FALSE)),VLOOKUP(E68,'Tab 5-7a Soil & Air EPCs'!$D$7:$F$9,3,FALSE),\"--\")","v":"--"},"--","--","--","--"]
[0,0,0,0,0,"--","--",{"$f":"IF(ISNUMBER(VLOOKUP(E69,'Tab 5-7a Soil & Air EPCs'!$D$7:$E$9,2,FALSE)),VLOOKUP(E69,'Tab 5-7a Soil & Air EPCs'!$D$7:$E$9,2,FALSE),\"--\")","v":"--"},"--","--",0,"--","--","--","--",{"$f":"IF(ISNUMBER(VLOOKUP(E69,'Tab 5-7a Soil & Air EPCs'!$D$7:$H$9,5,FALSE)),VLOOKUP(E69,'Tab 5-7a Soil & Air EPCs'!$D$7:$H$9,5,FALSE),\"--\")","v":"--"},"--","--",{"$f":"IF(ISNUMBER(VLOOKUP(E69,'Tab 5-7a Soil & Air EPCs'!$D$7:$F$9,3,FALSE)),VLOOKUP(E69,'Tab 5-7a Soil & Air EPCs'!$D$7:$F$9,3,FALSE),\"--\")","v":"--"},"--","--","--","--"]
[0,0,0,0,0,"--","--",{"$f":"IF(ISNUMBER(VLOOKUP(E70,'Tab 5-7a Soil & Air EPCs'!$D$7:$E$9,2,FALSE)),VLOOKUP(E70,'Tab 5-7a Soil & Air EPCs'!$D$7:$E$9,2,FALSE),\"--\")","v":"--"},"--","--",0,"--","--","--","--",{"$f":"IF(ISNUMBER(VLOOKUP(E70,'Tab 5-7a Soil & Air EPCs'!$D$7:$H$9,5,FALSE)),VLOOKUP(E70,'Tab 5-7a Soil & Air EPCs'!$D$7:$H$9,5,FALSE),\"--\")","v":"--"},"--","--",{"$f":"IF(ISNUMBER(VLOOKUP(E70,'Tab 5-7a Soil & Air EPCs'!$D$7:$F$9,3,FALSE)),VLOOKUP(E70,'Tab 5-7a Soil & Air EPCs'!$D$7:$F$9,3,FALSE),\"--\")","v":"--"},"--","--","--","--"]
[0,0,0,0,0,"--","--",{"$f":"IF(ISNUMBER(VLOOKUP(E71,'Tab 5-7a Soil & Air EPCs'!$D$7:$E$9,2,FALSE)),VLOOKUP(E71,'Tab 5-7a Soil & Air EPCs'!$D$7:$E$9,2,FALSE),\"--\")","v":"--"},"--","--",0,"--","--","--","--",{"$f":"IF(ISNUMBER(VLOOKUP(E71,'Tab 5-7a Soil & Air EPCs'!$D$7:$H$9,5,FALSE)),VLOOKUP(E71,'Tab 5-7a Soil & Air EPCs'!$D$7:$H$9,5,FALSE),\"--\")","v":"--"},"--","--",{"$f":"IF(ISNUMBER(VLOOKUP(E71,'Tab 5-7a Soil & Air EPCs'!$D$7:$F$9,3,FALSE)),VLOOKUP(E71,'Tab 5-7a Soil & Air EPCs'!$D$7:$F$9,3,FALSE),\"--\")","v":"--"},"--","--","--","--"]
[0,0,0,0,0,"--","--",{"$f":"IF(ISNUMBER(VLOOKUP(E72,'Tab 5-7a Soil & Air EPCs'!$D$7:$E$9,2,FALSE)),VLOOKUP(E72,'Tab 5-7a Soil & Air EPCs'!$D$7:$E$9,2,FALSE),\"--\")","v":"--"},"--","--",0,"--","--","--","--",{"$f":"IF(ISNUMBER(VLOOKUP(E72,'Tab 5-7a Soil & Air EPCs'!$D$7:$H$9,5,FALSE)),VLOOKUP(E72,'Tab 5-7a Soil & Air EPCs'!$D$7:$H$9,5,FALSE),\"--\")","v":"--"},"--","--",{"$f":"IF(ISNUMBER(VLOOKUP(E72,'Tab 5-7a Soil & Air EPCs'!$D$7:$F$9,3,FALSE)),VLOOKUP(E72,'Tab 5-7a Soil & Air EPCs'!$D$7:$F$9,3,FALSE),\"--\")","v":"--"},"--","--","--","--"]
[0,0,0,0,0,"--","--",{"$f":"IF(ISNUMBER(VLOOKUP(E73,'Tab 5-7a Soil & Air EPCs'!$D$7:$E$9,2,FALSE)),VLOOKUP(E73,'Tab 5-7a Soil & Air EPCs'!$D$7:$E$9,2,FALSE),\"--\")","v":"--"},"--","--",0,"--","--","--","--",{"$f":"IF(ISNUMBER(VLOOKUP(E73,'Tab 5-7a Soil & Air EPCs'!$D$7:$H$9,5,FALSE)),VLOOKUP(E73,'Tab 5-7a Soil & Air EPCs'!$D$7:$H$9,5,FALSE),\"--\")","v":"--"},"--","--",{"$f":"IF(ISNUMBER(VLOOKUP(E73,'Tab 5-7a Soil & Air EPCs'!$D$7:$F$9,3,FALSE)),VLOOKUP(E73,'Tab 5-7a Soil & Air EPCs'!$D$7:$F$9,3,FALSE),\"--\")","v":"--"},"--","--","--","--"]
[0,0,0,0,0,"--","--",{"$f":"IF(ISNUMBER(VLOOKUP(E74,'Tab 5-7a Soil & Air EPCs'!$D$7:$E$9,2,FALSE)),VLOOKUP(E74,'Tab 5-7a Soil & Air EPCs'!$D$7:$E$9,2,FALSE),\"--\")","v":"--"},"--","--",0,"--","--","--","--",{"$f":"IF(ISNUMBER(VLOOKUP(E74,'Tab 5-7a Soil & Air EPCs'!$D$7:$H$9,5,FALSE)),VLOOKUP(E74,'Tab 5-7a Soil & Air EPCs'!$D$7:$H$9,5,FALSE),\"--\")","v":"--"},"--","--",{"$f":"IF(ISNUMBER(VLOOKUP(E74,'Tab 5-7a Soil & Air EPCs'!$D$7:$F$9,3,FALSE)),VLOOKUP(E74,'Tab 5-7a Soil & Air EPCs'!$D$7:$F$9,3,FALSE),\"--\")","v":"--"},"--","--","--","--"]
[0,0,0,0,0,"--","--",{"$f":"IF(ISNUMBER(VLOOKUP(E75,'Tab 5-7a Soil & Air EPCs'!$D$7:$E$9,2,FALSE)),VLOOKUP(E75,'Tab 5-7a Soil & Air EPCs'!$D$7:$E$9,2,FALSE),\"--\")","v":"--"},"--","--",0,"--","--","--","--",{"$f":"IF(ISNUMBER(VLOOKUP(E75,'Tab 5-7a Soil & Air EPCs'!$D$7:$H$9,5,FALSE)),VLOOKUP(E75,'Tab 5-7a Soil & Air EPCs'!$D$7:$H$9,5,FALSE),\"--\")","v":"--"},"--","--",{"$f":"IF(ISNUMBER(VLOOKUP(E75,'Tab 5-7a Soil & Air EPCs'!$D$7:$F$9,3,FALSE)),VLOOKUP(E75,'Tab 5-7a Soil & Air EPCs'!$D$7:$F$9,3,FALSE),\"--\")","v":"--"},"--","--","--","--"]
[0,0,0,0,0,"--","--",{"$f":"IF(ISNUMBER(VLOOKUP(E76,'Tab 5-7a Soil & Air EPCs'!$D$7:$E$9,2,FALSE)),VLOOKUP(E76,'Tab 5-7a Soil & Air EPCs'!$D$7:$E$9,2,FALSE),\"--\")","v":"--"},"--","--",0,"--","--","--","--",{"$f":"IF(ISNUMBER(VLOOKUP(E76,'Tab 5-7a Soil & Air EPCs'!$D$7:$H$9,5,FALSE)),VLOOKUP(E76,'Tab 5-7a Soil & Air EPCs'!$D$7:$H$9,5,FALSE),\"--\")","v":"--"},"--","--",{"$f":"IF(ISNUMBER(VLOOKUP(E76,'Tab 5-7a Soil & Air EPCs'!$D$7:$F$9,3,FALSE)),VLOOKUP(E76,'Tab 5-7a Soil & Air EPCs'!$D$7:$F$9,3,FALSE),\"--\")","v":"--"},"--","--",{"$f":"IF(SUM(I76,L76,Q76,T76)>0,SUM(I76,L76,Q76,T76),\"--\")","v":"--"},{"$f":"IF(SUM(J76,M76,R76,U76)>0,SUM(J76,M76,R76,U76),\"--\")","v":"--"}]
[0,0,0,0,0,"--","--",{"$f":"IF(ISNUMBER(VLOOKUP(E77,'Tab 5-7a Soil & Air EPCs'!$D$7:$E$9,2,FALSE)),VLOOKUP(E77,'Tab 5-7a Soil & Air EPCs'!$D$7:$E$9,2,FALSE),\"--\")","v":"--"},"--","--",0,"--","--","--","--",{"$f":"IF(ISNUMBER(VLOOKUP(E77,'Tab 5-7a Soil & Air EPCs'!$D$7:$H$9,5,FALSE)),VLOOKUP(E77,'Tab 5-7a Soil & Air EPCs'!$D$7:$H$9,5,FALSE),\"--\")","v":"--"},"--","--",{"$f":"IF(ISNUMBER(VLOOKUP(E77,'Tab 5-7a Soil & Air EPCs'!$D$7:$F$9,3,FALSE)),VLOOKUP(E77,'Tab 5-7a Soil & Air EPCs'!$D$7:$F$9,3,FALSE),\"--\")","v":"--"},"--","--","--","--"]
[0,0,0,0,0,"--","--",{"$f":"IF(ISNUMBER(VLOOKUP(E78,'Tab 5-7a Soil & Air EPCs'!$D$7:$E$9,2,FALSE)),VLOOKUP(E78,'Tab 5-7a Soil & Air EPCs'!$D$7:$E$9,2,FALSE),\"--\")","v":"--"},"--","--",0,"--","--","--","--",{"$f":"IF(ISNUMBER(VLOOKUP(E78,'Tab 5-7a Soil & Air EPCs'!$D$7:$H$9,5,FALSE)),VLOOKUP(E78,'Tab 5-7a Soil & Air EPCs'!$D$7:$H$9,5,FALSE),\"--\")","v":"--"},"--","--",{"$f":"IF(ISNUMBER(VLOOKUP(E78,'Tab 5-7a Soil & Air EPCs'!$D$7:$F$9,3,FALSE)),VLOOKUP(E78,'Tab 5-7a Soil & Air EPCs'!$D$7:$F$9,3,FALSE),\"--\")","v":"--"},"--","--","--","--"]
[0,0,0,0,0,"--","--",{"$f":"IF(ISNUMBER(VLOOKUP(E79,'Tab 5-7a Soil & Air EPCs'!$D$7:$E$9,2,FALSE)),VLOOKUP(E79,'Tab 5-7a Soil & Air EPCs'!$D$7:$E$9,2,FALSE),\"--\")","v":"--"},"--","--",0,"--","--","--","--",{"$f":"IF(ISNUMBER(VLOOKUP(E79,'Tab 5-7a Soil & Air EPCs'!$D$7:$H$9,5,FALSE)),VLOOKUP(E79,'Tab 5-7a Soil & Air EPCs'!$D$7:$H$9,5,FALSE),\"--\")","v":"--"},"--","--",{"$f":"IF(ISNUMBER(VLOOKUP(E79,'Tab 5-7a Soil & Air EPCs'!$D$7:$F$9,3,FALSE)),VLOOKUP(E79,'Tab 5-7a Soil & Air EPCs'!$D$7:$F$9,3,FALSE),\"--\")","v":"--"},"--","--","--","--"]
[0,0,0,0,0,"--","--",{"$f":"IF(ISNUMBER(VLOOKUP(E80,'Tab 5-7a Soil & Air EPCs'!$D$7:$E$9,2,FALSE)),VLOOKUP(E80,'Tab 5-7a Soil & Air EPCs'!$D$7:$E$9,2,FALSE),\"--\")","v":"--"},"--","--",0,"--","--","--","--",{"$f":"IF(ISNUMBER(VLOOKUP(E80,'Tab 5-7a Soil & Air EPCs'!$D$7:$H$9,5,FALSE)),VLOOKUP(E80,'Tab 5-7a Soil & Air EPCs'!$D$7:$H$9,5,FALSE),\"--\")","v":"--"},"--","--",{"$f":"IF(ISNUMBER(VLOOKUP(E80,'Tab 5-7a Soil & Air EPCs'!$D$7:$F$9,3,FALSE)),VLOOKUP(E80,'Tab 5-7a Soil & Air EPCs'!$D$7:$F$9,3,FALSE),\"--\")","v":"--"},"--","--","--","--"]
[0,0,0,0,0,"--","--",{"$f":"IF(ISNUMBER(VLOOKUP(E81,'Tab 5-7a Soil & Air EPCs'!$D$7:$E$9,2,FALSE)),VLOOKUP(E81,'Tab 5-7a Soil & Air EPCs'!$D$7:$E$9,2,FALSE),\"--\")","v":"--"},"--","--",0,"--","--","--","--",{"$f":"IF(ISNUMBER(VLOOKUP(E81,'Tab 5-7a Soil & Air EPCs'!$D$7:$H$9,5,FALSE)),VLOOKUP(E81,'Tab 5-7a Soil & Air EPCs'!$D$7:$H$9,5,FALSE),\"--\")","v":"--"},"--","--",{"$f":"IF(ISNUMBER(VLOOKUP(E81,'Tab 5-7a Soil & Air EPCs'!$D$7:$F$9,3,FALSE)),VLOOKUP(E81,'Tab 5-7a Soil & Air EPCs'!$D$7:$F$9,3,FALSE),\"--\")","v":"--"},"--","--","--","--"]
[0,0,0,0,0,"--","--",{"$f":"IF(ISNUMBER(VLOOKUP(E82,'Tab 5-7a Soil & Air EPCs'!$D$7:$E$9,2,FALSE)),VLOOKUP(E82,'Tab 5-7a Soil & Air EPCs'!$D$7:$E$9,2,FALSE),\"--\")","v":"--"},"--","--",0,"--","--","--","--",{"$f":"IF(ISNUMBER(VLOOKUP(E82,'Tab 5-7a Soil & Air EPCs'!$D$7:$H$9,5,FALSE)),VLOOKUP(E82,'Tab 5-7a Soil & Air EPCs'!$D$7:$H$9,5,FALSE),\"--\")","v":"--"},"--","--",{"$f":"IF(ISNUMBER(VLOOKUP(E82,'Tab 5-7a Soil & Air EPCs'!$D$7:$F$9,3,FALSE)),VLOOKUP(E82,'Tab 5-7a Soil & Air EPCs'!$D$7:$F$9,3,FALSE),\"--\")","v":"--"},"--","--","--","--"]
[0,0,0,0,0,"--","--",{"$f":"IF(ISNUMBER(VLOOKUP(E83,'Tab 5-7a Soil & Air EPCs'!$D$7:$E$9,2,FALSE)),VLOOKUP(E83,'Tab 5-7a Soil & Air EPCs'!$D$7:$E$9,2,FALSE),\"--\")","v":"--"},"--","--",0,"--","--","--","--",{"$f":"IF(ISNUMBER(VLOOKUP(E83,'Tab 5-7a Soil & Air EPCs'!$D$7:$H$9,5,FALSE)),VLOOKUP(E83,'Tab 5-7a Soil & Air EPCs'!$D$7:$H$9,5,FALSE),\"--\")","v":"--"},"--","--",{"$f":"IF(ISNUMBER(VLOOKUP(E83,'Tab 5-7a Soil & Air EPCs'!$D$7:$F$9,3,FALSE)),VLOOKUP(E83,'Tab 5-7a Soil & Air EPCs'!$D$7:$F$9,3,FALSE),\"--\")","v":"--"},"--","--","--","--"]
[0,0,0,0,0,"--","--",{"$f":"IF(ISNUMBER(VLOOKUP(E84,'Tab 5-7a Soil & Air EPCs'!$D$7:$E$9,2,FALSE)),VLOOKUP(E84,'Tab 5-7a Soil & Air EPCs'!$D$7:$E$9,2,FALSE),\"--\")","v":"--"},"--","--",0,"--","--","--","--",{"$f":"IF(ISNUMBER(VLOOKUP(E84,'Tab 5-7a Soil & Air EPCs'!$D$7:$H$9,5,FALSE)),VLOOKUP(E84,'Tab 5-7a Soil & Air EPCs'!$D$7:$H$9,5,FALSE),\"--\")","v":"--"},"--","--",{"$f":"IF(ISNUMBER(VLOOKUP(E84,'Tab 5-7a Soil & Air EPCs'!$D$7:$F$9,3,FALSE)),VLOOKUP(E84,'Tab 5-7a Soil & Air EPCs'!$D$7:$F$9,3,FALSE),\"--\")","v":"--"},"--","--","--","--"]
[0,0,0,0,0,"--","--",{"$f":"IF(ISNUMBER(VLOOKUP(E85,'Tab 5-7a Soil & Air EPCs'!$D$7:$E$9,2,FALSE)),VLOOKUP(E85,'Tab 5-7a Soil & Air EPCs'!$D$7:$E$9,2,FALSE),\"--\")","v":"--"},"--","--",0,"--","--","--","--",{"$f":"IF(ISNUMBER(VLOOKUP(E85,'Tab 5-7a Soil & Air EPCs'!$D$7:$H$9,5,FALSE)),VLOOKUP(E85,'Tab 5-7a Soil & Air EPCs'!$D$7:$H$9,5,FALSE),\"--\")","v":"--"},"--","--",{"$f":"IF(ISNUMBER(VLOOKUP(E85,'Tab 5-7a Soil & Air EPCs'!$D$7:$F$9,3,FALSE)),VLOOKUP(E85,'Tab 5-7a Soil & Air EPCs'!$D$7:$F$9,3,FALSE),\"--\")","v":"--"},"--","--","--","--"]
[0,0,0,0,0,"--","--",{"$f":"IF(ISNUMBER(VLOOKUP(E86,'Tab 5-7a Soil & Air EPCs'!$D$7:$E$9,2,FALSE)),VLOOKUP(E86,'Tab 5-7a Soil & Air EPCs'!$D$7:$E$9,2,FALSE),\"--\")","v":"--"},"--","--",0,"--","--","--","--",{"$f":"IF(ISNUMBER(VLOOKUP(E86,'Tab 5-7a Soil & Air EPCs'!$D$7:$H$9,5,FALSE)),VLOOKUP(E86,'Tab 5-7a Soil & Air EPCs'!$D$7:$H$9,5,FALSE),\"--\")","v":"--"},"--","--",{"$f":"IF(ISNUMBER(VLOOKUP(E86,'Tab 5-7a Soil & Air EPCs'!$D$7:$F$9,3,FALSE)),VLOOKUP(E86,'Tab 5-7a Soil & Air EPCs'!$D$7:$F$9,3,FALSE),\"--\")","v":"--"},"--","--","--","--"]
[0,0,0,0,0,"--","--",{"$f":"IF(ISNUMBER(VLOOKUP(E87,'Tab 5-7a Soil & Air EPCs'!$D$7:$E$9,2,FALSE)),VLOOKUP(E87,'Tab 5-7a Soil & Air EPCs'!$D$7:$E$9,2,FALSE),\"--\")","v":"--"},"--","--",0,"--","--","--","--",{"$f":"IF(ISNUMBER(VLOOKUP(E87,'Tab 5-7a Soil & Air EPCs'!$D$7:$H$9,5,FALSE)),VLOOKUP(E87,'Tab 5-7a Soil & Air EPCs'!$D$7:$H$9,5,FALSE),\"--\")","v":"--"},"--","--",{"$f":"IF(ISNUMBER(VLOOKUP(E87,'Tab 5-7a Soil & Air EPCs'!$D$7:$F$9,3,FALSE)),VLOOKUP(E87,'Tab 5-7a Soil & Air EPCs'!$D$7:$F$9,3,FALSE),\"--\")","v":"--"},"--","--","--","--"]
[0,0,0,0,0,"--","--",{"$f":"IF(ISNUMBER(VLOOKUP(E88,'Tab 5-7a Soil & Air EPCs'!$D$7:$E$9,2,FALSE)),VLOOKUP(E88,'Tab 5-7a Soil & Air EPCs'!$D$7:$E$9,2,FALSE),\"--\")","v":"--"},"--","--",0,"--","--","--","--",{"$f":"IF(ISNUMBER(VLOOKUP(E88,'Tab 5-7a Soil & Air EPCs'!$D$7:$H$9,5,FALSE)),VLOOKUP(E88,'Tab 5-7a Soil & Air EPCs'!$D$7:$H$9,5,FALSE),\"--\")","v":"--"},"--","--",{"$f":"IF(ISNUMBER(VLOOKUP(E88,'Tab 5-7a Soil & Air EPCs'!$D$7:$F$9,3,FALSE)),VLOOKUP(E88,'Tab 5-7a Soil & Air EPCs'!$D$7:$F$9,3,FALSE),\"--\")","v":"--"},"--","--","--","--"]
[0,0,0,0,0,"--","--",{"$f":"IF(ISNUMBER(VLOOKUP(E89,'Tab 5-7a Soil & Air EPCs'!$D$7:$E$9,2,FALSE)),VLOOKUP(E89,'Tab 5-7a Soil & Air EPCs'!$D$7:$E$9,2,FALSE),\"--\")","v":"--"},"--","--",0,"--","--","--","--",{"$f":"IF(ISNUMBER(VLOOKUP(E89,'Tab 5-7a Soil & Air EPCs'!$D$7:$H$9,5,FALSE)),VLOOKUP(E89,'Tab 5-7a Soil & Air EPCs'!$D$7:$H$9,5,FALSE),\"--\")","v":"--"},"--","--",{"$f":"IF(ISNUMBER(VLOOKUP(E89,'Tab 5-7a Soil & Air EPCs'!$D$7:$F$9,3,FALSE)),VLOOKUP(E89,'Tab 5-7a Soil & Air EPCs'!$D$7:$F$9,3,FALSE),\"--\")","v":"--"},"--","--","--","--"]
[0,0,0,0,0,"--","--",{"$f":"IF(ISNUMBER(VLOOKUP(E90,'Tab 5-7a Soil & Air EPCs'!$D$7:$E$9,2,FALSE)),VLOOKUP(E90,'Tab 5-7a Soil & Air EPCs'!$D$7:$E$9,2,FALSE),\"--\")","v":"--"},"--","--",0,"--","--","--","--",{"$f":"IF(ISNUMBER(VLOOKUP(E90,'Tab 5-7a Soil & Air EPCs'!$D$7:$H$9,5,FALSE)),VLOOKUP(E90,'Tab 5-7a Soil & Air EPCs'!$D$7:$H$9,5,FALSE),\"--\")","v":"--"},"--","--",{"$f":"IF(ISNUMBER(VLOOKUP(E90,'Tab 5-7a Soil & Air EPCs'!$D$7:$F$9,3,FALSE)),VLOOKUP(E90,'Tab 5-7a Soil & Air EPCs'!$D$7:$F$9,3,FALSE),\"--\")","v":"--"},"--","--","--","--"]
[0,0,0,0,0,"--","--",{"$f":"IF(ISNUMBER(VLOOKUP(E91,'Tab 5-7a Soil & Air EPCs'!$D$7:$E$9,2,FALSE)),VLOOKUP(E91,'Tab 5-7a Soil & Air EPCs'!$D$7:$E$9,2,FALSE),\"--\")","v":"--"},"--","--",0,"--","--","--","--",{"$f":"IF(ISNUMBER(VLOOKUP(E91,'Tab 5-7a Soil & Air EPCs'!$D$7:$H$9,5,FALSE)),VLOOKUP(E91,'Tab 5-7a Soil & Air EPCs'!$D$7:$H$9,5,FALSE),\"--\")","v":"--"},"--","--",{"$f":"IF(ISNUMBER(VLOOKUP(E91,'Tab 5-7a Soil & Air EPCs'!$D$7:$F$9,3,FALSE)),VLOOKUP(E91,'Tab 5-7a Soil & Air EPCs'!$D$7:$F$9,3,FALSE),\"--\")","v":"--"},"--","--","--","--"]
[0,0,0,0,0,"--","--",{"$f":"IF(ISNUMBER(VLOOKUP(E92,'Tab 5-7a Soil & Air EPCs'!$D$7:$E$9,2,FALSE)),VLOOKUP(E92,'Tab 5-7a Soil & Air EPCs'!$D$7:$E$9,2,FALSE),\"--\")","v":"--"},"--","--",0,"--","--","--","--",{"$f":"IF(ISNUMBER(VLOOKUP(E92,'Tab 5-7a Soil & Air EPCs'!$D$7:$H$9,5,FALSE)),VLOOKUP(E92,'Tab 5-7a Soil & Air EPCs'!$D$7:$H$9,5,FALSE),\"--\")","v":"--"},"--","--",{"$f":"IF(ISNUMBER(VLOOKUP(E92,'Tab 5-7a Soil & Air EPCs'!$D$7:$F$9,3,FALSE)),VLOOKUP(E92,'Tab 5-7a Soil & Air EPCs'!$D$7:$F$9,3,FALSE),\"--\")","v":"--"},"--","--","--","--"]
[0,0,0,0,0,"--","--",{"$f":"IF(ISNUMBER(VLOOKUP(E93,'Tab 5-7a Soil & Air EPCs'!$D$7:$E$9,2,FALSE)),VLOOKUP(E93,'Tab 5-7a Soil & Air EPCs'!$D$7:$E$9,2,FALSE),\"--\")","v":"--"},"--","--",0,"--","--","--","--",{"$f":"IF(ISNUMBER(VLOOKUP(E93,'Tab 5-7a Soil & Air EPCs'!$D$7:$H$9,5,FALSE)),VLOOKUP(E93,'Tab 5-7a Soil & Air EPCs'!$D$7:$H$9,5,FALSE),\"--\")","v":"--"},"--","--",{"$f":"IF(ISNUMBER(VLOOKUP(E93,'Tab 5-7a Soil & Air EPCs'!$D$7:$F$9,3,FALSE)),VLOOKUP(E93,'Tab 5-7a Soil & Air EPCs'!$D$7:$F$9,3,FALSE),\"--\")","v":"--"},"--","--","--","--"]
[0,0,0,0,0,"--","--",{"$f":"IF(ISNUMBER(VLOOKUP(E94,'Tab 5-7a Soil & Air EPCs'!$D$7:$E$9,2,FALSE)),VLOOKUP(E94,'Tab 5-7a Soil & Air EPCs'!$D$7:$E$9,2,FALSE),\"--\")","v":"--"},"--","--",0,"--","--","--","--",{"$f":"IF(ISNUMBER(VLOOKUP(E94,'Tab 5-7a Soil & Air EPCs'!$D$7:$H$9,5,FALSE)),VLOOKUP(E94,'Tab 5-7a Soil & Air EPCs'!$D$7:$H$9,5,FALSE),\"--\")","v":"--"},"--","--",{"$f":"IF(ISNUMBER(VLOOKUP(E94,'Tab 5-7a Soil & Air EPCs'!$D$7:$F$9,3,FALSE)),VLOOKUP(E94,'Tab 5-7a Soil & Air EPCs'!$D$7:$F$9,3,FALSE),\"--\")","v":"--"},"--","--","--","--"]
[0,0,0,0,0,"--","--",{"$f":"IF(ISNUMBER(VLOOKUP(E95,'Tab 5-7a Soil & Air EPCs'!$D$7:$E$9,2,FALSE)),VLOOKUP(E95,'Tab 5-7a Soil & Air EPCs'!$D$7:$E$9,2,FALSE),\"--\")","v":"--"},"--","--",0,"--","--","--","--",{"$f":"IF(ISNUMBER(VLOOKUP(E95,'Tab 5-7a Soil & Air EPCs'!$D$7:$H$9,5,FALSE)),VLOOKUP(E95,'Tab 5-7a Soil & Air EPCs'!$D$7:$H$9,5,FALSE),\"--\")","v":"--"},"--","--",{"$f":"IF(ISNUMBER(VLOOKUP(E95,'Tab 5-7a Soil & Air EPCs'!$D$7:$F$9,3,FALSE)),VLOOKUP(E95,'Tab 5-7a Soil & Air EPCs'!$D$7:$F$9,3,FALSE),\"--\")","v":"--"},"--","--","--","--"]
[0,0,0,0,0,"--","--",{"$f":"IF(ISNUMBER(VLOOKUP(E96,'Tab 5-7a Soil & Air EPCs'!$D$7:$E$9,2,FALSE)),VLOOKUP(E96,'Tab 5-7a Soil & Air EPCs'!$D$7:$E$9,2,FALSE),\"--\")","v":"--"},"--","--",0,"--","--","--","--",{"$f":"IF(ISNUMBER(VLOOKUP(E96,'Tab 5-7a Soil & Air EPCs'!$D$7:$H$9,5,FALSE)),VLOOKUP(E96,'Tab 5-7a Soil & Air EPCs'!$D$7:$H$9,5,FALSE),\"--\")","v":"--"},"--","--",{"$f":"IF(ISNUMBER(VLOOKUP(E96,'Tab 5-7a Soil & Air EPCs'!$D$7:$F$9,3,FALSE)),VLOOKUP(E96,'Tab 5-7a Soil & Air EPCs'!$D$7:$F$9,3,FALSE),\"--\")","v":"--"},"--","--","--","--"]
[0,0,0,0,0,"--","--",{"$f":"IF(ISNUMBER(VLOOKUP(E97,'Tab 5-7a Soil & Air EPCs'!$D$7:$E$9,2,FALSE)),VLOOKUP(E97,'Tab 5-7a Soil & Air EPCs'!$D$7:$E$9,2,FALSE),\"--\")","v":"--"},"--","--",0,"--","--","--","--",{"$f":"IF(ISNUMBER(VLOOKUP(E97,'Tab 5-7a Soil & Air EPCs'!$D$7:$H$9,5,FALSE)),VLOOKUP(E97,'Tab 5-7a Soil & Air EPCs'!$D$7:$H$9,5,FALSE),\"--\")","v":"--"},"--","--",{"$f":"IF(ISNUMBER(VLOOKUP(E97,'Tab 5-7a Soil & Air EPCs'!$D$7:$F$9,3,FALSE)),VLOOKUP(E97,'Tab 5-7a Soil & Air EPCs'!$D$7:$F$9,3,FALSE),\"--\")","v":"--"},"--","--","--","--"]
[0,0,0,0,0,"--","--",{"$f":"IF(ISNUMBER(VLOOKUP(E98,'Tab 5-7a Soil & Air EPCs'!$D$7:$E$9,2,FALSE)),VLOOKUP(E98,'Tab 5-7a Soil & Air EPCs'!$D$7:$E$9,2,FALSE),\"--\")","v":"--"},"--","--",0,"--","--","--","--",{"$f":"IF(ISNUMBER(VLOOKUP(E98,'Tab 5-7a Soil & Air EPCs'!$D$7:$H$9,5,FALSE)),VLOOKUP(E98,'Tab 5-7a Soil & Air EPCs'!$D$7:$H$9,5,FALSE),\"--\")","v":"--"},"--","--",{"$f":"IF(ISNUMBER(VLOOKUP(E98,'Tab 5-7a Soil & Air EPCs'!$D$7:$F$9,3,FALSE)),VLOOKUP(E98,'Tab 5-7a Soil & Air EPCs'!$D$7:$F$9,3,FALSE),\"--\")","v":"--"},"--","--","--","--"]
[0,0,0,0,0,"--","--",{"$f":"IF(ISNUMBER(VLOOKUP(E99,'Tab 5-7a Soil & Air EPCs'!$D$7:$E$9,2,FALSE)),VLOOKUP(E99,'Tab 5-7a Soil & Air EPCs'!$D$7:$E$9,2,FALSE),\"--\")","v":"--"},"--","--",0,"--","--","--","--",{"$f":"IF(ISNUMBER(VLOOKUP(E99,'Tab 5-7a Soil & Air EPCs'!$D$7:$H$9,5,FALSE)),VLOOKUP(E99,'Tab 5-7a Soil & Air EPCs'!$D$7:$H$9,5,FALSE),\"--\")","v":"--"},"--","--",{"$f":"IF(ISNUMBER(VLOOKUP(E99,'Tab 5-7a Soil & Air EPCs'!$D$7:$F$9,3,FALSE)),VLOOKUP(E99,'Tab 5-7a Soil & Air EPCs'!$D$7:$F$9,3,FALSE),\"--\")","v":"--"},"--","--","--","--"]
[0,0,0,0,0,"--","--",{"$f":"IF(ISNUMBER(VLOOKUP(E100,'Tab 5-7a Soil & Air EPCs'!$D$7:$E$9,2,FALSE)),VLOOKUP(E100,'Tab 5-7a Soil & Air EPCs'!$D$7:$E$9,2,FALSE),\"--\")","v":"--"},"--","--",0,"--","--","--","--",{"$f":"IF(ISNUMBER(VLOOKUP(E100,'Tab 5-7a Soil & Air EPCs'!$D$7:$H$9,5,FALSE)),VLOOKUP(E100,'Tab 5-7a Soil & Air EPCs'!$D$7:$H$9,5,FALSE),\"--\")","v":"--"},"--","--",{"$f":"IF(ISNUMBER(VLOOKUP(E100,'Tab 5-7a Soil & Air EPCs'!$D$7:$F$9,3,FALSE)),VLOOKUP(E100,'Tab 5-7a Soil & Air EPCs'!$D$7:$F$9,3,FALSE),\"--\")","v":"--"},"--","--","--","--"]
[0,0,0,0,0,"--","--",{"$f":"IF(ISNUMBER(VLOOKUP(E101,'Tab 5-7a Soil & Air EPCs'!$D$7:$E$9,2,FALSE)),VLOOKUP(E101,'Tab 5-7a Soil & Air EPCs'!$D$7:$E$9,2,FALSE),\"--\")","v":"--"},"--","--",0,"--","--","--","--",{"$f":"IF(ISNUMBER(VLOOKUP(E101,'Tab 5-7a Soil & Air EPCs'!$D$7:$H$9,5,FALSE)),VLOOKUP(E101,'Tab 5-7a Soil & Air EPCs'!$D$7:$H$9,5,FALSE),\"--\")","v":"--"},"--","--",{"$f":"IF(ISNUMBER(VLOOKUP(E101,'Tab 5-7a Soil & Air EPCs'!$D$7:$F$9,3,FALSE)),VLOOKUP(E101,'Tab 5-7a Soil & Air EPCs'!$D$7:$F$9,3,FALSE),\"--\")","v":"--"},"--","--","--","--"]
[0,0,0,0,0,"--","--",{"$f":"IF(ISNUMBER(VLOOKUP(E102,'Tab 5-7a Soil & Air EPCs'!$D$7:$E$9,2,FALSE)),VLOOKUP(E102,'Tab 5-7a Soil & Air EPCs'!$D$7:$E$9,2,FALSE),\"--\")","v":"--"},"--","--",0,"--","--","--","--",{"$f":"IF(ISNUMBER(VLOOKUP(E102,'Tab 5-7a Soil & Air EPCs'!$D$7:$H$9,5,FALSE)),VLOOKUP(E102,'Tab 5-7a Soil & Air EPCs'!$D$7:$H$9,5,FALSE),\"--\")","v":"--"},"--","--",{"$f":"IF(ISNUMBER(VLOOKUP(E102,'Tab 5-7a Soil & Air EPCs'!$D$7:$F$9,3,FALSE)),VLOOKUP(E102,'Tab 5-7a Soil & Air EPCs'!$D$7:$F$9,3,FALSE),\"--\")","v":"--"},"--","--","--","--"]
[0,0,0,0,0,"--","--",{"$f":"IF(ISNUMBER(VLOOKUP(E103,'Tab 5-7a Soil & Air EPCs'!$D$7:$E$9,2,FALSE)),VLOOKUP(E103,'Tab 5-7a Soil & Air EPCs'!$D$7:$E$9,2,FALSE),\"--\")","v":"--"},"--","--",0,"--","--","--","--",{"$f":"IF(ISNUMBER(VLOOKUP(E103,'Tab 5-7a Soil & Air EPCs'!$D$7:$H$9,5,FALSE)),VLOOKUP(E103,'Tab 5-7a Soil & Air EPCs'!$D$7:$H$9,5,FALSE),\"--\")","v":"--"},"--","--",{"$f":"IF(ISNUMBER(VLOOKUP(E103,'Tab 5-7a Soil & Air EPCs'!$D$7:$F$9,3,FALSE)),VLOOKUP(E103,'Tab 5-7a Soil & Air EPCs'!$D$7:$F$9,3,FALSE),\"--\")","v":"--"},"--","--","--","--"]
[0,0,0,0,0,"--","--",{"$f":"IF(ISNUMBER(VLOOKUP(E104,'Tab 5-7a Soil & Air EPCs'!$D$7:$E$9,2,FALSE)),VLOOKUP(E104,'Tab 5-7a Soil & Air EPCs'!$D$7:$E$9,2,FALSE),\"--\")","v":"--"},"--","--",0,"--","--","--","--",{"$f":"IF(ISNUMBER(VLOOKUP(E104,'Tab 5-7a Soil & Air EPCs'!$D$7:$H$9,5,FALSE)),VLOOKUP(E104,'Tab 5-7a Soil & Air EPCs'!$D$7:$H$9,5,FALSE),\"--\")","v":"--"},"--","--",{"$f":"IF(ISNUMBER(VLOOKUP(E104,'Tab 5-7a Soil & Air EPCs'!$D$7:$F$9,3,FALSE)),VLOOKUP(E104,'Tab 5-7a Soil & Air EPCs'!$D$7:$F$9,3,FALSE),\"--\")","v":"--"},"--","--","--","--"]
[0,0,0,0,0,"--","--",{"$f":"IF(ISNUMBER(VLOOKUP(E105,'Tab 5-7a Soil & Air EPCs'!$D$7:$E$9,2,FALSE)),VLOOKUP(E105,'Tab 5-7a Soil & Air EPCs'!$D$7:$E$9,2,FALSE),\"--\")","v":"--"},"--","--",0,"--","--","--","--",{"$f":"IF(ISNUMBER(VLOOKUP(E105,'Tab 5-7a Soil & Air EPCs'!$D$7:$H$9,5,FALSE)),VLOOKUP(E105,'Tab 5-7a Soil & Air EPCs'!$D$7:$H$9,5,FALSE),\"--\")","v":"--"},"--","--",{"$f":"IF(ISNUMBER(VLOOKUP(E105,'Tab 5-7a Soil & Air EPCs'!$D$7:$F$9,3,FALSE)),VLOOKUP(E105,'Tab 5-7a Soil & Air EPCs'!$D$7:$F$9,3,FALSE),\"--\")","v":"--"},"--","--","--","--"]
[0,0,0,0,0,"--","--",{"$f":"IF(ISNUMBER(VLOOKUP(E106,'Tab 5-7a Soil & Air EPCs'!$D$7:$E$9,2,FALSE)),VLOOKUP(E106,'Tab 5-7a Soil & Air EPCs'!$D$7:$E$9,2,FALSE),\"--\")","v":"--"},"--","--",0,"--","--","--","--",{"$f":"IF(ISNUMBER(VLOOKUP(E106,'Tab 5-7a Soil & Air EPCs'!$D$7:$H$9,5,FALSE)),VLOOKUP(E106,'Tab 5-7a Soil & Air EPCs'!$D$7:$H$9,5,FALSE),\"--\")","v":"--"},"--","--",{"$f":"IF(ISNUMBER(VLOOKUP(E106,'Tab 5-7a Soil & Air EPCs'!$D$7:$F$9,3,FALSE)),VLOOKUP(E106,'Tab 5-7a Soil & Air EPCs'!$D$7:$F$9,3,FALSE),\"--\")","v":"--"},"--","--","--","--"]
[0,0,0,0,0,"--","--",{"$f":"IF(ISNUMBER(VLOOKUP(E107,'Tab 5-7a Soil & Air EPCs'!$D$7:$E$9,2,FALSE)),VLOOKUP(E107,'Tab 5-7a Soil & Air EPCs'!$D$7:$E$9,2,FALSE),\"--\")","v":"--"},"--","--",0,"--","--","--","--",{"$f":"IF(ISNUMBER(VLOOKUP(E107,'Tab 5-7a Soil & Air EPCs'!$D$7:$H$9,5,FALSE)),VLOOKUP(E107,'Tab 5-7a Soil & Air EPCs'!$D$7:$H$9,5,FALSE),\"--\")","v":"--"},"--","--",{"$f":"IF(ISNUMBER(VLOOKUP(E107,'Tab 5-7a Soil & Air EPCs'!$D$7:$F$9,3,FALSE)),VLOOKUP(E107,'Tab 5-7a Soil & Air EPCs'!$D$7:$F$9,3,FALSE),\"--\")","v":"--"},"--","--","--","--"]
[0,0,0,0,0,"--","--",{"$f":"IF(ISNUMBER(VLOOKUP(E108,'Tab 5-7a Soil & Air EPCs'!$D$7:$E$9,2,FALSE)),VLOOKUP(E108,'Tab 5-7a Soil & Air EPCs'!$D$7:$E$9,2,FALSE),\"--\")","v":"--"},"--","--",0,"--","--","--","--",{"$f":"IF(ISNUMBER(VLOOKUP(E108,'Tab 5-7a Soil & Air EPCs'!$D$7:$H$9,5,FALSE)),VLOOKUP(E108,'Tab 5-7a Soil & Air EPCs'!$D$7:$H$9,5,FALSE),\"--\")","v":"--"},"--","--",{"$f":"IF(ISNUMBER(VLOOKUP(E108,'Tab 5-7a Soil & Air EPCs'!$D$7:$F$9,3,FALSE)),VLOOKUP(E108,'Tab 5-7a Soil & Air EPCs'!$D$7:$F$9,3,FALSE),\"--\")","v":"--"},"--","--","--","--"]
[0,0,0,0,0,"--","--",{"$f":"IF(ISNUMBER(VLOOKUP(E109,'Tab 5-7a Soil & Air EPCs'!$D$7:$E$9,2,FALSE)),VLOOKUP(E109,'Tab 5-7a Soil & Air EPCs'!$D$7:$E$9,2,FALSE),\"--\")","v":"--"},"--","--",0,"--","--","--","--",{"$f":"IF(ISNUMBER(VLOOKUP(E109,'Tab 5-7a Soil & Air EPCs'!$D$7:$H$9,5,FALSE)),VLOOKUP(E109,'Tab 5-7a Soil & Air EPCs'!$D$7:$H$9,5,FALSE),\"--\")","v":"--"},"--","--",{"$f":"IF(ISNUMBER(VLOOKUP(E109,'Tab 5-7a Soil & Air EPCs'!$D$7:$F$9,3,FALSE)),VLOOKUP(E109,'Tab 5-7a Soil & Air EPCs'!$D$7:$F$9,3,FALSE),\"--\")","v":"--"},"--","--","--","--"]
[0,0,0,0,0,"--","--",{"$f":"IF(ISNUMBER(VLOOKUP(E110,'Tab 5-7a Soil & Air EPCs'!$D$7:$E$9,2,FALSE)),VLOOKUP(E110,'Tab 5-7a Soil & Air EPCs'!$D$7:$E$9,2,FALSE),\"--\")","v":"--"},"--","--",0,"--","--","--","--",{"$f":"IF(ISNUMBER(VLOOKUP(E110,'Tab 5-7a Soil & Air EPCs'!$D$7:$H$9,5,FALSE)),VLOOKUP(E110,'Tab 5-7a Soil & Air EPCs'!$D$7:$H$9,5,FALSE),\"--\")","v":"--"},"--","--",{"$f":"IF(ISNUMBER(VLOOKUP(E110,'Tab 5-7a Soil & Air EPCs'!$D$7:$F$9,3,FALSE)),VLOOKUP(E110,'Tab 5-7a Soil & Air EPCs'!$D$7:$F$9,3,FALSE),\"--\")","v":"--"},"--","--","--","--"]
[0,0,0,0,0,"--","--",{"$f":"IF(ISNUMBER(VLOOKUP(E111,'Tab 5-7a Soil & Air EPCs'!$D$7:$E$9,2,FALSE)),VLOOKUP(E111,'Tab 5-7a Soil & Air EPCs'!$D$7:$E$9,2,FALSE),\"--\")","v":"--"},"--","--",0,"--","--","--","--",{"$f":"IF(ISNUMBER(VLOOKUP(E111,'Tab 5-7a Soil & Air EPCs'!$D$7:$H$9,5,FALSE)),VLOOKUP(E111,'Tab 5-7a Soil & Air EPCs'!$D$7:$H$9,5,FALSE),\"--\")","v":"--"},"--","--",{"$f":"IF(ISNUMBER(VLOOKUP(E111,'Tab 5-7a Soil & Air EPCs'!$D$7:$F$9,3,FALSE)),VLOOKUP(E111,'Tab 5-7a Soil & Air EPCs'!$D$7:$F$9,3,FALSE),\"--\")","v":"--"},"--","--","--","--"]
[0,0,0,0,0,"--","--",{"$f":"IF(ISNUMBER(VLOOKUP(E112,'Tab 5-7a Soil & Air EPCs'!$D$7:$E$9,2,FALSE)),VLOOKUP(E112,'Tab 5-7a Soil & Air EPCs'!$D$7:$E$9,2,FALSE),\"--\")","v":"--"},"--","--",0,"--","--","--","--",{"$f":"IF(ISNUMBER(VLOOKUP(E112,'Tab 5-7a Soil & Air EPCs'!$D$7:$H$9,5,FALSE)),VLOOKUP(E112,'Tab 5-7a Soil & Air EPCs'!$D$7:$H$9,5,FALSE),\"--\")","v":"--"},"--","--",{"$f":"IF(ISNUMBER(VLOOKUP(E112,'Tab 5-7a Soil & Air EPCs'!$D$7:$F$9,3,FALSE)),VLOOKUP(E112,'Tab 5-7a Soil & Air EPCs'!$D$7:$F$9,3,FALSE),\"--\")","v":"--"},"--","--","--","--"]
[0,0,0,0,0,"--","--",{"$f":"IF(ISNUMBER(VLOOKUP(E113,'Tab 5-7a Soil & Air EPCs'!$D$7:$E$9,2,FALSE)),VLOOKUP(E113,'Tab 5-7a Soil & Air EPCs'!$D$7:$E$9,2,FALSE),\"--\")","v":"--"},"--","--",0,"--","--","--","--",{"$f":"IF(ISNUMBER(VLOOKUP(E113,'Tab 5-7a Soil & Air EPCs'!$D$7:$H$9,5,FALSE)),VLOOKUP(E113,'Tab 5-7a Soil & Air EPCs'!$D$7:$H$9,5,FALSE),\"--\")","v":"--"},"--","--",{"$f":"IF(ISNUMBER(VLOOKUP(E113,'Tab 5-7a Soil & Air EPCs'!$D$7:$F$9,3,FALSE)),VLOOKUP(E113,'Tab 5-7a Soil & Air EPCs'!$D$7:$F$9,3,FALSE),\"--\")","v":"--"},"--","--","--","--"]
[0,0,0,0,0,"--","--",{"$f":"IF(ISNUMBER(VLOOKUP(E114,'Tab 5-7a Soil & Air EPCs'!$D$7:$E$9,2,FALSE)),VLOOKUP(E114,'Tab 5-7a Soil & Air EPCs'!$D$7:$E$9,2,FALSE),\"--\")","v":"--"},"--","--",0,"--","--","--","--",{"$f":"IF(ISNUMBER(VLOOKUP(E114,'Tab 5-7a Soil & Air EPCs'!$D$7:$H$9,5,FALSE)),VLOOKUP(E114,'Tab 5-7a Soil & Air EPCs'!$D$7:$H$9,5,FALSE),\"--\")","v":"--"},"--","--",{"$f":"IF(ISNUMBER(VLOOKUP(E114,'Tab 5-7a Soil & Air EPCs'!$D$7:$F$9,3,FALSE)),VLOOKUP(E114,'Tab 5-7a Soil & Air EPCs'!$D$7:$F$9,3,FALSE),\"--\")","v":"--"},"--","--","--","--"]
[0,0,0,0,0,"--","--",{"$f":"IF(ISNUMBER(VLOOKUP(E115,'Tab 5-7a Soil & Air EPCs'!$D$7:$E$9,2,FALSE)),VLOOKUP(E115,'Tab 5-7a Soil & Air EPCs'!$D$7:$E$9,2,FALSE),\"--\")","v":"--"},"--","--",0,"--","--","--","--",{"$f":"IF(ISNUMBER(VLOOKUP(E115,'Tab 5-7a Soil & Air EPCs'!$D$7:$H$9,5,FALSE)),VLOOKUP(E115,'Tab 5-7a Soil & Air EPCs'!$D$7:$H$9,5,FALSE),\"--\")","v":"--"},"--","--",{"$f":"IF(ISNUMBER(VLOOKUP(E115,'Tab 5-7a Soil & Air EPCs'!$D$7:$F$9,3,FALSE)),VLOOKUP(E115,'Tab 5-7a Soil & Air EPCs'!$D$7:$F$9,3,FALSE),\"--\")","v":"--"},"--","--","--","--"]
[0,0,0,0,0,"--","--",{"$f":"IF(ISNUMBER(VLOOKUP(E116,'Tab 5-7a Soil & Air EPCs'!$D$7:$E$9,2,FALSE)),VLOOKUP(E116,'Tab 5-7a Soil & Air EPCs'!$D$7:$E$9,2,FALSE),\"--\")","v":"--"},"--","--",0,"--","--","--","--",{"$f":"IF(ISNUMBER(VLOOKUP(E116,'Tab 5-7a Soil & Air EPCs'!$D$7:$H$9,5,FALSE)),VLOOKUP(E116,'Tab 5-7a Soil & Air EPCs'!$D$7:$H$9,5,FALSE),\"--\")","v":"--"},"--","--",{"$f":"IF(ISNUMBER(VLOOKUP(E116,'Tab 5-7a Soil & Air EPCs'!$D$7:$F$9,3,FALSE)),VLOOKUP(E116,'Tab 5-7a Soil & Air EPCs'!$D$7:$F$9,3,FALSE),\"--\")","v":"--"},"--","--","--","--"]
[0,0,0,0,0,"--","--",{"$f":"IF(ISNUMBER(VLOOKUP(E117,'Tab 5-7a Soil & Air EPCs'!$D$7:$E$9,2,FALSE)),VLOOKUP(E117,'Tab 5-7a Soil & Air EPCs'!$D$7:$E$9,2,FALSE),\"--\")","v":"--"},"--","--",0,"--","--","--","--",{"$f":"IF(ISNUMBER(VLOOKUP(E117,'Tab 5-7a Soil & Air EPCs'!$D$7:$H$9,5,FALSE)),VLOOKUP(E117,'Tab 5-7a Soil & Air EPCs'!$D$7:$H$9,5,FALSE),\"--\")","v":"--"},"--","--",{"$f":"IF(ISNUMBER(VLOOKUP(E117,'Tab 5-7a Soil & Air EPCs'!$D$7:$F$9,3,FALSE)),VLOOKUP(E117,'Tab 5-7a Soil & Air EPCs'!$D$7:$F$9,3,FALSE),\"--\")","v":"--"},"--","--","--","--"]
[0,0,0,0,0,"--","--",{"$f":"IF(ISNUMBER(VLOOKUP(E118,'Tab 5-7a Soil & Air EPCs'!$D$7:$E$9,2,FALSE)),VLOOKUP(E118,'Tab 5-7a Soil & Air EPCs'!$D$7:$E$9,2,FALSE),\"--\")","v":"--"},"--","--",0,"--","--","--","--",{"$f":"IF(ISNUMBER(VLOOKUP(E118,'Tab 5-7a Soil & Air EPCs'!$D$7:$H$9,5,FALSE)),VLOOKUP(E118,'Tab 5-7a Soil & Air EPCs'!$D$7:$H$9,5,FALSE),\"--\")","v":"--"},"--","--",{"$f":"IF(ISNUMBER(VLOOKUP(E118,'Tab 5-7a Soil & Air EPCs'!$D$7:$F$9,3,FALSE)),VLOOKUP(E118,'Tab 5-7a Soil & Air EPCs'!$D$7:$F$9,3,FALSE),\"--\")","v":"--"},"--","--","--","--"]
[0,0,0,0,0,"--","--",{"$f":"IF(ISNUMBER(VLOOKUP(E119,'Tab 5-7a Soil & Air EPCs'!$D$7:$E$9,2,FALSE)),VLOOKUP(E119,'Tab 5-7a Soil & Air EPCs'!$D$7:$E$9,2,FALSE),\"--\")","v":"--"},"--","--",0,"--","--","--","--",{"$f":"IF(ISNUMBER(VLOOKUP(E119,'Tab 5-7a Soil & Air EPCs'!$D$7:$H$9,5,FALSE)),VLOOKUP(E119,'Tab 5-7a Soil & Air EPCs'!$D$7:$H$9,5,FALSE),\"--\")","v":"--"},"--","--",{"$f":"IF(ISNUMBER(VLOOKUP(E119,'Tab 5-7a Soil & Air EPCs'!$D$7:$F$9,3,FALSE)),VLOOKUP(E119,'Tab 5-7a Soil & Air EPCs'!$D$7:$F$9,3,FALSE),\"--\")","v":"--"},"--","--","--","--"]
[0,0,0,0,0,"--","--",{"$f":"IF(ISNUMBER(VLOOKUP(E120,'Tab 5-7a Soil & Air EPCs'!$D$7:$E$9,2,FALSE)),VLOOKUP(E120,'Tab 5-7a Soil & Air EPCs'!$D$7:$E$9,2,FALSE),\"--\")","v":"--"},"--","--",0,"--","--","--","--",{"$f":"IF(ISNUMBER(VLOOKUP(E120,'Tab 5-7a Soil & Air EPCs'!$D$7:$H$9,5,FALSE)),VLOOKUP(E120,'Tab 5-7a Soil & Air EPCs'!$D$7:$H$9,5,FALSE),\"--\")","v":"--"},"--","--",{"$f":"IF(ISNUMBER(VLOOKUP(E120,'Tab 5-7a Soil & Air EPCs'!$D$7:$F$9,3,FALSE)),VLOOKUP(E120,'Tab 5-7a Soil & Air EPCs'!$D$7:$F$9,3,FALSE),\"--\")","v":"--"},"--","--","--","--"]
[0,0,0,0,0,"--","--",{"$f":"IF(ISNUMBER(VLOOKUP(E121,'Tab 5-7a Soil & Air EPCs'!$D$7:$E$9,2,FALSE)),VLOOKUP(E121,'Tab 5-7a Soil & Air EPCs'!$D$7:$E$9,2,FALSE),\"--\")","v":"--"},"--","--",0,"--","--","--","--",{"$f":"IF(ISNUMBER(VLOOKUP(E121,'Tab 5-7a Soil & Air EPCs'!$D$7:$H$9,5,FALSE)),VLOOKUP(E121,'Tab 5-7a Soil & Air EPCs'!$D$7:$H$9,5,FALSE),\"--\")","v":"--"},"--","--",{"$f":"IF(ISNUMBER(VLOOKUP(E121,'Tab 5-7a Soil & Air EPCs'!$D$7:$F$9,3,FALSE)),VLOOKUP(E121,'Tab 5-7a Soil & Air EPCs'!$D$7:$F$9,3,FALSE),\"--\")","v":"--"},"--","--","--","--"]
[0,0,0,0,0,"--","--",{"$f":"IF(ISNUMBER(VLOOKUP(E122,'Tab 5-7a Soil & Air EPCs'!$D$7:$E$9,2,FALSE)),VLOOKUP(E122,'Tab 5-7a Soil & Air EPCs'!$D$7:$E$9,2,FALSE),\"--\")","v":"--"},"--","--",0,"--","--","--","--",{"$f":"IF(ISNUMBER(VLOOKUP(E122,'Tab 5-7a Soil & Air EPCs'!$D$7:$H$9,5,FALSE)),VLOOKUP(E122,'Tab 5-7a Soil & Air EPCs'!$D$7:$H$9,5,FALSE),\"--\")","v":"--"},"--","--",{"$f":"IF(ISNUMBER(VLOOKUP(E122,'Tab 5-7a Soil & Air EPCs'!$D$7:$F$9,3,FALSE)),VLOOKUP(E122,'Tab 5-7a Soil & Air EPCs'!$D$7:$F$9,3,FALSE),\"--\")","v":"--"},"--","--","--","--"]
[0,0,0,0,0,"--","--",{"$f":"IF(ISNUMBER(VLOOKUP(E123,'Tab 5-7a Soil & Air EPCs'!$D$7:$E$9,2,FALSE)),VLOOKUP(E123,'Tab 5-7a Soil & Air EPCs'!$D$7:$E$9,2,FALSE),\"--\")","v":"--"},"--","--",0,"--","--","--","--",{"$f":"IF(ISNUMBER(VLOOKUP(E123,'Tab 5-7a Soil & Air EPCs'!$D$7:$H$9,5,FALSE)),VLOOKUP(E123,'Tab 5-7a Soil & Air EPCs'!$D$7:$H$9,5,FALSE),\"--\")","v":"--"},"--","--",{"$f":"IF(ISNUMBER(VLOOKUP(E123,'Tab 5-7a Soil & Air EPCs'!$D$7:$F$9,3,FALSE)),VLOOKUP(E123,'Tab 5-7a Soil & Air EPCs'!$D$7:$F$9,3,FALSE),\"--\")","v":"--"},"--","--","--","--"]
[0,0,0,0,0,"--","--",{"$f":"IF(ISNUMBER(VLOOKUP(E124,'Tab 5-7a Soil & Air EPCs'!$D$7:$E$9,2,FALSE)),VLOOKUP(E124,'Tab 5-7a Soil & Air EPCs'!$D$7:$E$9,2,FALSE),\"--\")","v":"--"},"--","--",0,"--","--","--","--",{"$f":"IF(ISNUMBER(VLOOKUP(E124,'Tab 5-7a Soil & Air EPCs'!$D$7:$H$9,5,FALSE)),VLOOKUP(E124,'Tab 5-7a Soil & Air EPCs'!$D$7:$H$9,5,FALSE),\"--\")","v":"--"},"--","--",{"$f":"IF(ISNUMBER(VLOOKUP(E124,'Tab 5-7a Soil & Air EPCs'!$D$7:$F$9,3,FALSE)),VLOOKUP(E124,'Tab 5-7a Soil & Air EPCs'!$D$7:$F$9,3,FALSE),\"--\")","v":"--"},"--","--","--","--"]
[0,0,0,0,0,"--","--",{"$f":"IF(ISNUMBER(VLOOKUP(E125,'Tab 5-7a Soil & Air EPCs'!$D$7:$E$9,2,FALSE)),VLOOKUP(E125,'Tab 5-7a Soil & Air EPCs'!$D$7:$E$9,2,FALSE),\"--\")","v":"--"},"--","--",0,"--","--","--","--",{"$f":"IF(ISNUMBER(VLOOKUP(E125,'Tab 5-7a Soil & Air EPCs'!$D$7:$H$9,5,FALSE)),VLOOKUP(E125,'Tab 5-7a Soil & Air EPCs'!$D$7:$H$9,5,FALSE),\"--\")","v":"--"},"--","--",{"$f":"IF(ISNUMBER(VLOOKUP(E125,'Tab 5-7a Soil & Air EPCs'!$D$7:$F$9,3,FALSE)),VLOOKUP(E125,'Tab 5-7a Soil & Air EPCs'!$D$7:$F$9,3,FALSE),\"--\")","v":"--"},"--","--","--","--"]
[0,0,0,0,0,"--","--",{"$f":"IF(ISNUMBER(VLOOKUP(E126,'Tab 5-7a Soil & Air EPCs'!$D$7:$E$9,2,FALSE)),VLOOKUP(E126,'Tab 5-7a Soil & Air EPCs'!$D$7:$E$9,2,FALSE),\"--\")","v":"--"},"--","--",0,"--","--","--","--",{"$f":"IF(ISNUMBER(VLOOKUP(E126,'Tab 5-7a Soil & Air EPCs'!$D$7:$H$9,5,FALSE)),VLOOKUP(E126,'Tab 5-7a Soil & Air EPCs'!$D$7:$H$9,5,FALSE),\"--\")","v":"--"},"--","--",{"$f":"IF(ISNUMBER(VLOOKUP(E126,'Tab 5-7a Soil & Air EPCs'!$D$7:$F$9,3,FALSE)),VLOOKUP(E126,'Tab 5-7a Soil & Air EPCs'!$D$7:$F$9,3,FALSE),\"--\")","v":"--"},"--","--","--","--"]
[0,0,0,0,0,"--","--",{"$f":"IF(ISNUMBER(VLOOKUP(E127,'Tab 5-7a Soil & Air EPCs'!$D$7:$E$9,2,FALSE)),VLOOKUP(E127,'Tab 5-7a Soil & Air EPCs'!$D$7:$E$9,2,FALSE),\"--\")","v":"--"},"--","--",0,"--","--","--","--",{"$f":"IF(ISNUMBER(VLOOKUP(E127,'Tab 5-7a Soil & Air EPCs'!$D$7:$H$9,5,FALSE)),VLOOKUP(E127,'Tab 5-7a Soil & Air EPCs'!$D$7:$H$9,5,FALSE),\"--\")","v":"--"},"--","--",{"$f":"IF(ISNUMBER(VLOOKUP(E127,'Tab 5-7a Soil & Air EPCs'!$D$7:$F$9,3,FALSE)),VLOOKUP(E127,'Tab 5-7a Soil & Air EPCs'!$D$7:$F$9,3,FALSE),\"--\")","v":"--"},"--","--","--","--"]
[0,0,0,0,0,"--","--",{"$f":"IF(ISNUMBER(VLOOKUP(E128,'Tab 5-7a Soil & Air EPCs'!$D$7:$E$9,2,FALSE)),VLOOKUP(E128,'Tab 5-7a Soil & Air EPCs'!$D$7:$E$9,2,FALSE),\"--\")","v":"--"},"--","--",0,"--","--","--","--",{"$f":"IF(ISNUMBER(VLOOKUP(E128,'Tab 5-7a Soil & Air EPCs'!$D$7:$H$9,5,FALSE)),VLOOKUP(E128,'Tab 5-7a Soil & Air EPCs'!$D$7:$H$9,5,FALSE),\"--\")","v":"--"},"--","--",{"$f":"IF(ISNUMBER(VLOOKUP(E128,'Tab 5-7a Soil & Air EPCs'!$D$7:$F$9,3,FALSE)),VLOOKUP(E128,'Tab 5-7a Soil & Air EPCs'!$D$7:$F$9,3,FALSE),\"--\")","v":"--"},"--","--","--","--"]
[0,0,0,0,0,"--","--",{"$f":"IF(ISNUMBER(VLOOKUP(E129,'Tab 5-7a Soil & Air EPCs'!$D$7:$E$9,2,FALSE)),VLOOKUP(E129,'Tab 5-7a Soil & Air EPCs'!$D$7:$E$9,2,FALSE),\"--\")","v":"--"},"--","--",0,"--","--","--","--",{"$f":"IF(ISNUMBER(VLOOKUP(E129,'Tab 5-7a Soil & Air EPCs'!$D$7:$H$9,5,FALSE)),VLOOKUP(E129,'Tab 5-7a Soil & Air EPCs'!$D$7:$H$9,5,FALSE),\"--\")","v":"--"},"--","--",{"$f":"IF(ISNUMBER(VLOOKUP(E129,'Tab 5-7a Soil & Air EPCs'!$D$7:$F$9,3,FALSE)),VLOOKUP(E129,'Tab 5-7a Soil & Air EPCs'!$D$7:$F$9,3,FALSE),\"--\")","v":"--"},"--","--","--","--"]
[0,0,0,0,0,"--","--",{"$f":"IF(ISNUMBER(VLOOKUP(E130,'Tab 5-7a Soil & Air EPCs'!$D$7:$E$9,2,FALSE)),VLOOKUP(E130,'Tab 5-7a Soil & Air EPCs'!$D$7:$E$9,2,FALSE),\"--\")","v":"--"},"--","--",0,"--","--","--","--",{"$f":"IF(ISNUMBER(VLOOKUP(E130,'Tab 5-7a Soil & Air EPCs'!$D$7:$H$9,5,FALSE)),VLOOKUP(E130,'Tab 5-7a Soil & Air EPCs'!$D$7:$H$9,5,FALSE),\"--\")","v":"--"},"--","--",{"$f":"IF(ISNUMBER(VLOOKUP(E130,'Tab 5-7a Soil & Air EPCs'!$D$7:$F$9,3,FALSE)),VLOOKUP(E130,'Tab 5-7a Soil & Air EPCs'!$D$7:$F$9,3,FALSE),\"--\")","v":"--"},"--","--","--","--"]
[0,0,0,0,0,"--","--",{"$f":"IF(ISNUMBER(VLOOKUP(E131,'Tab 5-7a Soil & Air EPCs'!$D$7:$E$9,2,FALSE)),VLOOKUP(E131,'Tab 5-7a Soil & Air EPCs'!$D$7:$E$9,2,FALSE),\"--\")","v":"--"},"--","--",0,"--","--","--","--",{"$f":"IF(ISNUMBER(VLOOKUP(E131,'Tab 5-7a Soil & Air EPCs'!$D$7:$H$9,5,FALSE)),VLOOKUP(E131,'Tab 5-7a Soil & Air EPCs'!$D$7:$H$9,5,FALSE),\"--\")","v":"--"},"--","--",{"$f":"IF(ISNUMBER(VLOOKUP(E131,'Tab 5-7a Soil & Air EPCs'!$D$7:$F$9,3,FALSE)),VLOOKUP(E131,'Tab 5-7a Soil & Air EPCs'!$D$7:$F$9,3,FALSE),\"--\")","v":"--"},"--","--","--","--"]
[0,0,0,0,0,"--","--",{"$f":"IF(ISNUMBER(VLOOKUP(E132,'Tab 5-7a Soil & Air EPCs'!$D$7:$E$9,2,FALSE)),VLOOKUP(E132,'Tab 5-7a Soil & Air EPCs'!$D$7:$E$9,2,FALSE),\"--\")","v":"--"},"--","--",0,"--","--","--","--",{"$f":"IF(ISNUMBER(VLOOKUP(E132,'Tab 5-7a Soil & Air EPCs'!$D$7:$H$9,5,FALSE)),VLOOKUP(E132,'Tab 5-7a Soil & Air EPCs'!$D$7:$H$9,5,FALSE),\"--\")","v":"--"},"--","--",{"$f":"IF(ISNUMBER(VLOOKUP(E132,'Tab 5-7a Soil & Air EPCs'!$D$7:$F$9,3,FALSE)),VLOOKUP(E132,'Tab 5-7a Soil & Air EPCs'!$D$7:$F$9,3,FALSE),\"--\")","v":"--"},"--","--","--","--"]
[0,0,0,0,0,"--","--",{"$f":"IF(ISNUMBER(VLOOKUP(E133,'Tab 5-7a Soil & Air EPCs'!$D$7:$E$9,2,FALSE)),VLOOKUP(E133,'Tab 5-7a Soil & Air EPCs'!$D$7:$E$9,2,FALSE),\"--\")","v":"--"},"--","--",0,"--","--","--","--",{"$f":"IF(ISNUMBER(VLOOKUP(E133,'Tab 5-7a Soil & Air EPCs'!$D$7:$H$9,5,FALSE)),VLOOKUP(E133,'Tab 5-7a Soil & Air EPCs'!$D$7:$H$9,5,FALSE),\"--\")","v":"--"},"--","--",{"$f":"IF(ISNUMBER(VLOOKUP(E133,'Tab 5-7a Soil & Air EPCs'!$D$7:$F$9,3,FALSE)),VLOOKUP(E133,'Tab 5-7a Soil & Air EPCs'!$D$7:$F$9,3,FALSE),\"--\")","v":"--"},"--","--","--","--"]
[0,0,0,0,0,"--","--",{"$f":"IF(ISNUMBER(VLOOKUP(E134,'Tab 5-7a Soil & Air EPCs'!$D$7:$E$9,2,FALSE)),VLOOKUP(E134,'Tab 5-7a Soil & Air EPCs'!$D$7:$E$9,2,FALSE),\"--\")","v":"--"},"--","--",0,"--","--","--","--",{"$f":"IF(ISNUMBER(VLOOKUP(E134,'Tab 5-7a Soil & Air EPCs'!$D$7:$H$9,5,FALSE)),VLOOKUP(E134,'Tab 5-7a Soil & Air EPCs'!$D$7:$H$9,5,FALSE),\"--\")","v":"--"},"--","--",{"$f":"IF(ISNUMBER(VLOOKUP(E134,'Tab 5-7a Soil & Air EPCs'!$D$7:$F$9,3,FALSE)),VLOOKUP(E134,'Tab 5-7a Soil & Air EPCs'!$D$7:$F$9,3,FALSE),\"--\")","v":"--"},"--","--","--","--"]
[0,0,0,0,0,"--","--",{"$f":"IF(ISNUMBER(VLOOKUP(E135,'Tab 5-7a Soil & Air EPCs'!$D$7:$E$9,2,FALSE)),VLOOKUP(E135,'Tab 5-7a Soil & Air EPCs'!$D$7:$E$9,2,FALSE),\"--\")","v":"--"},"--","--",0,"--","--","--","--",{"$f":"IF(ISNUMBER(VLOOKUP(E135,'Tab 5-7a Soil & Air EPCs'!$D$7:$H$9,5,FALSE)),VLOOKUP(E135,'Tab 5-7a Soil & Air EPCs'!$D$7:$H$9,5,FALSE),\"--\")","v":"--"},"--","--",{"$f":"IF(ISNUMBER(VLOOKUP(E135,'Tab 5-7a Soil & Air EPCs'!$D$7:$F$9,3,FALSE)),VLOOKUP(E135,'Tab 5-7a Soil & Air EPCs'!$D$7:$F$9,3,FALSE),\"--\")","v":"--"},"--","--","--","--"]
[0,0,0,0,0,"--","--",{"$f":"IF(ISNUMBER(VLOOKUP(E136,'Tab 5-7a Soil & Air EPCs'!$D$7:$E$9,2,FALSE)),VLOOKUP(E136,'Tab 5-7a Soil & Air EPCs'!$D$7:$E$9,2,FALSE),\"--\")","v":"--"},"--","--",0,"--","--","--","--",{"$f":"IF(ISNUMBER(VLOOKUP(E136,'Tab 5-7a Soil & Air EPCs'!$D$7:$H$9,5,FALSE)),VLOOKUP(E136,'Tab 5-7a Soil & Air EPCs'!$D$7:$H$9,5,FALSE),\"--\")","v":"--"},"--","--",{"$f":"IF(ISNUMBER(VLOOKUP(E136,'Tab 5-7a Soil & Air EPCs'!$D$7:$F$9,3,FALSE)),VLOOKUP(E136,'Tab 5-7a Soil & Air EPCs'!$D$7:$F$9,3,FALSE),\"--\")","v":"--"},"--","--","--","--"]
[0,0,0,0,0,"--","--",{"$f":"IF(ISNUMBER(VLOOKUP(E137,'Tab 5-7a Soil & Air EPCs'!$D$7:$E$9,2,FALSE)),VLOOKUP(E137,'Tab 5-7a Soil & Air EPCs'!$D$7:$E$9,2,FALSE),\"--\")","v":"--"},"--","--",0,"--","--","--","--",{"$f":"IF(ISNUMBER(VLOOKUP(E137,'Tab 5-7a Soil & Air EPCs'!$D$7:$H$9,5,FALSE)),VLOOKUP(E137,'Tab 5-7a Soil & Air EPCs'!$D$7:$H$9,5,FALSE),\"--\")","v":"--"},"--","--",{"$f":"IF(ISNUMBER(VLOOKUP(E137,'Tab 5-7a Soil & Air EPCs'!$D$7:$F$9,3,FALSE)),VLOOKUP(E137,'Tab 5-7a Soil & Air EPCs'!$D$7:$F$9,3,FALSE),\"--\")","v":"--"},"--","--","--","--"]
[0,0,0,0,0,"--","--",{"$f":"IF(ISNUMBER(VLOOKUP(E138,'Tab 5-7a Soil & Air EPCs'!$D$7:$E$9,2,FALSE)),VLOOKUP(E138,'Tab 5-7a Soil & Air EPCs'!$D$7:$E$9,2,FALSE),\"--\")","v":"--"},"--","--",0,"--","--","--","--",{"$f":"IF(ISNUMBER(VLOOKUP(E138,'Tab 5-7a Soil & Air EPCs'!$D$7:$H$9,5,FALSE)),VLOOKUP(E138,'Tab 5-7a Soil & Air EPCs'!$D$7:$H$9,5,FALSE),\"--\")","v":"--"},"--","--",{"$f":"IF(ISNUMBER(VLOOKUP(E138,'Tab 5-7a Soil & Air EPCs'!$D$7:$F$9,3,FALSE)),VLOOKUP(E138,'Tab 5-7a Soil & Air EPCs'!$D$7:$F$9,3,FALSE),\"--\")","v":"--"},"--","--","--","--"]
[0,0,0,0,0,"--","--",{"$f":"IF(ISNUMBER(VLOOKUP(E139,'Tab 5-7a Soil & Air EPCs'!$D$7:$E$9,2,FALSE)),VLOOKUP(E139,'Tab 5-7a Soil & Air EPCs'!$D$7:$E$9,2,FALSE),\"--\")","v":"--"},"--","--",0,"--","--","--","--",{"$f":"IF(ISNUMBER(VLOOKUP(E139,'Tab 5-7a Soil & Air EPCs'!$D$7:$H$9,5,FALSE)),VLOOKUP(E139,'Tab 5-7a Soil & Air EPCs'!$D$7:$H$9,5,FALSE),\"--\")","v":"--"},"--","--",{"$f":"IF(ISNUMBER(VLOOKUP(E139,'Tab 5-7a Soil & Air EPCs'!$D$7:$F$9,3,FALSE)),VLOOKUP(E139,'Tab 5-7a Soil & Air EPCs'!$D$7:$F$9,3,FALSE),\"--\")","v":"--"},"--","--","--","--"]
[0,0,0,0,0,"--","--",{"$f":"IF(ISNUMBER(VLOOKUP(E140,'Tab 5-7a Soil & Air EPCs'!$D$7:$E$9,2,FALSE)),VLOOKUP(E140,'Tab 5-7a Soil & Air EPCs'!$D$7:$E$9,2,FALSE),\"--\")","v":"--"},"--","--",0,"--","--","--","--",{"$f":"IF(ISNUMBER(VLOOKUP(E140,'Tab 5-7a Soil & Air EPCs'!$D$7:$H$9,5,FALSE)),VLOOKUP(E140,'Tab 5-7a Soil & Air EPCs'!$D$7:$H$9,5,FALSE),\"--\")","v":"--"},"--","--",{"$f":"IF(ISNUMBER(VLOOKUP(E140,'Tab 5-7a Soil & Air EPCs'!$D$7:$F$9,3,FALSE)),VLOOKUP(E140,'Tab 5-7a Soil & Air EPCs'!$D$7:$F$9,3,FALSE),\"--\")","v":"--"},"--","--",{"$f":"IF(SUM(I140,L140,Q140,T140)>0,SUM(I140,L140,Q140,T140),\"--\")","v":"--"},{"$f":"IF(SUM(J140,M140,R140,U140)>0,SUM(J140,M140,R140,U140),\"--\")","v":"--"}]
[0,0,0,0,0,"--","--",{"$f":"IF(ISNUMBER(VLOOKUP(E141,'Tab 5-7a Soil & Air EPCs'!$D$7:$E$9,2,FALSE)),VLOOKUP(E141,'Tab 5-7a Soil & Air EPCs'!$D$7:$E$9,2,FALSE),\"--\")","v":"--"},"--","--",0,"--","--","--","--",{"$f":"IF(ISNUMBER(VLOOKUP(E141,'Tab 5-7a Soil & Air EPCs'!$D$7:$H$9,5,FALSE)),VLOOKUP(E141,'Tab 5-7a Soil & Air EPCs'!$D$7:$H$9,5,FALSE),\"--\")","v":"--"},"--","--",{"$f":"IF(ISNUMBER(VLOOKUP(E141,'Tab 5-7a Soil & Air EPCs'!$D$7:$F$9,3,FALSE)),VLOOKUP(E141,'Tab 5-7a Soil & Air EPCs'!$D$7:$F$9,3,FALSE),\"--\")","v":"--"},"--","--","--","--"]
[0,0,0,0,0,"--","--",{"$f":"IF(ISNUMBER(VLOOKUP(E142,'Tab 5-7a Soil & Air EPCs'!$D$7:$E$9,2,FALSE)),VLOOKUP(E142,'Tab 5-7a Soil & Air EPCs'!$D$7:$E$9,2,FALSE),\"--\")","v":"--"},"--","--",0,"--","--","--","--",{"$f":"IF(ISNUMBER(VLOOKUP(E142,'Tab 5-7a Soil & Air EPCs'!$D$7:$H$9,5,FALSE)),VLOOKUP(E142,'Tab 5-7a Soil & Air EPCs'!$D$7:$H$9,5,FALSE),\"--\")","v":"--"},"--","--",{"$f":"IF(ISNUMBER(VLOOKUP(E142,'Tab 5-7a Soil & Air EPCs'!$D$7:$F$9,3,FALSE)),VLOOKUP(E142,'Tab 5-7a Soil & Air EPCs'!$D$7:$F$9,3,FALSE),\"--\")","v":"--"},"--","--","--","--"]
[0,0,0,0,0,"--","--",{"$f":"IF(ISNUMBER(VLOOKUP(E143,'Tab 5-7a Soil & Air EPCs'!$D$7:$E$9,2,FALSE)),VLOOKUP(E143,'Tab 5-7a Soil & Air EPCs'!$D$7:$E$9,2,FALSE),\"--\")","v":"--"},"--","--",0,"--","--","--","--",{"$f":"IF(ISNUMBER(VLOOKUP(E143,'Tab 5-7a Soil & Air EPCs'!$D$7:$H$9,5,FALSE)),VLOOKUP(E143,'Tab 5-7a Soil & Air EPCs'!$D$7:$H$9,5,FALSE),\"--\")","v":"--"},"--","--",{"$f":"IF(ISNUMBER(VLOOKUP(E143,'Tab 5-7a Soil & Air EPCs'!$D$7:$F$9,3,FALSE)),VLOOKUP(E143,'Tab 5-7a Soil & Air EPCs'!$D$7:$F$9,3,FALSE),\"--\")","v":"--"},"--","--","--","--"]
[0,0,0,0,0,"--","--",{"$f":"IF(ISNUMBER(VLOOKUP(E144,'Tab 5-7a Soil & Air EPCs'!$D$7:$E$9,2,FALSE)),VLOOKUP(E144,'Tab 5-7a Soil & Air EPCs'!$D$7:$E$9,2,FALSE),\"--\")","v":"--"},"--","--",0,"--","--","--","--",{"$f":"IF(ISNUMBER(VLOOKUP(E144,'Tab 5-7a Soil & Air EPCs'!$D$7:$H$9,5,FALSE)),VLOOKUP(E144,'Tab 5-7a Soil & Air EPCs'!$D$7:$H$9,5,FALSE),\"--\")","v":"--"},"--","--",{"$f":"IF(ISNUMBER(VLOOKUP(E144,'Tab 5-7a Soil & Air EPCs'!$D$7:$F$9,3,FALSE)),VLOOKUP(E144,'Tab 5-7a Soil & Air EPCs'!$D$7:$F$9,3,FALSE),\"--\")","v":"--"},"--","--","--","--"]
[0,0,0,0,0,"--","--",{"$f":"IF(ISNUMBER(VLOOKUP(E145,'Tab 5-7a Soil & Air EPCs'!$D$7:$E$9,2,FALSE)),VLOOKUP(E145,'Tab 5-7a Soil & Air EPCs'!$D$7:$E$9,2,FALSE),\"--\")","v":"--"},"--","--",0,"--","--","--","--",{"$f":"IF(ISNUMBER(VLOOKUP(E145,'Tab 5-7a Soil & Air EPCs'!$D$7:$H$9,5,FALSE)),VLOOKUP(E145,'Tab 5-7a Soil & Air EPCs'!$D$7:$H$9,5,FALSE),\"--\")","v":"--"},"--","--",{"$f":"IF(ISNUMBER(VLOOKUP(E145,'Tab 5-7a Soil & Air EPCs'!$D$7:$F$9,3,FALSE)),VLOOKUP(E145,'Tab 5-7a Soil & Air EPCs'!$D$7:$F$9,3,FALSE),\"--\")","v":"--"},"--","--","--","--"]
[0,0,0,0,0,"--","--",{"$f":"IF(ISNUMBER(VLOOKUP(E146,'Tab 5-7a Soil & Air EPCs'!$D$7:$E$9,2,FALSE)),VLOOKUP(E146,'Tab 5-7a Soil & Air EPCs'!$D$7:$E$9,2,FALSE),\"--\")","v":"--"},"--","--",0,"--","--","--","--",{"$f":"IF(ISNUMBER(VLOOKUP(E146,'Tab 5-7a Soil & Air EPCs'!$D$7:$H$9,5,FALSE)),VLOOKUP(E146,'Tab 5-7a Soil & Air EPCs'!$D$7:$H$9,5,FALSE),\"--\")","v":"--"},"--","--",{"$f":"IF(ISNUMBER(VLOOKUP(E146,'Tab 5-7a Soil & Air EPCs'!$D$7:$F$9,3,FALSE)),VLOOKUP(E146,'Tab 5-7a Soil & Air EPCs'!$D$7:$F$9,3,FALSE),\"--\")","v":"--"},"--","--","--","--"]
[0,0,0,0,0,"--","--",{"$f":"IF(ISNUMBER(VLOOKUP(E147,'Tab 5-7a Soil & Air EPCs'!$D$7:$E$9,2,FALSE)),VLOOKUP(E147,'Tab 5-7a Soil & Air EPCs'!$D$7:$E$9,2,FALSE),\"--\")","v":"--"},"--","--",0,"--","--","--","--",{"$f":"IF(ISNUMBER(VLOOKUP(E147,'Tab 5-7a Soil & Air EPCs'!$D$7:$H$9,5,FALSE)),VLOOKUP(E147,'Tab 5-7a Soil & Air EPCs'!$D$7:$H$9,5,FALSE),\"--\")","v":"--"},"--","--",{"$f":"IF(ISNUMBER(VLOOKUP(E147,'Tab 5-7a Soil & Air EPCs'!$D$7:$F$9,3,FALSE)),VLOOKUP(E147,'Tab 5-7a Soil & Air EPCs'!$D$7:$F$9,3,FALSE),\"--\")","v":"--"},"--","--","--","--"]
[0,0,0,0,0,"--","--",{"$f":"IF(ISNUMBER(VLOOKUP(E148,'Tab 5-7a Soil & Air EPCs'!$D$7:$E$9,2,FALSE)),VLOOKUP(E148,'Tab 5-7a Soil & Air EPCs'!$D$7:$E$9,2,FALSE),\"--\")","v":"--"},"--","--",0,"--","--","--","--",{"$f":"IF(ISNUMBER(VLOOKUP(E148,'Tab 5-7a Soil & Air EPCs'!$D$7:$H$9,5,FALSE)),VLOOKUP(E148,'Tab 5-7a Soil & Air EPCs'!$D$7:$H$9,5,FALSE),\"--\")","v":"--"},"--","--",{"$f":"IF(ISNUMBER(VLOOKUP(E148,'Tab 5-7a Soil & Air EPCs'!$D$7:$F$9,3,FALSE)),VLOOKUP(E148,'Tab 5-7a Soil & Air EPCs'!$D$7:$F$9,3,FALSE),\"--\")","v":"--"},"--","--","--","--"]
[0,0,0,0,0,"--","--",{"$f":"IF(ISNUMBER(VLOOKUP(E149,'Tab 5-7a Soil & Air EPCs'!$D$7:$E$9,2,FALSE)),VLOOKUP(E149,'Tab 5-7a Soil & Air EPCs'!$D$7:$E$9,2,FALSE),\"--\")","v":"--"},"--","--",0,"--","--","--","--",{"$f":"IF(ISNUMBER(VLOOKUP(E149,'Tab 5-7a Soil & Air EPCs'!$D$7:$H$9,5,FALSE)),VLOOKUP(E149,'Tab 5-7a Soil & Air EPCs'!$D$7:$H$9,5,FALSE),\"--\")","v":"--"},"--","--",{"$f":"IF(ISNUMBER(VLOOKUP(E149,'Tab 5-7a Soil & Air EPCs'!$D$7:$F$9,3,FALSE)),VLOOKUP(E149,'Tab 5-7a Soil & Air EPCs'!$D$7:$F$9,3,FALSE),\"--\")","v":"--"},"--","--","--","--"]
[0,0,0,0,0,"--","--",{"$f":"IF(ISNUMBER(VLOOKUP(E150,'Tab 5-7a Soil & Air EPCs'!$D$7:$E$9,2,FALSE)),VLOOKUP(E150,'Tab 5-7a Soil & Air EPCs'!$D$7:$E$9,2,FALSE),\"--\")","v":"--"},"--","--",0,"--","--","--","--",{"$f":"IF(ISNUMBER(VLOOKUP(E150,'Tab 5-7a Soil & Air EPCs'!$D$7:$H$9,5,FALSE)),VLOOKUP(E150,'Tab 5-7a Soil & Air EPCs'!$D$7:$H$9,5,FALSE),\"--\")","v":"--"},"--","--",{"$f":"IF(ISNUMBER(VLOOKUP(E150,'Tab 5-7a Soil & Air EPCs'!$D$7:$F$9,3,FALSE)),VLOOKUP(E150,'Tab 5-7a Soil & Air EPCs'!$D$7:$F$9,3,FALSE),\"--\")","v":"--"},"--","--","--","--"]
[0,0,0,0,0,"--","--",{"$f":"IF(ISNUMBER(VLOOKUP(E151,'Tab 5-7a Soil & Air EPCs'!$D$7:$E$9,2,FALSE)),VLOOKUP(E151,'Tab 5-7a Soil & Air EPCs'!$D$7:$E$9,2,FALSE),\"--\")","v":"--"},"--","--",0,"--","--","--","--",{"$f":"IF(ISNUMBER(VLOOKUP(E151,'Tab 5-7a Soil & Air EPCs'!$D$7:$H$9,5,FALSE)),VLOOKUP(E151,'Tab 5-7a Soil & Air EPCs'!$D$7:$H$9,5,FALSE),\"--\")","v":"--"},"--","--",{"$f":"IF(ISNUMBER(VLOOKUP(E151,'Tab 5-7a Soil & Air EPCs'!$D$7:$F$9,3,FALSE)),VLOOKUP(E151,'Tab 5-7a Soil & Air EPCs'!$D$7:$F$9,3,FALSE),\"--\")","v":"--"},"--","--","--","--"]
[0,0,0,0,0,"--","--",{"$f":"IF(ISNUMBER(VLOOKUP(E152,'Tab 5-7a Soil & Air EPCs'!$D$7:$E$9,2,FALSE)),VLOOKUP(E152,'Tab 5-7a Soil & Air EPCs'!$D$7:$E$9,2,FALSE),\"--\")","v":"--"},"--","--",0,"--","--","--","--",{"$f":"IF(ISNUMBER(VLOOKUP(E152,'Tab 5-7a Soil & Air EPCs'!$D$7:$H$9,5,FALSE)),VLOOKUP(E152,'Tab 5-7a Soil & Air EPCs'!$D$7:$H$9,5,FALSE),\"--\")","v":"--"},"--","--",{"$f":"IF(ISNUMBER(VLOOKUP(E152,'Tab 5-7a Soil & Air EPCs'!$D$7:$F$9,3,FALSE)),VLOOKUP(E152,'Tab 5-7a Soil & Air EPCs'!$D$7:$F$9,3,FALSE),\"--\")","v":"--"},"--","--","--","--"]
[0,0,0,0,0,"--","--",{"$f":"IF(ISNUMBER(VLOOKUP(E153,'Tab 5-7a Soil & Air EPCs'!$D$7:$E$9,2,FALSE)),VLOOKUP(E153,'Tab 5-7a Soil & Air EPCs'!$D$7:$E$9,2,FALSE),\"--\")","v":"--"},"--","--",0,"--","--","--","--",{"$f":"IF(ISNUMBER(VLOOKUP(E153,'Tab 5-7a Soil & Air EPCs'!$D$7:$H$9,5,FALSE)),VLOOKUP(E153,'Tab 5-7a Soil & Air EPCs'!$D$7:$H$9,5,FALSE),\"--\")","v":"--"},"--","--",{"$f":"IF(ISNUMBER(VLOOKUP(E153,'Tab 5-7a Soil & Air EPCs'!$D$7:$F$9,3,FALSE)),VLOOKUP(E153,'Tab 5-7a Soil & Air EPCs'!$D$7:$F$9,3,FALSE),\"--\")","v":"--"},"--","--","--","--"]
[0,0,0,0,0,"--","--",{"$f":"IF(ISNUMBER(VLOOKUP(E154,'Tab 5-7a Soil & Air EPCs'!$D$7:$E$9,2,FALSE)),VLOOKUP(E154,'Tab 5-7a Soil & Air EPCs'!$D$7:$E$9,2,FALSE),\"--\")","v":"--"},"--","--",0,"--","--","--","--",{"$f":"IF(ISNUMBER(VLOOKUP(E154,'Tab 5-7a Soil & Air EPCs'!$D$7:$H$9,5,FALSE)),VLOOKUP(E154,'Tab 5-7a Soil & Air EPCs'!$D$7:$H$9,5,FALSE),\"--\")","v":"--"},"--","--",{"$f":"IF(ISNUMBER(VLOOKUP(E154,'Tab 5-7a Soil & Air EPCs'!$D$7:$F$9,3,FALSE)),VLOOKUP(E154,'Tab 5-7a Soil & Air EPCs'!$D$7:$F$9,3,FALSE),\"--\")","v":"--"},"--","--","--","--"]
[0,0,0,0,0,"--","--",{"$f":"IF(ISNUMBER(VLOOKUP(E155,'Tab 5-7a Soil & Air EPCs'!$D$7:$E$9,2,FALSE)),VLOOKUP(E155,'Tab 5-7a Soil & Air EPCs'!$D$7:$E$9,2,FALSE),\"--\")","v":"--"},"--","--",0,"--","--","--","--",{"$f":"IF(ISNUMBER(VLOOKUP(E155,'Tab 5-7a Soil & Air EPCs'!$D$7:$H$9,5,FALSE)),VLOOKUP(E155,'Tab 5-7a Soil & Air EPCs'!$D$7:$H$9,5,FALSE),\"--\")","v":"--"},"--","--",{"$f":"IF(ISNUMBER(VLOOKUP(E155,'Tab 5-7a Soil & Air EPCs'!$D$7:$F$9,3,FALSE)),VLOOKUP(E155,'Tab 5-7a Soil & Air EPCs'!$D$7:$F$9,3,FALSE),\"--\")","v":"--"},"--","--","--","--"]
[0,0,0,0,0,"--","--",{"$f":"IF(ISNUMBER(VLOOKUP(E156,'Tab 5-7a Soil & Air EPCs'!$D$7:$E$9,2,FALSE)),VLOOKUP(E156,'Tab 5-7a Soil & Air EPCs'!$D$7:$E$9,2,FALSE),\"--\")","v":"--"},"--","--",0,"--","--","--","--",{"$f":"IF(ISNUMBER(VLOOKUP(E156,'Tab 5-7a Soil & Air EPCs'!$D$7:$H$9,5,FALSE)),VLOOKUP(E156,'Tab 5-7a Soil & Air EPCs'!$D$7:$H$9,5,FALSE),\"--\")","v":"--"},"--","--",{"$f":"IF(ISNUMBER(VLOOKUP(E156,'Tab 5-7a Soil & Air EPCs'!$D$7:$F$9,3,FALSE)),VLOOKUP(E156,'Tab 5-7a Soil & Air EPCs'!$D$7:$F$9,3,FALSE),\"--\")","v":"--"},"--","--","--","--"]
[0,0,0,0,0,"--","--",{"$f":"IF(ISNUMBER(VLOOKUP(E157,'Tab 5-7a Soil & Air EPCs'!$D$7:$E$9,2,FALSE)),VLOOKUP(E157,'Tab 5-7a Soil & Air EPCs'!$D$7:$E$9,2,FALSE),\"--\")","v":"--"},"--","--",0,"--","--","--","--",{"$f":"IF(ISNUMBER(VLOOKUP(E157,'Tab 5-7a Soil & Air EPCs'!$D$7:$H$9,5,FALSE)),VLOOKUP(E157,'Tab 5-7a Soil & Air EPCs'!$D$7:$H$9,5,FALSE),\"--\")","v":"--"},"--","--",{"$f":"IF(ISNUMBER(VLOOKUP(E157,'Tab 5-7a Soil & Air EPCs'!$D$7:$F$9,3,FALSE)),VLOOKUP(E157,'Tab 5-7a Soil & Air EPCs'!$D$7:$F$9,3,FALSE),\"--\")","v":"--"},"--","--","--","--"]
[0,0,0,0,0,"--","--",{"$f":"IF(ISNUMBER(VLOOKUP(E158,'Tab 5-7a Soil & Air EPCs'!$D$7:$E$9,2,FALSE)),VLOOKUP(E158,'Tab 5-7a Soil & Air EPCs'!$D$7:$E$9,2,FALSE),\"--\")","v":"--"},"--","--",0,"--","--","--","--",{"$f":"IF(ISNUMBER(VLOOKUP(E158,'Tab 5-7a Soil & Air EPCs'!$D$7:$H$9,5,FALSE)),VLOOKUP(E158,'Tab 5-7a Soil & Air EPCs'!$D$7:$H$9,5,FALSE),\"--\")","v":"--"},"--","--",{"$f":"IF(ISNUMBER(VLOOKUP(E158,'Tab 5-7a Soil & Air EPCs'!$D$7:$F$9,3,FALSE)),VLOOKUP(E158,'Tab 5-7a Soil & Air EPCs'!$D$7:$F$9,3,FALSE),\"--\")","v":"--"},"--","--","--","--"]
[0,0,0,0,0,"--","--",{"$f":"IF(ISNUMBER(VLOOKUP(E159,'Tab 5-7a Soil & Air EPCs'!$D$7:$E$9,2,FALSE)),VLOOKUP(E159,'Tab 5-7a Soil & Air EPCs'!$D$7:$E$9,2,FALSE),\"--\")","v":"--"},"--","--","--","--","--","--","--",{"$f":"IF(ISNUMBER(VLOOKUP(E159,'Tab 5-7a Soil & Air EPCs'!$D$7:$H$9,5,FALSE)),VLOOKUP(E159,'Tab 5-7a Soil & Air EPCs'!$D$7:$H$9,5,FALSE),\"--\")","v":"--"},"--","--",{"$f":"IF(ISNUMBER(VLOOKUP(E159,'Tab 5-7a Soil & Air EPCs'!$D$7:$F$9,3,FALSE)),VLOOKUP(E159,'Tab 5-7a Soil & Air EPCs'!$D$7:$F$9,3,FALSE),\"--\")","v":"--"},"--","--","--","--"]
[0,0,0,0,0,"--","--",{"$f":"IF(ISNUMBER(VLOOKUP(E160,'Tab 5-7a Soil & Air EPCs'!$D$7:$E$9,2,FALSE)),VLOOKUP(E160,'Tab 5-7a Soil & Air EPCs'!$D$7:$E$9,2,FALSE),\"--\")","v":"--"},"--","--","--","--","--","--","--",{"$f":"IF(ISNUMBER(VLOOKUP(E160,'Tab 5-7a Soil & Air EPCs'!$D$7:$H$9,5,FALSE)),VLOOKUP(E160,'Tab 5-7a Soil & Air EPCs'!$D$7:$H$9,5,FALSE),\"--\")","v":"--"},"--","--",{"$f":"IF(ISNUMBER(VLOOKUP(E160,'Tab 5-7a Soil & Air EPCs'!$D$7:$F$9,3,FALSE)),VLOOKUP(E160,'Tab 5-7a Soil & Air EPCs'!$D$7:$F$9,3,FALSE),\"--\")","v":"--"},"--","--","--","--"]
[0,0,0,0,0,"--","--",{"$f":"IF(ISNUMBER(VLOOKUP(E161,'Tab 5-7a Soil & Air EPCs'!$D$7:$E$9,2,FALSE)),VLOOKUP(E161,'Tab 5-7a Soil & Air EPCs'!$D$7:$E$9,2,FALSE),\"--\")","v":"--"},"--","--","--","--","--","--","--",{"$f":"IF(ISNUMBER(VLOOKUP(E161,'Tab 5-7a Soil & Air EPCs'!$D$7:$H$9,5,FALSE)),VLOOKUP(E161,'Tab 5-7a Soil & Air EPCs'!$D$7:$H$9,5,FALSE),\"--\")","v":"--"},"--","--",{"$f":"IF(ISNUMBER(VLOOKUP(E161,'Tab 5-7a Soil & Air EPCs'!$D$7:$F$9,3,FALSE)),VLOOKUP(E161,'Tab 5-7a Soil & Air EPCs'!$D$7:$F$9,3,FALSE),\"--\")","v":"--"},"--","--","--","--"]
[0,0,0,0,0,"--","--",{"$f":"IF(ISNUMBER(VLOOKUP(E162,'Tab 5-7a Soil & Air EPCs'!$D$7:$E$9,2,FALSE)),VLOOKUP(E162,'Tab 5-7a Soil & Air EPCs'!$D$7:$E$9,2,FALSE),\"--\")","v":"--"},"--","--","--","--","--","--","--",{"$f":"IF(ISNUMBER(VLOOKUP(E162,'Tab 5-7a Soil & Air EPCs'!$D$7:$H$9,5,FALSE)),VLOOKUP(E162,'Tab 5-7a Soil & Air EPCs'!$D$7:$H$9,5,FALSE),\"--\")","v":"--"},"--","--",{"$f":"IF(ISNUMBER(VLOOKUP(E162,'Tab 5-7a Soil & Air EPCs'!$D$7:$F$9,3,FALSE)),VLOOKUP(E162,'Tab 5-7a Soil & Air EPCs'!$D$7:$F$9,3,FALSE),\"--\")","v":"--"},"--","--","--","--"]
[0,0,0,0,0,"--","--",{"$f":"IF(ISNUMBER(VLOOKUP(E163,'Tab 5-7a Soil & Air EPCs'!$D$7:$E$9,2,FALSE)),VLOOKUP(E163,'Tab 5-7a Soil & Air EPCs'!$D$7:$E$9,2,FALSE),\"--\")","v":"--"},"--","--","--","--","--","--","--",{"$f":"IF(ISNUMBER(VLOOKUP(E163,'Tab 5-7a Soil & Air EPCs'!$D$7:$H$9,5,FALSE)),VLOOKUP(E163,'Tab 5-7a Soil & Air EPCs'!$D$7:$H$9,5,FALSE),\"--\")","v":"--"},"--","--",{"$f":"IF(ISNUMBER(VLOOKUP(E163,'Tab 5-7a Soil & Air EPCs'!$D$7:$F$9,3,FALSE)),VLOOKUP(E163,'Tab 5-7a Soil & Air EPCs'!$D$7:$F$9,3,FALSE),\"--\")","v":"--"},"--","--","--","--"]
[0,0,0,0,0,"--","--",{"$f":"IF(ISNUMBER(VLOOKUP(E164,'Tab 5-7a Soil & Air EPCs'!$D$7:$E$9,2,FALSE)),VLOOKUP(E164,'Tab 5-7a Soil & Air EPCs'!$D$7:$E$9,2,FALSE),\"--\")","v":"--"},"--","--","--","--","--","--","--",{"$f":"IF(ISNUMBER(VLOOKUP(E164,'Tab 5-7a Soil & Air EPCs'!$D$7:$H$9,5,FALSE)),VLOOKUP(E164,'Tab 5-7a Soil & Air EPCs'!$D$7:$H$9,5,FALSE),\"--\")","v":"--"},"--","--",{"$f":"IF(ISNUMBER(VLOOKUP(E164,'Tab 5-7a Soil & Air EPCs'!$D$7:$F$9,3,FALSE)),VLOOKUP(E164,'Tab 5-7a Soil & Air EPCs'!$D$7:$F$9,3,FALSE),\"--\")","v":"--"},"--","--","--","--"]
[0,0,0,0,0,"--","--",{"$f":"IF(ISNUMBER(VLOOKUP(E165,'Tab 5-7a Soil & Air EPCs'!$D$7:$E$9,2,FALSE)),VLOOKUP(E165,'Tab 5-7a Soil & Air EPCs'!$D$7:$E$9,2,FALSE),\"--\")","v":"--"},"--","--","--","--","--","--","--",{"$f":"IF(ISNUMBER(VLOOKUP(E165,'Tab 5-7a Soil & Air EPCs'!$D$7:$H$9,5,FALSE)),VLOOKUP(E165,'Tab 5-7a Soil & Air EPCs'!$D$7:$H$9,5,FALSE),\"--\")","v":"--"},"--","--",{"$f":"IF(ISNUMBER(VLOOKUP(E165,'Tab 5-7a Soil & Air EPCs'!$D$7:$F$9,3,FALSE)),VLOOKUP(E165,'Tab 5-7a Soil & Air EPCs'!$D$7:$F$9,3,FALSE),\"--\")","v":"--"},"--","--","--","--"]
[0,0,0,0,0,"--","--",{"$f":"IF(ISNUMBER(VLOOKUP(E166,'Tab 5-7a Soil & Air EPCs'!$D$7:$E$9,2,FALSE)),VLOOKUP(E166,'Tab 5-7a Soil & Air EPCs'!$D$7:$E$9,2,FALSE),\"--\")","v":"--"},"--","--","--","--","--","--","--",{"$f":"IF(ISNUMBER(VLOOKUP(E166,'Tab 5-7a Soil & Air EPCs'!$D$7:$H$9,5,FALSE)),VLOOKUP(E166,'Tab 5-7a Soil & Air EPCs'!$D$7:$H$9,5,FALSE),\"--\")","v":"--"},"--","--",{"$f":"IF(ISNUMBER(VLOOKUP(E166,'Tab 5-7a Soil & Air EPCs'!$D$7:$F$9,3,FALSE)),VLOOKUP(E166,'Tab 5-7a Soil & Air EPCs'!$D$7:$F$9,3,FALSE),\"--\")","v":"--"},"--","--","--","--"]
[0,0,0,0,0,"--","--",{"$f":"IF(ISNUMBER(VLOOKUP(E167,'Tab 5-7a Soil & Air EPCs'!$D$7:$E$9,2,FALSE)),VLOOKUP(E167,'Tab 5-7a Soil & Air EPCs'!$D$7:$E$9,2,FALSE),\"--\")","v":"--"},"--","--","--","--","--","--","--",{"$f":"IF(ISNUMBER(VLOOKUP(E167,'Tab 5-7a Soil & Air EPCs'!$D$7:$H$9,5,FALSE)),VLOOKUP(E167,'Tab 5-7a Soil & Air EPCs'!$D$7:$H$9,5,FALSE),\"--\")","v":"--"},"--","--",{"$f":"IF(ISNUMBER(VLOOKUP(E167,'Tab 5-7a Soil & Air EPCs'!$D$7:$F$9,3,FALSE)),VLOOKUP(E167,'Tab 5-7a Soil & Air EPCs'!$D$7:$F$9,3,FALSE),\"--\")","v":"--"},"--","--","--","--"]
[0,0,0,0,0,"--","--",{"$f":"IF(ISNUMBER(VLOOKUP(E168,'Tab 5-7a Soil & Air EPCs'!$D$7:$E$9,2,FALSE)),VLOOKUP(E168,'Tab 5-7a Soil & Air EPCs'!$D$7:$E$9,2,FALSE),\"--\")","v":"--"},"--","--","--","--","--","--","--",{"$f":"IF(ISNUMBER(VLOOKUP(E168,'Tab 5-7a Soil & Air EPCs'!$D$7:$H$9,5,FALSE)),VLOOKUP(E168,'Tab 5-7a Soil & Air EPCs'!$D$7:$H$9,5,FALSE),\"--\")","v":"--"},"--","--",{"$f":"IF(ISNUMBER(VLOOKUP(E168,'Tab 5-7a Soil & Air EPCs'!$D$7:$F$9,3,FALSE)),VLOOKUP(E168,'Tab 5-7a Soil & Air EPCs'!$D$7:$F$9,3,FALSE),\"--\")","v":"--"},"--","--","--","--"]
[0,0,0,0,0,"--","--",{"$f":"IF(ISNUMBER(VLOOKUP(E169,'Tab 5-7a Soil & Air EPCs'!$D$7:$E$9,2,FALSE)),VLOOKUP(E169,'Tab 5-7a Soil & Air EPCs'!$D$7:$E$9,2,FALSE),\"--\")","v":"--"},"--","--","--","--","--","--","--",{"$f":"IF(ISNUMBER(VLOOKUP(E169,'Tab 5-7a Soil & Air EPCs'!$D$7:$H$9,5,FALSE)),VLOOKUP(E169,'Tab 5-7a Soil & Air EPCs'!$D$7:$H$9,5,FALSE),\"--\")","v":"--"},"--","--",{"$f":"IF(ISNUMBER(VLOOKUP(E169,'Tab 5-7a Soil & Air EPCs'!$D$7:$F$9,3,FALSE)),VLOOKUP(E169,'Tab 5-7a Soil & Air EPCs'!$D$7:$F$9,3,FALSE),\"--\")","v":"--"},"--","--","--","--"]
[0,0,0,0,0,"--","--",{"$f":"IF(ISNUMBER(VLOOKUP(E170,'Tab 5-7a Soil & Air EPCs'!$D$7:$E$9,2,FALSE)),VLOOKUP(E170,'Tab 5-7a Soil & Air EPCs'!$D$7:$E$9,2,FALSE),\"--\")","v":"--"},"--","--","--","--","--","--","--",{"$f":"IF(ISNUMBER(VLOOKUP(E170,'Tab 5-7a Soil & Air EPCs'!$D$7:$H$9,5,FALSE)),VLOOKUP(E170,'Tab 5-7a Soil & Air EPCs'!$D$7:$H$9,5,FALSE),\"--\")","v":"--"},"--","--",{"$f":"IF(ISNUMBER(VLOOKUP(E170,'Tab 5-7a Soil & Air EPCs'!$D$7:$F$9,3,FALSE)),VLOOKUP(E170,'Tab 5-7a Soil & Air EPCs'!$D$7:$F$9,3,FALSE),\"--\")","v":"--"},"--","--","--","--"]
[0,0,0,0,0,"--","--",{"$f":"IF(ISNUMBER(VLOOKUP(E171,'Tab 5-7a Soil & Air EPCs'!$D$7:$E$9,2,FALSE)),VLOOKUP(E171,'Tab 5-7a Soil & Air EPCs'!$D$7:$E$9,2,FALSE),\"--\")","v":"--"},"--","--","--","--","--","--","--",{"$f":"IF(ISNUMBER(VLOOKUP(E171,'Tab 5-7a Soil & Air EPCs'!$D$7:$H$9,5,FALSE)),VLOOKUP(E171,'Tab 5-7a Soil & Air EPCs'!$D$7:$H$9,5,FALSE),\"--\")","v":"--"},"--","--",{"$f":"IF(ISNUMBER(VLOOKUP(E171,'Tab 5-7a Soil & Air EPCs'!$D$7:$F$9,3,FALSE)),VLOOKUP(E171,'Tab 5-7a Soil & Air EPCs'!$D$7:$F$9,3,FALSE),\"--\")","v":"--"},"--","--","--","--"]
[0,0,0,0,0,"--","--",{"$f":"IF(ISNUMBER(VLOOKUP(E172,'Tab 5-7a Soil & Air EPCs'!$D$7:$E$9,2,FALSE)),VLOOKUP(E172,'Tab 5-7a Soil & Air EPCs'!$D$7:$E$9,2,FALSE),\"--\")","v":"--"},"--","--","--","--","--","--","--",{"$f":"IF(ISNUMBER(VLOOKUP(E172,'Tab 5-7a Soil & Air EPCs'!$D$7:$H$9,5,FALSE)),VLOOKUP(E172,'Tab 5-7a Soil & Air EPCs'!$D$7:$H$9,5,FALSE),\"--\")","v":"--"},"--","--",{"$f":"IF(ISNUMBER(VLOOKUP(E172,'Tab 5-7a Soil & Air EPCs'!$D$7:$F$9,3,FALSE)),VLOOKUP(E172,'Tab 5-7a Soil & Air EPCs'!$D$7:$F$9,3,FALSE),\"--\")","v":"--"},"--","--","--","--"]
[0,0,0,0,0,"--","--",{"$f":"IF(ISNUMBER(VLOOKUP(E173,'Tab 5-7a Soil & Air EPCs'!$D$7:$E$9,2,FALSE)),VLOOKUP(E173,'Tab 5-7a Soil & Air EPCs'!$D$7:$E$9,2,FALSE),\"--\")","v":"--"},"--","--","--","--","--","--","--",{"$f":"IF(ISNUMBER(VLOOKUP(E173,'Tab 5-7a Soil & Air EPCs'!$D$7:$H$9,5,FALSE)),VLOOKUP(E173,'Tab 5-7a Soil & Air EPCs'!$D$7:$H$9,5,FALSE),\"--\")","v":"--"},"--","--",{"$f":"IF(ISNUMBER(VLOOKUP(E173,'Tab 5-7a Soil & Air EPCs'!$D$7:$F$9,3,FALSE)),VLOOKUP(E173,'Tab 5-7a Soil & Air EPCs'!$D$7:$F$9,3,FALSE),\"--\")","v":"--"},"--","--","--","--"]
[0,0,0,0,0,"--","--",{"$f":"IF(ISNUMBER(VLOOKUP(E174,'Tab 5-7a Soil & Air EPCs'!$D$7:$E$9,2,FALSE)),VLOOKUP(E174,'Tab 5-7a Soil & Air EPCs'!$D$7:$E$9,2,FALSE),\"--\")","v":"--"},"--","--","--","--","--","--","--",{"$f":"IF(ISNUMBER(VLOOKUP(E174,'Tab 5-7a Soil & Air EPCs'!$D$7:$H$9,5,FALSE)),VLOOKUP(E174,'Tab 5-7a Soil & Air EPCs'!$D$7:$H$9,5,FALSE),\"--\")","v":"--"},"--","--",{"$f":"IF(ISNUMBER(VLOOKUP(E174,'Tab 5-7a Soil & Air EPCs'!$D$7:$F$9,3,FALSE)),VLOOKUP(E174,'Tab 5-7a Soil & Air EPCs'!$D$7:$F$9,3,FALSE),\"--\")","v":"--"},"--","--","--","--"]
[0,0,0,0,0,"--","--",{"$f":"IF(ISNUMBER(VLOOKUP(E175,'Tab 5-7a Soil & Air EPCs'!$D$7:$E$9,2,FALSE)),VLOOKUP(E175,'Tab 5-7a Soil & Air EPCs'!$D$7:$E$9,2,FALSE),\"--\")","v":"--"},"--","--","--","--","--","--","--",{"$f":"IF(ISNUMBER(VLOOKUP(E175,'Tab 5-7a Soil & Air EPCs'!$D$7:$H$9,5,FALSE)),VLOOKUP(E175,'Tab 5-7a Soil & Air EPCs'!$D$7:$H$9,5,FALSE),\"--\")","v":"--"},"--","--",{"$f":"IF(ISNUMBER(VLOOKUP(E175,'Tab 5-7a Soil & Air EPCs'!$D$7:$F$9,3,FALSE)),VLOOKUP(E175,'Tab 5-7a Soil & Air EPCs'!$D$7:$F$9,3,FALSE),\"--\")","v":"--"},"--","--","--","--"]
[0,0,0,0,0,"--","--",{"$f":"IF(ISNUMBER(VLOOKUP(E176,'Tab 5-7a Soil & Air EPCs'!$D$7:$E$9,2,FALSE)),VLOOKUP(E176,'Tab 5-7a Soil & Air EPCs'!$D$7:$E$9,2,FALSE),\"--\")","v":"--"},"--","--","--","--","--","--","--",{"$f":"IF(ISNUMBER(VLOOKUP(E176,'Tab 5-7a Soil & Air EPCs'!$D$7:$H$9,5,FALSE)),VLOOKUP(E176,'Tab 5-7a Soil & Air EPCs'!$D$7:$H$9,5,FALSE),\"--\")","v":"--"},"--","--",{"$f":"IF(ISNUMBER(VLOOKUP(E176,'Tab 5-7a Soil & Air EPCs'!$D$7:$F$9,3,FALSE)),VLOOKUP(E176,'Tab 5-7a Soil & Air EPCs'!$D$7:$F$9,3,FALSE),\"--\")","v":"--"},"--","--","--","--"]
[0,0,0,0,0,"--","--",{"$f":"IF(ISNUMBER(VLOOKUP(E177,'Tab 5-7a Soil & Air EPCs'!$D$7:$E$9,2,FALSE)),VLOOKUP(E177,'Tab 5-7a Soil & Air EPCs'!$D$7:$E$9,2,FALSE),\"--\")","v":"--"},"--","--","--","--","--","--","--",{"$f":"IF(ISNUMBER(VLOOKUP(E177,'Tab 5-7a Soil & Air EPCs'!$D$7:$H$9,5,FALSE)),VLOOKUP(E177,'Tab 5-7a Soil & Air EPCs'!$D$7:$H$9,5,FALSE),\"--\")","v":"--"},"--","--",{"$f":"IF(ISNUMBER(VLOOKUP(E177,'Tab 5-7a Soil & Air EPCs'!$D$7:$F$9,3,FALSE)),VLOOKUP(E177,'Tab 5-7a Soil & Air EPCs'!$D$7:$F$9,3,FALSE),\"--\")","v":"--"},"--","--","--","--"]
[0,0,0,0,0,"--","--",{"$f":"IF(ISNUMBER(VLOOKUP(E178,'Tab 5-7a Soil & Air EPCs'!$D$7:$E$9,2,FALSE)),VLOOKUP(E178,'Tab 5-7a Soil & Air EPCs'!$D$7:$E$9,2,FALSE),\"--\")","v":"--"},"--","--","--","--","--","--","--",{"$f":"IF(ISNUMBER(VLOOKUP(E178,'Tab 5-7a Soil & Air EPCs'!$D$7:$H$9,5,FALSE)),VLOOKUP(E178,'Tab 5-7a Soil & Air EPCs'!$D$7:$H$9,5,FALSE),\"--\")","v":"--"},"--","--",{"$f":"IF(ISNUMBER(VLOOKUP(E178,'Tab 5-7a Soil & Air EPCs'!$D$7:$F$9,3,FALSE)),VLOOKUP(E178,'Tab 5-7a Soil & Air EPCs'!$D$7:$F$9,3,FALSE),\"--\")","v":"--"},"--","--","--","--"]
[0,0,0,0,0,"--","--",{"$f":"IF(ISNUMBER(VLOOKUP(E179,'Tab 5-7a Soil & Air EPCs'!$D$7:$E$9,2,FALSE)),VLOOKUP(E179,'Tab 5-7a Soil & Air EPCs'!$D$7:$E$9,2,FALSE),\"--\")","v":"--"},"--","--","--","--","--","--","--",{"$f":"IF(ISNUMBER(VLOOKUP(E179,'Tab 5-7a Soil & Air EPCs'!$D$7:$H$9,5,FALSE)),VLOOKUP(E179,'Tab 5-7a Soil & Air EPCs'!$D$7:$H$9,5,FALSE),\"--\")","v":"--"},"--","--",{"$f":"IF(ISNUMBER(VLOOKUP(E179,'Tab 5-7a Soil & Air EPCs'!$D$7:$F$9,3,FALSE)),VLOOKUP(E179,'Tab 5-7a Soil & Air EPCs'!$D$7:$F$9,3,FALSE),\"--\")","v":"--"},"--","--","--","--"]
[0,0,0,0,0,"--","--",{"$f":"IF(ISNUMBER(VLOOKUP(E180,'Tab 5-7a Soil & Air EPCs'!$D$7:$E$9,2,FALSE)),VLOOKUP(E180,'Tab 5-7a Soil & Air EPCs'!$D$7:$E$9,2,FALSE),\"--\")","v":"--"},"--","--","--","--","--","--","--",{"$f":"IF(ISNUMBER(VLOOKUP(E180,'Tab 5-7a Soil & Air EPCs'!$D$7:$H$9,5,FALSE)),VLOOKUP(E180,'Tab 5-7a Soil & Air EPCs'!$D$7:$H$9,5,FALSE),\"--\")","v":"--"},"--","--",{"$f":"IF(ISNUMBER(VLOOKUP(E180,'Tab 5-7a Soil & Air EPCs'!$D$7:$F$9,3,FALSE)),VLOOKUP(E180,'Tab 5-7a Soil & Air EPCs'!$D$7:$F$9,3,FALSE),\"--\")","v":"--"},"--","--","--","--"]
[0,0,0,0,0,"--","--",{"$f":"IF(ISNUMBER(VLOOKUP(E181,'Tab 5-7a Soil & Air EPCs'!$D$7:$E$9,2,FALSE)),VLOOKUP(E181,'Tab 5-7a Soil & Air EPCs'!$D$7:$E$9,2,FALSE),\"--\")","v":"--"},"--","--","--","--","--","--","--",{"$f":"IF(ISNUMBER(VLOOKUP(E181,'Tab 5-7a Soil & Air EPCs'!$D$7:$H$9,5,FALSE)),VLOOKUP(E181,'Tab 5-7a Soil & Air EPCs'!$D$7:$H$9,5,FALSE),\"--\")","v":"--"},"--","--",{"$f":"IF(ISNUMBER(VLOOKUP(E181,'Tab 5-7a Soil & Air EPCs'!$D$7:$F$9,3,FALSE)),VLOOKUP(E181,'Tab 5-7a Soil & Air EPCs'!$D$7:$F$9,3,FALSE),\"--\")","v":"--"},"--","--","--","--"]
[0,0,0,0,0,"--","--",{"$f":"IF(ISNUMBER(VLOOKUP(E182,'Tab 5-7a Soil & Air EPCs'!$D$7:$E$9,2,FALSE)),VLOOKUP(E182,'Tab 5-7a Soil & Air EPCs'!$D$7:$E$9,2,FALSE),\"--\")","v":"--"},"--","--","--","--","--","--","--",{"$f":"IF(ISNUMBER(VLOOKUP(E182,'Tab 5-7a Soil & Air EPCs'!$D$7:$H$9,5,FALSE)),VLOOKUP(E182,'Tab 5-7a Soil & Air EPCs'!$D$7:$H$9,5,FALSE),\"--\")","v":"--"},"--","--",{"$f":"IF(ISNUMBER(VLOOKUP(E182,'Tab 5-7a Soil & Air EPCs'!$D$7:$F$9,3,FALSE)),VLOOKUP(E182,'Tab 5-7a Soil & Air EPCs'!$D$7:$F$9,3,FALSE),\"--\")","v":"--"},"--","--","--","--"]
[0,0,0,0,0,"--","--",{"$f":"IF(ISNUMBER(VLOOKUP(E183,'Tab 5-7a Soil & Air EPCs'!$D$7:$E$9,2,FALSE)),VLOOKUP(E183,'Tab 5-7a Soil & Air EPCs'!$D$7:$E$9,2,FALSE),\"--\")","v":"--"},"--","--","--","--","--","--","--",{"$f":"IF(ISNUMBER(VLOOKUP(E183,'Tab 5-7a Soil & Air EPCs'!$D$7:$H$9,5,FALSE)),VLOOKUP(E183,'Tab 5-7a Soil & Air EPCs'!$D$7:$H$9,5,FALSE),\"--\")","v":"--"},"--","--",{"$f":"IF(ISNUMBER(VLOOKUP(E183,'Tab 5-7a Soil & Air EPCs'!$D$7:$F$9,3,FALSE)),VLOOKUP(E183,'Tab 5-7a Soil & Air EPCs'!$D$7:$F$9,3,FALSE),\"--\")","v":"--"},"--","--","--","--"]
[0,0,0,0,0,"--","--",{"$f":"IF(ISNUMBER(VLOOKUP(E184,'Tab 5-7a Soil & Air EPCs'!$D$7:$E$9,2,FALSE)),VLOOKUP(E184,'Tab 5-7a Soil & Air EPCs'!$D$7:$E$9,2,FALSE),\"--\")","v":"--"},"--","--","--","--","--","--","--",{"$f":"IF(ISNUMBER(VLOOKUP(E184,'Tab 5-7a Soil & Air EPCs'!$D$7:$H$9,5,FALSE)),VLOOKUP(E184,'Tab 5-7a Soil & Air EPCs'!$D$7:$H$9,5,FALSE),\"--\")","v":"--"},"--","--",{"$f":"IF(ISNUMBER(VLOOKUP(E184,'Tab 5-7a Soil & Air EPCs'!$D$7:$F$9,3,FALSE)),VLOOKUP(E184,'Tab 5-7a Soil & Air EPCs'!$D$7:$F$9,3,FALSE),\"--\")","v":"--"},"--","--","--","--"]
[0,0,0,0,0,"--","--",{"$f":"IF(ISNUMBER(VLOOKUP(E185,'Tab 5-7a Soil & Air EPCs'!$D$7:$E$9,2,FALSE)),VLOOKUP(E185,'Tab 5-7a Soil & Air EPCs'!$D$7:$E$9,2,FALSE),\"--\")","v":"--"},"--","--","--","--","--","--","--",{"$f":"IF(ISNUMBER(VLOOKUP(E185,'Tab 5-7a Soil & Air EPCs'!$D$7:$H$9,5,FALSE)),VLOOKUP(E185,'Tab 5-7a Soil & Air EPCs'!$D$7:$H$9,5,FALSE),\"--\")","v":"--"},"--","--",{"$f":"IF(ISNUMBER(VLOOKUP(E185,'Tab 5-7a Soil & Air EPCs'!$D$7:$F$9,3,FALSE)),VLOOKUP(E185,'Tab 5-7a Soil & Air EPCs'!$D$7:$F$9,3,FALSE),\"--\")","v":"--"},"--","--","--","--"]
[0,0,0,0,0,"--","--",{"$f":"IF(ISNUMBER(VLOOKUP(E186,'Tab 5-7a Soil & Air EPCs'!$D$7:$E$9,2,FALSE)),VLOOKUP(E186,'Tab 5-7a Soil & Air EPCs'!$D$7:$E$9,2,FALSE),\"--\")","v":"--"},"--","--","--","--","--","--","--",{"$f":"IF(ISNUMBER(VLOOKUP(E186,'Tab 5-7a Soil & Air EPCs'!$D$7:$H$9,5,FALSE)),VLOOKUP(E186,'Tab 5-7a Soil & Air EPCs'!$D$7:$H$9,5,FALSE),\"--\")","v":"--"},"--","--",{"$f":"IF(ISNUMBER(VLOOKUP(E186,'Tab 5-7a Soil & Air EPCs'!$D$7:$F$9,3,FALSE)),VLOOKUP(E186,'Tab 5-7a Soil & Air EPCs'!$D$7:$F$9,3,FALSE),\"--\")","v":"--"},"--","--","--","--"]
[0,0,0,0,0,"--","--",{"$f":"IF(ISNUMBER(VLOOKUP(E187,'Tab 5-7a Soil & Air EPCs'!$D$7:$E$9,2,FALSE)),VLOOKUP(E187,'Tab 5-7a Soil & Air EPCs'!$D$7:$E$9,2,FALSE),\"--\")","v":"--"},"--","--","--","--","--","--","--",{"$f":"IF(ISNUMBER(VLOOKUP(E187,'Tab 5-7a Soil & Air EPCs'!$D$7:$H$9,5,FALSE)),VLOOKUP(E187,'Tab 5-7a Soil & Air EPCs'!$D$7:$H$9,5,FALSE),\"--\")","v":"--"},"--","--",{"$f":"IF(ISNUMBER(VLOOKUP(E187,'Tab 5-7a Soil & Air EPCs'!$D$7:$F$9,3,FALSE)),VLOOKUP(E187,'Tab 5-7a Soil & Air EPCs'!$D$7:$F$9,3,FALSE),\"--\")","v":"--"},"--","--","--","--"]
[0,0,0,0,0,"--","--",{"$f":"IF(ISNUMBER(VLOOKUP(E188,'Tab 5-7a Soil & Air EPCs'!$D$7:$E$9,2,FALSE)),VLOOKUP(E188,'Tab 5-7a Soil & Air EPCs'!$D$7:$E$9,2,FALSE),\"--\")","v":"--"},"--","--","--","--","--","--","--",{"$f":"IF(ISNUMBER(VLOOKUP(E188,'Tab 5-7a Soil & Air EPCs'!$D$7:$H$9,5,FALSE)),VLOOKUP(E188,'Tab 5-7a Soil & Air EPCs'!$D$7:$H$9,5,FALSE),\"--\")","v":"--"},"--","--",{"$f":"IF(ISNUMBER(VLOOKUP(E188,'Tab 5-7a Soil & Air EPCs'!$D$7:$F$9,3,FALSE)),VLOOKUP(E188,'Tab 5-7a Soil & Air EPCs'!$D$7:$F$9,3,FALSE),\"--\")","v":"--"},"--","--","--","--"]
[0,0,0,0,0,"--","--",{"$f":"IF(ISNUMBER(VLOOKUP(E189,'Tab 5-7a Soil & Air EPCs'!$D$7:$E$9,2,FALSE)),VLOOKUP(E189,'Tab 5-7a Soil & Air EPCs'!$D$7:$E$9,2,FALSE),\"--\")","v":"--"},"--","--","--","--","--","--","--",{"$f":"IF(ISNUMBER(VLOOKUP(E189,'Tab 5-7a Soil & Air EPCs'!$D$7:$H$9,5,FALSE)),VLOOKUP(E189,'Tab 5-7a Soil & Air EPCs'!$D$7:$H$9,5,FALSE),\"--\")","v":"--"},"--","--",{"$f":"IF(ISNUMBER(VLOOKUP(E189,'Tab 5-7a Soil & Air EPCs'!$D$7:$F$9,3,FALSE)),VLOOKUP(E189,'Tab 5-7a Soil & Air EPCs'!$D$7:$F$9,3,FALSE),\"--\")","v":"--"},"--","--","--","--"]
[0,0,0,0,0,"--","--",{"$f":"IF(ISNUMBER(VLOOKUP(E190,'Tab 5-7a Soil & Air EPCs'!$D$7:$E$9,2,FALSE)),VLOOKUP(E190,'Tab 5-7a Soil & Air EPCs'!$D$7:$E$9,2,FALSE),\"--\")","v":"--"},"--","--","--","--","--","--","--",{"$f":"IF(ISNUMBER(VLOOKUP(E190,'Tab 5-7a Soil & Air EPCs'!$D$7:$H$9,5,FALSE)),VLOOKUP(E190,'Tab 5-7a Soil & Air EPCs'!$D$7:$H$9,5,FALSE),\"--\")","v":"--"},"--","--",{"$f":"IF(ISNUMBER(VLOOKUP(E190,'Tab 5-7a Soil & Air EPCs'!$D$7:$F$9,3,FALSE)),VLOOKUP(E190,'Tab 5-7a Soil & Air EPCs'!$D$7:$F$9,3,FALSE),\"--\")","v":"--"},"--","--","--","--"]
[0,0,0,0,0,"--","--",{"$f":"IF(ISNUMBER(VLOOKUP(E191,'Tab 5-7a Soil & Air EPCs'!$D$7:$E$9,2,FALSE)),VLOOKUP(E191,'Tab 5-7a Soil & Air EPCs'!$D$7:$E$9,2,FALSE),\"--\")","v":"--"},"--","--","--","--","--","--","--",{"$f":"IF(ISNUMBER(VLOOKUP(E191,'Tab 5-7a Soil & Air EPCs'!$D$7:$H$9,5,FALSE)),VLOOKUP(E191,'Tab 5-7a Soil & Air EPCs'!$D$7:$H$9,5,FALSE),\"--\")","v":"--"},"--","--",{"$f":"IF(ISNUMBER(VLOOKUP(E191,'Tab 5-7a Soil & Air EPCs'!$D$7:$F$9,3,FALSE)),VLOOKUP(E191,'Tab 5-7a Soil & Air EPCs'!$D$7:$F$9,3,FALSE),\"--\")","v":"--"},"--","--","--","--"]
[0,0,0,0,0,"--","--",{"$f":"IF(ISNUMBER(VLOOKUP(E192,'Tab 5-7a Soil & Air EPCs'!$D$7:$E$9,2,FALSE)),VLOOKUP(E192,'Tab 5-7a Soil & Air EPCs'!$D$7:$E$9,2,FALSE),\"--\")","v":"--"},"--","--","--","--","--","--","--",{"$f":"IF(ISNUMBER(VLOOKUP(E192,'Tab 5-7a Soil & Air EPCs'!$D$7:$H$9,5,FALSE)),VLOOKUP(E192,'Tab 5-7a Soil & Air EPCs'!$D$7:$H$9,5,FALSE),\"--\")","v":"--"},"--","--",{"$f":"IF(ISNUMBER(VLOOKUP(E192,'Tab 5-7a Soil & Air EPCs'!$D$7:$F$9,3,FALSE)),VLOOKUP(E192,'Tab 5-7a Soil & Air EPCs'!$D$7:$F$9,3,FALSE),\"--\")","v":"--"},"--","--","--","--"]
[0,0,0,0,0,"--","--",{"$f":"IF(ISNUMBER(VLOOKUP(E193,'Tab 5-7a Soil & Air EPCs'!$D$7:$E$9,2,FALSE)),VLOOKUP(E193,'Tab 5-7a Soil & Air EPCs'!$D$7:$E$9,2,FALSE),\"--\")","v":"--"},"--","--","--","--","--","--","--",{"$f":"IF(ISNUMBER(VLOOKUP(E193,'Tab 5-7a Soil & Air EPCs'!$D$7:$H$9,5,FALSE)),VLOOKUP(E193,'Tab 5-7a Soil & Air EPCs'!$D$7:$H$9,5,FALSE),\"--\")","v":"--"},"--","--",{"$f":"IF(ISNUMBER(VLOOKUP(E193,'Tab 5-7a Soil & Air EPCs'!$D$7:$F$9,3,FALSE)),VLOOKUP(E193,'Tab 5-7a Soil & Air EPCs'!$D$7:$F$9,3,FALSE),\"--\")","v":"--"},"--","--","--","--"]
[0,0,0,0,0,"--","--",{"$f":"IF(ISNUMBER(VLOOKUP(E194,'Tab 5-7a Soil & Air EPCs'!$D$7:$E$9,2,FALSE)),VLOOKUP(E194,'Tab 5-7a Soil & Air EPCs'!$D$7:$E$9,2,FALSE),\"--\")","v":"--"},"--","--","--","--","--","--","--",{"$f":"IF(ISNUMBER(VLOOKUP(E194,'Tab 5-7a Soil & Air EPCs'!$D$7:$H$9,5,FALSE)),VLOOKUP(E194,'Tab 5-7a Soil & Air EPCs'!$D$7:$H$9,5,FALSE),\"--\")","v":"--"},"--","--",{"$f":"IF(ISNUMBER(VLOOKUP(E194,'Tab 5-7a Soil & Air EPCs'!$D$7:$F$9,3,FALSE)),VLOOKUP(E194,'Tab 5-7a Soil & Air EPCs'!$D$7:$F$9,3,FALSE),\"--\")","v":"--"},"--","--","--","--"]
[0,0,0,0,0,"--","--",{"$f":"IF(ISNUMBER(VLOOKUP(E195,'Tab 5-7a Soil & Air EPCs'!$D$7:$E$9,2,FALSE)),VLOOKUP(E195,'Tab 5-7a Soil & Air EPCs'!$D$7:$E$9,2,FALSE),\"--\")","v":"--"},"--","--","--","--","--","--","--",{"$f":"IF(ISNUMBER(VLOOKUP(E195,'Tab 5-7a Soil & Air EPCs'!$D$7:$H$9,5,FALSE)),VLOOKUP(E195,'Tab 5-7a Soil & Air EPCs'!$D$7:$H$9,5,FALSE),\"--\")","v":"--"},"--","--",{"$f":"IF(ISNUMBER(VLOOKUP(E195,'Tab 5-7a Soil & Air EPCs'!$D$7:$F$9,3,FALSE)),VLOOKUP(E195,'Tab 5-7a Soil & Air EPCs'!$D$7:$F$9,3,FALSE),\"--\")","v":"--"},"--","--","--","--"]
[0,0,0,0,0,"--","--",{"$f":"IF(ISNUMBER(VLOOKUP(E196,'Tab 5-7a Soil & Air EPCs'!$D$7:$E$9,2,FALSE)),VLOOKUP(E196,'Tab 5-7a Soil & Air EPCs'!$D$7:$E$9,2,FALSE),\"--\")","v":"--"},"--","--","--","--","--","--","--",{"$f":"IF(ISNUMBER(VLOOKUP(E196,'Tab 5-7a Soil & Air EPCs'!$D$7:$H$9,5,FALSE)),VLOOKUP(E196,'Tab 5-7a Soil & Air EPCs'!$D$7:$H$9,5,FALSE),\"--\")","v":"--"},"--","--",{"$f":"IF(ISNUMBER(VLOOKUP(E196,'Tab 5-7a Soil & Air EPCs'!$D$7:$F$9,3,FALSE)),VLOOKUP(E196,'Tab 5-7a Soil & Air EPCs'!$D$7:$F$9,3,FALSE),\"--\")","v":"--"},"--","--","--","--"]
[0,0,0,0,0,"--","--",{"$f":"IF(ISNUMBER(VLOOKUP(E197,'Tab 5-7a Soil & Air EPCs'!$D$7:$E$9,2,FALSE)),VLOOKUP(E197,'Tab 5-7a Soil & Air EPCs'!$D$7:$E$9,2,FALSE),\"--\")","v":"--"},"--","--","--","--","--","--","--",{"$f":"IF(ISNUMBER(VLOOKUP(E197,'Tab 5-7a Soil & Air EPCs'!$D$7:$H$9,5,FALSE)),VLOOKUP(E197,'Tab 5-7a Soil & Air EPCs'!$D$7:$H$9,5,FALSE),\"--\")","v":"--"},"--","--",{"$f":"IF(ISNUMBER(VLOOKUP(E197,'Tab 5-7a Soil & Air EPCs'!$D$7:$F$9,3,FALSE)),VLOOKUP(E197,'Tab 5-7a Soil & Air EPCs'!$D$7:$F$9,3,FALSE),\"--\")","v":"--"},"--","--","--","--"]
[0,0,0,0,0,"--","--",{"$f":"IF(ISNUMBER(VLOOKUP(E198,'Tab 5-7a Soil & Air EPCs'!$D$7:$E$9,2,FALSE)),VLOOKUP(E198,'Tab 5-7a Soil & Air EPCs'!$D$7:$E$9,2,FALSE),\"--\")","v":"--"},"--","--","--","--","--","--","--",{"$f":"IF(ISNUMBER(VLOOKUP(E198,'Tab 5-7a Soil & Air EPCs'!$D$7:$H$9,5,FALSE)),VLOOKUP(E198,'Tab 5-7a Soil & Air EPCs'!$D$7:$H$9,5,FALSE),\"--\")","v":"--"},"--","--",{"$f":"IF(ISNUMBER(VLOOKUP(E198,'Tab 5-7a Soil & Air EPCs'!$D$7:$F$9,3,FALSE)),VLOOKUP(E198,'Tab 5-7a Soil & Air EPCs'!$D$7:$F$9,3,FALSE),\"--\")","v":"--"},"--","--","--","--"]
[0,0,0,0,0,"--","--",{"$f":"IF(ISNUMBER(VLOOKUP(E199,'Tab 5-7a Soil & Air EPCs'!$D$7:$E$9,2,FALSE)),VLOOKUP(E199,'Tab 5-7a Soil & Air EPCs'!$D$7:$E$9,2,FALSE),\"--\")","v":"--"},"--","--","--","--","--","--","--",{"$f":"IF(ISNUMBER(VLOOKUP(E199,'Tab 5-7a Soil & Air EPCs'!$D$7:$H$9,5,FALSE)),VLOOKUP(E199,'Tab 5-7a Soil & Air EPCs'!$D$7:$H$9,5,FALSE),\"--\")","v":"--"},"--","--",{"$f":"IF(ISNUMBER(VLOOKUP(E199,'Tab 5-7a Soil & Air EPCs'!$D$7:$F$9,3,FALSE)),VLOOKUP(E199,'Tab 5-7a Soil & Air EPCs'!$D$7:$F$9,3,FALSE),\"--\")","v":"--"},"--","--","--","--"]
[0,0,0,0,0,"--","--",{"$f":"IF(ISNUMBER(VLOOKUP(E200,'Tab 5-7a Soil & Air EPCs'!$D$7:$E$9,2,FALSE)),VLOOKUP(E200,'Tab 5-7a Soil & Air EPCs'!$D$7:$E$9,2,FALSE),\"--\")","v":"--"},"--","--","--","--","--","--","--",{"$f":"IF(ISNUMBER(VLOOKUP(E200,'Tab 5-7a Soil & Air EPCs'!$D$7:$H$9,5,FALSE)),VLOOKUP(E200,'Tab 5-7a Soil & Air EPCs'!$D$7:$H$9,5,FALSE),\"--\")","v":"--"},"--","--",{"$f":"IF(ISNUMBER(VLOOKUP(E200,'Tab 5-7a Soil & Air EPCs'!$D$7:$F$9,3,FALSE)),VLOOKUP(E200,'Tab 5-7a Soil & Air EPCs'!$D$7:$F$9,3,FALSE),\"--\")","v":"--"},"--","--","--","--"]
[0,0,0,0,0,"--","--",{"$f":"IF(ISNUMBER(VLOOKUP(E201,'Tab 5-7a Soil & Air EPCs'!$D$7:$E$9,2,FALSE)),VLOOKUP(E201,'Tab 5-7a Soil & Air EPCs'!$D$7:$E$9,2,FALSE),\"--\")","v":"--"},"--","--","--","--","--","--","--",{"$f":"IF(ISNUMBER(VLOOKUP(E201,'Tab 5-7a Soil & Air EPCs'!$D$7:$H$9,5,FALSE)),VLOOKUP(E201,'Tab 5-7a Soil & Air EPCs'!$D$7:$H$9,5,FALSE),\"--\")","v":"--"},"--","--",{"$f":"IF(ISNUMBER(VLOOKUP(E201,'Tab 5-7a Soil & Air EPCs'!$D$7:$F$9,3,FALSE)),VLOOKUP(E201,'Tab 5-7a Soil & Air EPCs'!$D$7:$F$9,3,FALSE),\"--\")","v":"--"},"--","--","--","--"]
[0,0,0,0,0,"--","--",{"$f":"IF(ISNUMBER(VLOOKUP(E202,'Tab 5-7a Soil & Air EPCs'!$D$7:$E$9,2,FALSE)),VLOOKUP(E202,'Tab 5-7a Soil & Air EPCs'!$D$7:$E$9,2,FALSE),\"--\")","v":"--"},"--","--","--","--","--","--","--",{"$f":"IF(ISNUMBER(VLOOKUP(E202,'Tab 5-7a Soil & Air EPCs'!$D$7:$H$9,5,FALSE)),VLOOKUP(E202,'Tab 5-7a Soil & Air EPCs'!$D$7:$H$9,5,FALSE),\"--\")","v":"--"},"--","--",{"$f":"IF(ISNUMBER(VLOOKUP(E202,'Tab 5-7a Soil & Air EPCs'!$D$7:$F$9,3,FALSE)),VLOOKUP(E202,'Tab 5-7a Soil & Air EPCs'!$D$7:$F$9,3,FALSE),\"--\")","v":"--"},"--","--","--","--"]
[0,0,0,0,0,"--","--",{"$f":"IF(ISNUMBER(VLOOKUP(E203,'Tab 5-7a Soil & Air EPCs'!$D$7:$E$9,2,FALSE)),VLOOKUP(E203,'Tab 5-7a Soil & Air EPCs'!$D$7:$E$9,2,FALSE),\"--\")","v":"--"},"--","--","--","--","--","--","--",{"$f":"IF(ISNUMBER(VLOOKUP(E203,'Tab 5-7a Soil & Air EPCs'!$D$7:$H$9,5,FALSE)),VLOOKUP(E203,'Tab 5-7a Soil & Air EPCs'!$D$7:$H$9,5,FALSE),\"--\")","v":"--"},"--","--",{"$f":"IF(ISNUMBER(VLOOKUP(E203,'Tab 5-7a Soil & Air EPCs'!$D$7:$F$9,3,FALSE)),VLOOKUP(E203,'Tab 5-7a Soil & Air EPCs'!$D$7:$F$9,3,FALSE),\"--\")","v":"--"},"--","--","--","--"]
[0,0,0,0,0,"--","--",{"$f":"IF(ISNUMBER(VLOOKUP(E204,'Tab 5-7a Soil & Air EPCs'!$D$7:$E$9,2,FALSE)),VLOOKUP(E204,'Tab 5-7a Soil & Air EPCs'!$D$7:$E$9,2,FALSE),\"--\")","v":"--"},"--","--","--","--","--","--","--",{"$f":"IF(ISNUMBER(VLOOKUP(E204,'Tab 5-7a Soil & Air EPCs'!$D$7:$H$9,5,FALSE)),VLOOKUP(E204,'Tab 5-7a Soil & Air EPCs'!$D$7:$H$9,5,FALSE),\"--\")","v":"--"},"--","--",{"$f":"IF(ISNUMBER(VLOOKUP(E204,'Tab 5-7a Soil & Air EPCs'!$D$7:$F$9,3,FALSE)),VLOOKUP(E204,'Tab 5-7a Soil & Air EPCs'!$D$7:$F$9,3,FALSE),\"--\")","v":"--"},"--","--",{"$f":"IF(SUM(I204,L204,Q204,T204)>0,SUM(I204,L204,Q204,T204),\"--\")","v":"--"},{"$f":"IF(SUM(J204,M204,R204,U204)>0,SUM(J204,M204,R204,U204),\"--\")","v":"--"}]
[0,0,0,0,0,"--","--",{"$f":"IF(ISNUMBER(VLOOKUP(E205,'Tab 5-7a Soil & Air EPCs'!$D$7:$E$9,2,FALSE)),VLOOKUP(E205,'Tab 5-7a Soil & Air EPCs'!$D$7:$E$9,2,FALSE),\"--\")","v":"--"},"--","--","--","--","--","--","--",{"$f":"IF(ISNUMBER(VLOOKUP(E205,'Tab 5-7a Soil & Air EPCs'!$D$7:$H$9,5,FALSE)),VLOOKUP(E205,'Tab 5-7a Soil & Air EPCs'!$D$7:$H$9,5,FALSE),\"--\")","v":"--"},"--","--",{"$f":"IF(ISNUMBER(VLOOKUP(E205,'Tab 5-7a Soil & Air EPCs'!$D$7:$F$9,3,FALSE)),VLOOKUP(E205,'Tab 5-7a Soil & Air EPCs'!$D$7:$F$9,3,FALSE),\"--\")","v":"--"},"--","--","--","--"]
[0,0,0,0,0,"--","--",{"$f":"IF(ISNUMBER(VLOOKUP(E206,'Tab 5-7a Soil & Air EPCs'!$D$7:$E$9,2,FALSE)),VLOOKUP(E206,'Tab 5-7a Soil & Air EPCs'!$D$7:$E$9,2,FALSE),\"--\")","v":"--"},"--","--","--","--","--","--","--",{"$f":"IF(ISNUMBER(VLOOKUP(E206,'Tab 5-7a Soil & Air EPCs'!$D$7:$H$9,5,FALSE)),VLOOKUP(E206,'Tab 5-7a Soil & Air EPCs'!$D$7:$H$9,5,FALSE),\"--\")","v":"--"},"--","--",{"$f":"IF(ISNUMBER(VLOOKUP(E206,'Tab 5-7a Soil & Air EPCs'!$D$7:$F$9,3,FALSE)),VLOOKUP(E206,'Tab 5-7a Soil & Air EPCs'!$D$7:$F$9,3,FALSE),\"--\")","v":"--"},"--","--","--","--"]
[0,0,0,0,0,"--","--",{"$f":"IF(ISNUMBER(VLOOKUP(E207,'Tab 5-7a Soil & Air EPCs'!$D$7:$E$9,2,FALSE)),VLOOKUP(E207,'Tab 5-7a Soil & Air EPCs'!$D$7:$E$9,2,FALSE),\"--\")","v":"--"},"--","--","--","--","--","--","--",{"$f":"IF(ISNUMBER(VLOOKUP(E207,'Tab 5-7a Soil & Air EPCs'!$D$7:$H$9,5,FALSE)),VLOOKUP(E207,'Tab 5-7a Soil & Air EPCs'!$D$7:$H$9,5,FALSE),\"--\")","v":"--"},"--","--",{"$f":"IF(ISNUMBER(VLOOKUP(E207,'Tab 5-7a Soil & Air EPCs'!$D$7:$F$9,3,FALSE)),VLOOKUP(E207,'Tab 5-7a Soil & Air EPCs'!$D$7:$F$9,3,FALSE),\"--\")","v":"--"},"--","--","--","--"]
[0,0,0,0,0,"--","--",{"$f":"IF(ISNUMBER(VLOOKUP(E208,'Tab 5-7a Soil & Air EPCs'!$D$7:$E$9,2,FALSE)),VLOOKUP(E208,'Tab 5-7a Soil & Air EPCs'!$D$7:$E$9,2,FALSE),\"--\")","v":"--"},"--","--","--","--","--","--","--",{"$f":"IF(ISNUMBER(VLOOKUP(E208,'Tab 5-7a Soil & Air EPCs'!$D$7:$H$9,5,FALSE)),VLOOKUP(E208,'Tab 5-7a Soil & Air EPCs'!$D$7:$H$9,5,FALSE),\"--\")","v":"--"},"--","--",{"$f":"IF(ISNUMBER(VLOOKUP(E208,'Tab 5-7a Soil & Air EPCs'!$D$7:$F$9,3,FALSE)),VLOOKUP(E208,'Tab 5-7a Soil & Air EPCs'!$D$7:$F$9,3,FALSE),\"--\")","v":"--"},"--","--","--","--"]
[0,0,0,0,0,"--","--",{"$f":"IF(ISNUMBER(VLOOKUP(E209,'Tab 5-7a Soil & Air EPCs'!$D$7:$E$9,2,FALSE)),VLOOKUP(E209,'Tab 5-7a Soil & Air EPCs'!$D$7:$E$9,2,FALSE),\"--\")","v":"--"},"--","--","--","--","--","--","--",{"$f":"IF(ISNUMBER(VLOOKUP(E209,'Tab 5-7a Soil & Air EPCs'!$D$7:$H$9,5,FALSE)),VLOOKUP(E209,'Tab 5-7a Soil & Air EPCs'!$D$7:$H$9,5,FALSE),\"--\")","v":"--"},"--","--",{"$f":"IF(ISNUMBER(VLOOKUP(E209,'Tab 5-7a Soil & Air EPCs'!$D$7:$F$9,3,FALSE)),VLOOKUP(E209,'Tab 5-7a Soil & Air EPCs'!$D$7:$F$9,3,FALSE),\"--\")","v":"--"},"--","--","--","--"]
[0,0,0,0,0,"--","--",{"$f":"IF(ISNUMBER(VLOOKUP(E210,'Tab 5-7a Soil & Air EPCs'!$D$7:$E$9,2,FALSE)),VLOOKUP(E210,'Tab 5-7a Soil & Air EPCs'!$D$7:$E$9,2,FALSE),\"--\")","v":"--"},"--","--","--","--","--","--","--",{"$f":"IF(ISNUMBER(VLOOKUP(E210,'Tab 5-7a Soil & Air EPCs'!$D$7:$H$9,5,FALSE)),VLOOKUP(E210,'Tab 5-7a Soil & Air EPCs'!$D$7:$H$9,5,FALSE),\"--\")","v":"--"},"--","--",{"$f":"IF(ISNUMBER(VLOOKUP(E210,'Tab 5-7a Soil & Air EPCs'!$D$7:$F$9,3,FALSE)),VLOOKUP(E210,'Tab 5-7a Soil & Air EPCs'!$D$7:$F$9,3,FALSE),\"--\")","v":"--"},"--","--","--","--"]
[0,0,0,0,0,"--","--",{"$f":"IF(ISNUMBER(VLOOKUP(E211,'Tab 5-7a Soil & Air EPCs'!$D$7:$E$9,2,FALSE)),VLOOKUP(E211,'Tab 5-7a Soil & Air EPCs'!$D$7:$E$9,2,FALSE),\"--\")","v":"--"},"--","--","--","--","--","--","--",{"$f":"IF(ISNUMBER(VLOOKUP(E211,'Tab 5-7a Soil & Air EPCs'!$D$7:$H$9,5,FALSE)),VLOOKUP(E211,'Tab 5-7a Soil & Air EPCs'!$D$7:$H$9,5,FALSE),\"--\")","v":"--"},"--","--",{"$f":"IF(ISNUMBER(VLOOKUP(E211,'Tab 5-7a Soil & Air EPCs'!$D$7:$F$9,3,FALSE)),VLOOKUP(E211,'Tab 5-7a Soil & Air EPCs'!$D$7:$F$9,3,FALSE),\"--\")","v":"--"},"--","--","--","--"]
[0,0,0,0,0,"--","--",{"$f":"IF(ISNUMBER(VLOOKUP(E212,'Tab 5-7a Soil & Air EPCs'!$D$7:$E$9,2,FALSE)),VLOOKUP(E212,'Tab 5-7a Soil & Air EPCs'!$D$7:$E$9,2,FALSE),\"--\")","v":"--"},"--","--","--","--","--","--","--",{"$f":"IF(ISNUMBER(VLOOKUP(E212,'Tab 5-7a Soil & Air EPCs'!$D$7:$H$9,5,FALSE)),VLOOKUP(E212,'Tab 5-7a Soil & Air EPCs'!$D$7:$H$9,5,FALSE),\"--\")","v":"--"},"--","--",{"$f":"IF(ISNUMBER(VLOOKUP(E212,'Tab 5-7a Soil & Air EPCs'!$D$7:$F$9,3,FALSE)),VLOOKUP(E212,'Tab 5-7a Soil & Air EPCs'!$D$7:$F$9,3,FALSE),\"--\")","v":"--"},"--","--","--","--"]
[0,0,0,0,0,"--","--",{"$f":"IF(ISNUMBER(VLOOKUP(E213,'Tab 5-7a Soil & Air EPCs'!$D$7:$E$9,2,FALSE)),VLOOKUP(E213,'Tab 5-7a Soil & Air EPCs'!$D$7:$E$9,2,FALSE),\"--\")","v":"--"},"--","--","--","--","--","--","--",{"$f":"IF(ISNUMBER(VLOOKUP(E213,'Tab 5-7a Soil & Air EPCs'!$D$7:$H$9,5,FALSE)),VLOOKUP(E213,'Tab 5-7a Soil & Air EPCs'!$D$7:$H$9,5,FALSE),\"--\")","v":"--"},"--","--",{"$f":"IF(ISNUMBER(VLOOKUP(E213,'Tab 5-7a Soil & Air EPCs'!$D$7:$F$9,3,FALSE)),VLOOKUP(E213,'Tab 5-7a Soil & Air EPCs'!$D$7:$F$9,3,FALSE),\"--\")","v":"--"},"--","--","--","--"]
[0,0,0,0,0,"--","--",{"$f":"IF(ISNUMBER(VLOOKUP(E214,'Tab 5-7a Soil & Air EPCs'!$D$7:$E$9,2,FALSE)),VLOOKUP(E214,'Tab 5-7a Soil & Air EPCs'!$D$7:$E$9,2,FALSE),\"--\")","v":"--"},"--","--","--","--","--","--","--",{"$f":"IF(ISNUMBER(VLOOKUP(E214,'Tab 5-7a Soil & Air EPCs'!$D$7:$H$9,5,FALSE)),VLOOKUP(E214,'Tab 5-7a Soil & Air EPCs'!$D$7:$H$9,5,FALSE),\"--\")","v":"--"},"--","--",{"$f":"IF(ISNUMBER(VLOOKUP(E214,'Tab 5-7a Soil & Air EPCs'!$D$7:$F$9,3,FALSE)),VLOOKUP(E214,'Tab 5-7a Soil & Air EPCs'!$D$7:$F$9,3,FALSE),\"--\")","v":"--"},"--","--","--","--"]
[0,0,0,0,0,"--","--",{"$f":"IF(ISNUMBER(VLOOKUP(E215,'Tab 5-7a Soil & Air EPCs'!$D$7:$E$9,2,FALSE)),VLOOKUP(E215,'Tab 5-7a Soil & Air EPCs'!$D$7:$E$9,2,FALSE),\"--\")","v":"--"},"--","--","--","--","--","--","--",{"$f":"IF(ISNUMBER(VLOOKUP(E215,'Tab 5-7a Soil & Air EPCs'!$D$7:$H$9,5,FALSE)),VLOOKUP(E215,'Tab 5-7a Soil & Air EPCs'!$D$7:$H$9,5,FALSE),\"--\")","v":"--"},"--","--",{"$f":"IF(ISNUMBER(VLOOKUP(E215,'Tab 5-7a Soil & Air EPCs'!$D$7:$F$9,3,FALSE)),VLOOKUP(E215,'Tab 5-7a Soil & Air EPCs'!$D$7:$F$9,3,FALSE),\"--\")","v":"--"},"--","--","--","--"]
[0,0,0,0,0,"--","--",{"$f":"IF(ISNUMBER(VLOOKUP(E216,'Tab 5-7a Soil & Air EPCs'!$D$7:$E$9,2,FALSE)),VLOOKUP(E216,'Tab 5-7a Soil & Air EPCs'!$D$7:$E$9,2,FALSE),\"--\")","v":"--"},"--","--","--","--","--","--","--",{"$f":"IF(ISNUMBER(VLOOKUP(E216,'Tab 5-7a Soil & Air EPCs'!$D$7:$H$9,5,FALSE)),VLOOKUP(E216,'Tab 5-7a Soil & Air EPCs'!$D$7:$H$9,5,FALSE),\"--\")","v":"--"},"--","--",{"$f":"IF(ISNUMBER(VLOOKUP(E216,'Tab 5-7a Soil & Air EPCs'!$D$7:$F$9,3,FALSE)),VLOOKUP(E216,'Tab 5-7a Soil & Air EPCs'!$D$7:$F$9,3,FALSE),\"--\")","v":"--"},"--","--","--","--"]
[0,0,0,0,0,"--","--",{"$f":"IF(ISNUMBER(VLOOKUP(E217,'Tab 5-7a Soil & Air EPCs'!$D$7:$E$9,2,FALSE)),VLOOKUP(E217,'Tab 5-7a Soil & Air EPCs'!$D$7:$E$9,2,FALSE),\"--\")","v":"--"},"--","--","--","--","--","--","--",{"$f":"IF(ISNUMBER(VLOOKUP(E217,'Tab 5-7a Soil & Air EPCs'!$D$7:$H$9,5,FALSE)),VLOOKUP(E217,'Tab 5-7a Soil & Air EPCs'!$D$7:$H$9,5,FALSE),\"--\")","v":"--"},"--","--",{"$f":"IF(ISNUMBER(VLOOKUP(E217,'Tab 5-7a Soil & Air EPCs'!$D$7:$F$9,3,FALSE)),VLOOKUP(E217,'Tab 5-7a Soil & Air EPCs'!$D$7:$F$9,3,FALSE),\"--\")","v":"--"},"--","--","--","--"]
[0,0,0,0,0,"--","--",{"$f":"IF(ISNUMBER(VLOOKUP(E218,'Tab 5-7a Soil & Air EPCs'!$D$7:$E$9,2,FALSE)),VLOOKUP(E218,'Tab 5-7a Soil & Air EPCs'!$D$7:$E$9,2,FALSE),\"--\")","v":"--"},"--","--","--","--","--","--","--",{"$f":"IF(ISNUMBER(VLOOKUP(E218,'Tab 5-7a Soil & Air EPCs'!$D$7:$H$9,5,FALSE)),VLOOKUP(E218,'Tab 5-7a Soil & Air EPCs'!$D$7:$H$9,5,FALSE),\"--\")","v":"--"},"--","--",{"$f":"IF(ISNUMBER(VLOOKUP(E218,'Tab 5-7a Soil & Air EPCs'!$D$7:$F$9,3,FALSE)),VLOOKUP(E218,'Tab 5-7a Soil & Air EPCs'!$D$7:$F$9,3,FALSE),\"--\")","v":"--"},"--","--","--","--"]
[0,0,0,0,0,"--","--",{"$f":"IF(ISNUMBER(VLOOKUP(E219,'Tab 5-7a Soil & Air EPCs'!$D$7:$E$9,2,FALSE)),VLOOKUP(E219,'Tab 5-7a Soil & Air EPCs'!$D$7:$E$9,2,FALSE),\"--\")","v":"--"},"--","--","--","--","--","--","--",{"$f":"IF(ISNUMBER(VLOOKUP(E219,'Tab 5-7a Soil & Air EPCs'!$D$7:$H$9,5,FALSE)),VLOOKUP(E219,'Tab 5-7a Soil & Air EPCs'!$D$7:$H$9,5,FALSE),\"--\")","v":"--"},"--","--",{"$f":"IF(ISNUMBER(VLOOKUP(E219,'Tab 5-7a Soil & Air EPCs'!$D$7:$F$9,3,FALSE)),VLOOKUP(E219,'Tab 5-7a Soil & Air EPCs'!$D$7:$F$9,3,FALSE),\"--\")","v":"--"},"--","--","--","--"]
[0,0,0,0,0,"--","--",{"$f":"IF(ISNUMBER(VLOOKUP(E220,'Tab 5-7a Soil & Air EPCs'!$D$7:$E$9,2,FALSE)),VLOOKUP(E220,'Tab 5-7a Soil & Air EPCs'!$D$7:$E$9,2,FALSE),\"--\")","v":"--"},"--","--","--","--","--","--","--",{"$f":"IF(ISNUMBER(VLOOKUP(E220,'Tab 5-7a Soil & Air EPCs'!$D$7:$H$9,5,FALSE)),VLOOKUP(E220,'Tab 5-7a Soil & Air EPCs'!$D$7:$H$9,5,FALSE),\"--\")","v":"--"},"--","--",{"$f":"IF(ISNUMBER(VLOOKUP(E220,'Tab 5-7a Soil & Air EPCs'!$D$7:$F$9,3,FALSE)),VLOOKUP(E220,'Tab 5-7a Soil & Air EPCs'!$D$7:$F$9,3,FALSE),\"--\")","v":"--"},"--","--","--","--"]
[0,0,0,0,0,"--","--",{"$f":"IF(ISNUMBER(VLOOKUP(E221,'Tab 5-7a Soil & Air EPCs'!$D$7:$E$9,2,FALSE)),VLOOKUP(E221,'Tab 5-7a Soil & Air EPCs'!$D$7:$E$9,2,FALSE),\"--\")","v":"--"},"--","--","--","--","--","--","--",{"$f":"IF(ISNUMBER(VLOOKUP(E221,'Tab 5-7a Soil & Air EPCs'!$D$7:$H$9,5,FALSE)),VLOOKUP(E221,'Tab 5-7a Soil & Air EPCs'!$D$7:$H$9,5,FALSE),\"--\")","v":"--"},"--","--",{"$f":"IF(ISNUMBER(VLOOKUP(E221,'Tab 5-7a Soil & Air EPCs'!$D$7:$F$9,3,FALSE)),VLOOKUP(E221,'Tab 5-7a Soil & Air EPCs'!$D$7:$F$9,3,FALSE),\"--\")","v":"--"},"--","--","--","--"]
[0,0,0,0,0,"--","--",{"$f":"IF(ISNUMBER(VLOOKUP(E222,'Tab 5-7a Soil & Air EPCs'!$D$7:$E$9,2,FALSE)),VLOOKUP(E222,'Tab 5-7a Soil & Air EPCs'!$D$7:$E$9,2,FALSE),\"--\")","v":"--"},"--","--","--","--","--","--","--",{"$f":"IF(ISNUMBER(VLOOKUP(E222,'Tab 5-7a Soil & Air EPCs'!$D$7:$H$9,5,FALSE)),VLOOKUP(E222,'Tab 5-7a Soil & Air EPCs'!$D$7:$H$9,5,FALSE),\"--\")","v":"--"},"--","--",{"$f":"IF(ISNUMBER(VLOOKUP(E222,'Tab 5-7a Soil & Air EPCs'!$D$7:$F$9,3,FALSE)),VLOOKUP(E222,'Tab 5-7a Soil & Air EPCs'!$D$7:$F$9,3,FALSE),\"--\")","v":"--"},"--","--","--","--"]
[0,0,0,0,0,"--","--",{"$f":"IF(ISNUMBER(VLOOKUP(E223,'Tab 5-7a Soil & Air EPCs'!$D$7:$E$9,2,FALSE)),VLOOKUP(E223,'Tab 5-7a Soil & Air EPCs'!$D$7:$E$9,2,FALSE),\"--\")","v":"--"},"--","--","--","--","--","--","--",{"$f":"IF(ISNUMBER(VLOOKUP(E223,'Tab 5-7a Soil & Air EPCs'!$D$7:$H$9,5,FALSE)),VLOOKUP(E223,'Tab 5-7a Soil & Air EPCs'!$D$7:$H$9,5,FALSE),\"--\")","v":"--"},"--","--",{"$f":"IF(ISNUMBER(VLOOKUP(E223,'Tab 5-7a Soil & Air EPCs'!$D$7:$F$9,3,FALSE)),VLOOKUP(E223,'Tab 5-7a Soil & Air EPCs'!$D$7:$F$9,3,FALSE),\"--\")","v":"--"},"--","--","--","--"]
[0,0,0,0,0,"--","--",{"$f":"IF(ISNUMBER(VLOOKUP(E224,'Tab 5-7a Soil & Air EPCs'!$D$7:$E$9,2,FALSE)),VLOOKUP(E224,'Tab 5-7a Soil & Air EPCs'!$D$7:$E$9,2,FALSE),\"--\")","v":"--"},"--","--","--","--","--","--","--",{"$f":"IF(ISNUMBER(VLOOKUP(E224,'Tab 5-7a Soil & Air EPCs'!$D$7:$H$9,5,FALSE)),VLOOKUP(E224,'Tab 5-7a Soil & Air EPCs'!$D$7:$H$9,5,FALSE),\"--\")","v":"--"},"--","--",{"$f":"IF(ISNUMBER(VLOOKUP(E224,'Tab 5-7a Soil & Air EPCs'!$D$7:$F$9,3,FALSE)),VLOOKUP(E224,'Tab 5-7a Soil & Air EPCs'!$D$7:$F$9,3,FALSE),\"--\")","v":"--"},"--","--","--","--"]
[0,0,0,0,0,"--","--",{"$f":"IF(ISNUMBER(VLOOKUP(E225,'Tab 5-7a Soil & Air EPCs'!$D$7:$E$9,2,FALSE)),VLOOKUP(E225,'Tab 5-7a Soil & Air EPCs'!$D$7:$E$9,2,FALSE),\"--\")","v":"--"},"--","--","--","--","--","--","--",{"$f":"IF(ISNUMBER(VLOOKUP(E225,'Tab 5-7a Soil & Air EPCs'!$D$7:$H$9,5,FALSE)),VLOOKUP(E225,'Tab 5-7a Soil & Air EPCs'!$D$7:$H$9,5,FALSE),\"--\")","v":"--"},"--","--",{"$f":"IF(ISNUMBER(VLOOKUP(E225,'Tab 5-7a Soil & Air EPCs'!$D$7:$F$9,3,FALSE)),VLOOKUP(E225,'Tab 5-7a Soil & Air EPCs'!$D$7:$F$9,3,FALSE),\"--\")","v":"--"},"--","--","--","--"]
[0,0,0,0,0,"--","--",{"$f":"IF(ISNUMBER(VLOOKUP(E226,'Tab 5-7a Soil & Air EPCs'!$D$7:$E$9,2,FALSE)),VLOOKUP(E226,'Tab 5-7a Soil & Air EPCs'!$D$7:$E$9,2,FALSE),\"--\")","v":"--"},"--","--","--","--","--","--","--",{"$f":"IF(ISNUMBER(VLOOKUP(E226,'Tab 5-7a Soil & Air EPCs'!$D$7:$H$9,5,FALSE)),VLOOKUP(E226,'Tab 5-7a Soil & Air EPCs'!$D$7:$H$9,5,FALSE),\"--\")","v":"--"},"--","--",{"$f":"IF(ISNUMBER(VLOOKUP(E226,'Tab 5-7a Soil & Air EPCs'!$D$7:$F$9,3,FALSE)),VLOOKUP(E226,'Tab 5-7a Soil & Air EPCs'!$D$7:$F$9,3,FALSE),\"--\")","v":"--"},"--","--","--","--"]
[0,0,0,0,0,"--","--",{"$f":"IF(ISNUMBER(VLOOKUP(E227,'Tab 5-7a Soil & Air EPCs'!$D$7:$E$9,2,FALSE)),VLOOKUP(E227,'Tab 5-7a Soil & Air EPCs'!$D$7:$E$9,2,FALSE),\"--\")","v":"--"},"--","--","--","--","--","--","--",{"$f":"IF(ISNUMBER(VLOOKUP(E227,'Tab 5-7a Soil & Air EPCs'!$D$7:$H$9,5,FALSE)),VLOOKUP(E227,'Tab 5-7a Soil & Air EPCs'!$D$7:$H$9,5,FALSE),\"--\")","v":"--"},"--","--",{"$f":"IF(ISNUMBER(VLOOKUP(E227,'Tab 5-7a Soil & Air EPCs'!$D$7:$F$9,3,FALSE)),VLOOKUP(E227,'Tab 5-7a Soil & Air EPCs'!$D$7:$F$9,3,FALSE),\"--\")","v":"--"},"--","--","--","--"]
[0,0,0,0,0,"--","--",{"$f":"IF(ISNUMBER(VLOOKUP(E228,'Tab 5-7a Soil & Air EPCs'!$D$7:$E$9,2,FALSE)),VLOOKUP(E228,'Tab 5-7a Soil & Air EPCs'!$D$7:$E$9,2,FALSE),\"--\")","v":"--"},"--","--","--","--","--","--","--",{"$f":"IF(ISNUMBER(VLOOKUP(E228,'Tab 5-7a Soil & Air EPCs'!$D$7:$H$9,5,FALSE)),VLOOKUP(E228,'Tab 5-7a Soil & Air EPCs'!$D$7:$H$9,5,FALSE),\"--\")","v":"--"},"--","--",{"$f":"IF(ISNUMBER(VLOOKUP(E228,'Tab 5-7a Soil & Air EPCs'!$D$7:$F$9,3,FALSE)),VLOOKUP(E228,'Tab 5-7a Soil & Air EPCs'!$D$7:$F$9,3,FALSE),\"--\")","v":"--"},"--","--","--","--"]
[0,0,0,0,0,"--","--",{"$f":"IF(ISNUMBER(VLOOKUP(E229,'Tab 5-7a Soil & Air EPCs'!$D$7:$E$9,2,FALSE)),VLOOKUP(E229,'Tab 5-7a Soil & Air EPCs'!$D$7:$E$9,2,FALSE),\"--\")","v":"--"},"--","--","--","--","--","--","--",{"$f":"IF(ISNUMBER(VLOOKUP(E229,'Tab 5-7a Soil & Air EPCs'!$D$7:$H$9,5,FALSE)),VLOOKUP(E229,'Tab 5-7a Soil & Air EPCs'!$D$7:$H$9,5,FALSE),\"--\")","v":"--"},"--","--",{"$f":"IF(ISNUMBER(VLOOKUP(E229,'Tab 5-7a Soil & Air EPCs'!$D$7:$F$9,3,FALSE)),VLOOKUP(E229,'Tab 5-7a Soil & Air EPCs'!$D$7:$F$9,3,FALSE),\"--\")","v":"--"},"--","--","--","--"]
[0,0,0,0,0,"--","--",{"$f":"IF(ISNUMBER(VLOOKUP(E230,'Tab 5-7a Soil & Air EPCs'!$D$7:$E$9,2,FALSE)),VLOOKUP(E230,'Tab 5-7a Soil & Air EPCs'!$D$7:$E$9,2,FALSE),\"--\")","v":"--"},"--","--","--","--","--","--","--",{"$f":"IF(ISNUMBER(VLOOKUP(E230,'Tab 5-7a Soil & Air EPCs'!$D$7:$H$9,5,FALSE)),VLOOKUP(E230,'Tab 5-7a Soil & Air EPCs'!$D$7:$H$9,5,FALSE),\"--\")","v":"--"},"--","--",{"$f":"IF(ISNUMBER(VLOOKUP(E230,'Tab 5-7a Soil & Air EPCs'!$D$7:$F$9,3,FALSE)),VLOOKUP(E230,'Tab 5-7a Soil & Air EPCs'!$D$7:$F$9,3,FALSE),\"--\")","v":"--"},"--","--","--","--"]
[0,0,0,0,0,"--","--",{"$f":"IF(ISNUMBER(VLOOKUP(E231,'Tab 5-7a Soil & Air EPCs'!$D$7:$E$9,2,FALSE)),VLOOKUP(E231,'Tab 5-7a Soil & Air EPCs'!$D$7:$E$9,2,FALSE),\"--\")","v":"--"},"--","--","--","--","--","--","--",{"$f":"IF(ISNUMBER(VLOOKUP(E231,'Tab 5-7a Soil & Air EPCs'!$D$7:$H$9,5,FALSE)),VLOOKUP(E231,'Tab 5-7a Soil & Air EPCs'!$D$7:$H$9,5,FALSE),\"--\")","v":"--"},"--","--",{"$f":"IF(ISNUMBER(VLOOKUP(E231,'Tab 5-7a Soil & Air EPCs'!$D$7:$F$9,3,FALSE)),VLOOKUP(E231,'Tab 5-7a Soil & Air EPCs'!$D$7:$F$9,3,FALSE),\"--\")","v":"--"},"--","--","--","--"]
[0,0,0,0,0,"--","--",{"$f":"IF(ISNUMBER(VLOOKUP(E232,'Tab 5-7a Soil & Air EPCs'!$D$7:$E$9,2,FALSE)),VLOOKUP(E232,'Tab 5-7a Soil & Air EPCs'!$D$7:$E$9,2,FALSE),\"--\")","v":"--"},"--","--","--","--","--","--","--",{"$f":"IF(ISNUMBER(VLOOKUP(E232,'Tab 5-7a Soil & Air EPCs'!$D$7:$H$9,5,FALSE)),VLOOKUP(E232,'Tab 5-7a Soil & Air EPCs'!$D$7:$H$9,5,FALSE),\"--\")","v":"--"},"--","--",{"$f":"IF(ISNUMBER(VLOOKUP(E232,'Tab 5-7a Soil & Air EPCs'!$D$7:$F$9,3,FALSE)),VLOOKUP(E232,'Tab 5-7a Soil & Air EPCs'!$D$7:$F$9,3,FALSE),\"--\")","v":"--"},"--","--","--","--"]
[0,0,0,0,0,"--","--",{"$f":"IF(ISNUMBER(VLOOKUP(E233,'Tab 5-7a Soil & Air EPCs'!$D$7:$E$9,2,FALSE)),VLOOKUP(E233,'Tab 5-7a Soil & Air EPCs'!$D$7:$E$9,2,FALSE),\"--\")","v":"--"},"--","--","--","--","--","--","--",{"$f":"IF(ISNUMBER(VLOOKUP(E233,'Tab 5-7a Soil & Air EPCs'!$D$7:$H$9,5,FALSE)),VLOOKUP(E233,'Tab 5-7a Soil & Air EPCs'!$D$7:$H$9,5,FALSE),\"--\")","v":"--"},"--","--",{"$f":"IF(ISNUMBER(VLOOKUP(E233,'Tab 5-7a Soil & Air EPCs'!$D$7:$F$9,3,FALSE)),VLOOKUP(E233,'Tab 5-7a Soil & Air EPCs'!$D$7:$F$9,3,FALSE),\"--\")","v":"--"},"--","--","--","--"]
[0,0,0,0,0,"--","--",{"$f":"IF(ISNUMBER(VLOOKUP(E234,'Tab 5-7a Soil & Air EPCs'!$D$7:$E$9,2,FALSE)),VLOOKUP(E234,'Tab 5-7a Soil & Air EPCs'!$D$7:$E$9,2,FALSE),\"--\")","v":"--"},"--","--","--","--","--","--","--",{"$f":"IF(ISNUMBER(VLOOKUP(E234,'Tab 5-7a Soil & Air EPCs'!$D$7:$H$9,5,FALSE)),VLOOKUP(E234,'Tab 5-7a Soil & Air EPCs'!$D$7:$H$9,5,FALSE),\"--\")","v":"--"},"--","--",{"$f":"IF(ISNUMBER(VLOOKUP(E234,'Tab 5-7a Soil & Air EPCs'!$D$7:$F$9,3,FALSE)),VLOOKUP(E234,'Tab 5-7a Soil & Air EPCs'!$D$7:$F$9,3,FALSE),\"--\")","v":"--"},"--","--","--","--"]
[0,0,0,0,0,"--","--",{"$f":"IF(ISNUMBER(VLOOKUP(E235,'Tab 5-7a Soil & Air EPCs'!$D$7:$E$9,2,FALSE)),VLOOKUP(E235,'Tab 5-7a Soil & Air EPCs'!$D$7:$E$9,2,FALSE),\"--\")","v":"--"},"--","--","--","--","--","--","--",{"$f":"IF(ISNUMBER(VLOOKUP(E235,'Tab 5-7a Soil & Air EPCs'!$D$7:$H$9,5,FALSE)),VLOOKUP(E235,'Tab 5-7a Soil & Air EPCs'!$D$7:$H$9,5,FALSE),\"--\")","v":"--"},"--","--",{"$f":"IF(ISNUMBER(VLOOKUP(E235,'Tab 5-7a Soil & Air EPCs'!$D$7:$F$9,3,FALSE)),VLOOKUP(E235,'Tab 5-7a Soil & Air EPCs'!$D$7:$F$9,3,FALSE),\"--\")","v":"--"},"--","--","--","--"]
[0,0,0,0,0,"--","--",{"$f":"IF(ISNUMBER(VLOOKUP(E236,'Tab 5-7a Soil & Air EPCs'!$D$7:$E$9,2,FALSE)),VLOOKUP(E236,'Tab 5-7a Soil & Air EPCs'!$D$7:$E$9,2,FALSE),\"--\")","v":"--"},"--","--","--","--","--","--","--",{"$f":"IF(ISNUMBER(VLOOKUP(E236,'Tab 5-7a Soil & Air EPCs'!$D$7:$H$9,5,FALSE)),VLOOKUP(E236,'Tab 5-7a Soil & Air EPCs'!$D$7:$H$9,5,FALSE),\"--\")","v":"--"},"--","--",{"$f":"IF(ISNUMBER(VLOOKUP(E236,'Tab 5-7a Soil & Air EPCs'!$D$7:$F$9,3,FALSE)),VLOOKUP(E236,'Tab 5-7a Soil & Air EPCs'!$D$7:$F$9,3,FALSE),\"--\")","v":"--"},"--","--","--","--"]
[0,0,0,0,0,"--","--",{"$f":"IF(ISNUMBER(VLOOKUP(E237,'Tab 5-7a Soil & Air EPCs'!$D$7:$E$9,2,FALSE)),VLOOKUP(E237,'Tab 5-7a Soil & Air EPCs'!$D$7:$E$9,2,FALSE),\"--\")","v":"--"},"--","--","--","--","--","--","--",{"$f":"IF(ISNUMBER(VLOOKUP(E237,'Tab 5-7a Soil & Air EPCs'!$D$7:$H$9,5,FALSE)),VLOOKUP(E237,'Tab 5-7a Soil & Air EPCs'!$D$7:$H$9,5,FALSE),\"--\")","v":"--"},"--","--",{"$f":"IF(ISNUMBER(VLOOKUP(E237,'Tab 5-7a Soil & Air EPCs'!$D$7:$F$9,3,FALSE)),VLOOKUP(E237,'Tab 5-7a Soil & Air EPCs'!$D$7:$F$9,3,FALSE),\"--\")","v":"--"},"--","--","--","--"]
[0,0,0,0,0,"--","--",{"$f":"IF(ISNUMBER(VLOOKUP(E238,'Tab 5-7a Soil & Air EPCs'!$D$7:$E$9,2,FALSE)),VLOOKUP(E238,'Tab 5-7a Soil & Air EPCs'!$D$7:$E$9,2,FALSE),\"--\")","v":"--"},"--","--","--","--","--","--","--",{"$f":"IF(ISNUMBER(VLOOKUP(E238,'Tab 5-7a Soil & Air EPCs'!$D$7:$H$9,5,FALSE)),VLOOKUP(E238,'Tab 5-7a Soil & Air EPCs'!$D$7:$H$9,5,FALSE),\"--\")","v":"--"},"--","--",{"$f":"IF(ISNUMBER(VLOOKUP(E238,'Tab 5-7a Soil & Air EPCs'!$D$7:$F$9,3,FALSE)),VLOOKUP(E238,'Tab 5-7a Soil & Air EPCs'!$D$7:$F$9,3,FALSE),\"--\")","v":"--"},"--","--","--","--"]
[0,0,0,0,0,"--","--",{"$f":"IF(ISNUMBER(VLOOKUP(E239,'Tab 5-7a Soil & Air EPCs'!$D$7:$E$9,2,FALSE)),VLOOKUP(E239,'Tab 5-7a Soil & Air EPCs'!$D$7:$E$9,2,FALSE),\"--\")","v":"--"},"--","--","--","--","--","--","--",{"$f":"IF(ISNUMBER(VLOOKUP(E239,'Tab 5-7a Soil & Air EPCs'!$D$7:$H$9,5,FALSE)),VLOOKUP(E239,'Tab 5-7a Soil & Air EPCs'!$D$7:$H$9,5,FALSE),\"--\")","v":"--"},"--","--",{"$f":"IF(ISNUMBER(VLOOKUP(E239,'Tab 5-7a Soil & Air EPCs'!$D$7:$F$9,3,FALSE)),VLOOKUP(E239,'Tab 5-7a Soil & Air EPCs'!$D$7:$F$9,3,FALSE),\"--\")","v":"--"},"--","--","--","--"]
[0,0,0,0,0,"--","--",{"$f":"IF(ISNUMBER(VLOOKUP(E240,'Tab 5-7a Soil & Air EPCs'!$D$7:$E$9,2,FALSE)),VLOOKUP(E240,'Tab 5-7a Soil & Air EPCs'!$D$7:$E$9,2,FALSE),\"--\")","v":"--"},"--","--","--","--","--","--","--",{"$f":"IF(ISNUMBER(VLOOKUP(E240,'Tab 5-7a Soil & Air EPCs'!$D$7:$H$9,5,FALSE)),VLOOKUP(E240,'Tab 5-7a Soil & Air EPCs'!$D$7:$H$9,5,FALSE),\"--\")","v":"--"},"--","--",{"$f":"IF(ISNUMBER(VLOOKUP(E240,'Tab 5-7a Soil & Air EPCs'!$D$7:$F$9,3,FALSE)),VLOOKUP(E240,'Tab 5-7a Soil & Air EPCs'!$D$7:$F$9,3,FALSE),\"--\")","v":"--"},"--","--","--","--"]
[0,0,0,0,0,"--","--",{"$f":"IF(ISNUMBER(VLOOKUP(E241,'Tab 5-7a Soil & Air EPCs'!$D$7:$E$9,2,FALSE)),VLOOKUP(E241,'Tab 5-7a Soil & Air EPCs'!$D$7:$E$9,2,FALSE),\"--\")","v":"--"},"--","--","--","--","--","--","--",{"$f":"IF(ISNUMBER(VLOOKUP(E241,'Tab 5-7a Soil & Air EPCs'!$D$7:$H$9,5,FALSE)),VLOOKUP(E241,'Tab 5-7a Soil & Air EPCs'!$D$7:$H$9,5,FALSE),\"--\")","v":"--"},"--","--",{"$f":"IF(ISNUMBER(VLOOKUP(E241,'Tab 5-7a Soil & Air EPCs'!$D$7:$F$9,3,FALSE)),VLOOKUP(E241,'Tab 5-7a Soil & Air EPCs'!$D$7:$F$9,3,FALSE),\"--\")","v":"--"},"--","--","--","--"]
[0,0,0,0,0,"--","--",{"$f":"IF(ISNUMBER(VLOOKUP(E242,'Tab 5-7a Soil & Air EPCs'!$D$7:$E$9,2,FALSE)),VLOOKUP(E242,'Tab 5-7a Soil & Air EPCs'!$D$7:$E$9,2,FALSE),\"--\")","v":"--"},"--","--","--","--","--","--","--",{"$f":"IF(ISNUMBER(VLOOKUP(E242,'Tab 5-7a Soil & Air EPCs'!$D$7:$H$9,5,FALSE)),VLOOKUP(E242,'Tab 5-7a Soil & Air EPCs'!$D$7:$H$9,5,FALSE),\"--\")","v":"--"},"--","--",{"$f":"IF(ISNUMBER(VLOOKUP(E242,'Tab 5-7a Soil & Air EPCs'!$D$7:$F$9,3,FALSE)),VLOOKUP(E242,'Tab 5-7a Soil & Air EPCs'!$D$7:$F$9,3,FALSE),\"--\")","v":"--"},"--","--","--","--"]
[0,0,0,0,0,"--","--",{"$f":"IF(ISNUMBER(VLOOKUP(E243,'Tab 5-7a Soil & Air EPCs'!$D$7:$E$9,2,FALSE)),VLOOKUP(E243,'Tab 5-7a Soil & Air EPCs'!$D$7:$E$9,2,FALSE),\"--\")","v":"--"},"--","--","--","--","--","--","--",{"$f":"IF(ISNUMBER(VLOOKUP(E243,'Tab 5-7a Soil & Air EPCs'!$D$7:$H$9,5,FALSE)),VLOOKUP(E243,'Tab 5-7a Soil & Air EPCs'!$D$7:$H$9,5,FALSE),\"--\")","v":"--"},"--","--",{"$f":"IF(ISNUMBER(VLOOKUP(E243,'Tab 5-7a Soil & Air EPCs'!$D$7:$F$9,3,FALSE)),VLOOKUP(E243,'Tab 5-7a Soil & Air EPCs'!$D$7:$F$9,3,FALSE),\"--\")","v":"--"},"--","--","--","--"]
[0,0,0,0,0,"--","--",{"$f":"IF(ISNUMBER(VLOOKUP(E244,'Tab 5-7a Soil & Air EPCs'!$D$7:$E$9,2,FALSE)),VLOOKUP(E244,'Tab 5-7a Soil & Air EPCs'!$D$7:$E$9,2,FALSE),\"--\")","v":"--"},"--","--","--","--","--","--","--",{"$f":"IF(ISNUMBER(VLOOKUP(E244,'Tab 5-7a Soil & Air EPCs'!$D$7:$H$9,5,FALSE)),VLOOKUP(E244,'Tab 5-7a Soil & Air EPCs'!$D$7:$H$9,5,FALSE),\"--\")","v":"--"},"--","--",{"$f":"IF(ISNUMBER(VLOOKUP(E244,'Tab 5-7a Soil & Air EPCs'!$D$7:$F$9,3,FALSE)),VLOOKUP(E244,'Tab 5-7a Soil & Air EPCs'!$D$7:$F$9,3,FALSE),\"--\")","v":"--"},"--","--","--","--"]
[0,0,0,0,0,"--","--",{"$f":"IF(ISNUMBER(VLOOKUP(E245,'Tab 5-7a Soil & Air EPCs'!$D$7:$E$9,2,FALSE)),VLOOKUP(E245,'Tab 5-7a Soil & Air EPCs'!$D$7:$E$9,2,FALSE),\"--\")","v":"--"},"--","--","--","--","--","--","--",{"$f":"IF(ISNUMBER(VLOOKUP(E245,'Tab 5-7a Soil & Air EPCs'!$D$7:$H$9,5,FALSE)),VLOOKUP(E245,'Tab 5-7a Soil & Air EPCs'!$D$7:$H$9,5,FALSE),\"--\")","v":"--"},"--","--",{"$f":"IF(ISNUMBER(VLOOKUP(E245,'Tab 5-7a Soil & Air EPCs'!$D$7:$F$9,3,FALSE)),VLOOKUP(E245,'Tab 5-7a Soil & Air EPCs'!$D$7:$F$9,3,FALSE),\"--\")","v":"--"},"--","--","--","--"]
[0,0,0,0,0,"--","--",{"$f":"IF(ISNUMBER(VLOOKUP(E246,'Tab 5-7a Soil & Air EPCs'!$D$7:$E$9,2,FALSE)),VLOOKUP(E246,'Tab 5-7a Soil & Air EPCs'!$D$7:$E$9,2,FALSE),\"--\")","v":"--"},"--","--","--","--","--","--","--",{"$f":"IF(ISNUMBER(VLOOKUP(E246,'Tab 5-7a Soil & Air EPCs'!$D$7:$H$9,5,FALSE)),VLOOKUP(E246,'Tab 5-7a Soil & Air EPCs'!$D$7:$H$9,5,FALSE),\"--\")","v":"--"},"--","--",{"$f":"IF(ISNUMBER(VLOOKUP(E246,'Tab 5-7a Soil & Air EPCs'!$D$7:$F$9,3,FALSE)),VLOOKUP(E246,'Tab 5-7a Soil & Air EPCs'!$D$7:$F$9,3,FALSE),\"--\")","v":"--"},"--","--","--","--"]
[0,0,0,0,0,"--","--",{"$f":"IF(ISNUMBER(VLOOKUP(E247,'Tab 5-7a Soil & Air EPCs'!$D$7:$E$9,2,FALSE)),VLOOKUP(E247,'Tab 5-7a Soil & Air EPCs'!$D$7:$E$9,2,FALSE),\"--\")","v":"--"},"--","--","--","--","--","--","--",{"$f":"IF(ISNUMBER(VLOOKUP(E247,'Tab 5-7a Soil & Air EPCs'!$D$7:$H$9,5,FALSE)),VLOOKUP(E247,'Tab 5-7a Soil & Air EPCs'!$D$7:$H$9,5,FALSE),\"--\")","v":"--"},"--","--",{"$f":"IF(ISNUMBER(VLOOKUP(E247,'Tab 5-7a Soil & Air EPCs'!$D$7:$F$9,3,FALSE)),VLOOKUP(E247,'Tab 5-7a Soil & Air EPCs'!$D$7:$F$9,3,FALSE),\"--\")","v":"--"},"--","--","--","--"]
[0,0,0,0,0,"--","--",{"$f":"IF(ISNUMBER(VLOOKUP(E248,'Tab 5-7a Soil & Air EPCs'!$D$7:$E$9,2,FALSE)),VLOOKUP(E248,'Tab 5-7a Soil & Air EPCs'!$D$7:$E$9,2,FALSE),\"--\")","v":"--"},"--","--","--","--","--","--","--",{"$f":"IF(ISNUMBER(VLOOKUP(E248,'Tab 5-7a Soil & Air EPCs'!$D$7:$H$9,5,FALSE)),VLOOKUP(E248,'Tab 5-7a Soil & Air EPCs'!$D$7:$H$9,5,FALSE),\"--\")","v":"--"},"--","--",{"$f":"IF(ISNUMBER(VLOOKUP(E248,'Tab 5-7a Soil & Air EPCs'!$D$7:$F$9,3,FALSE)),VLOOKUP(E248,'Tab 5-7a Soil & Air EPCs'!$D$7:$F$9,3,FALSE),\"--\")","v":"--"},"--","--","--","--"]
[0,0,0,0,0,"--","--",{"$f":"IF(ISNUMBER(VLOOKUP(E249,'Tab 5-7a Soil & Air EPCs'!$D$7:$E$9,2,FALSE)),VLOOKUP(E249,'Tab 5-7a Soil & Air EPCs'!$D$7:$E$9,2,FALSE),\"--\")","v":"--"},"--","--","--","--","--","--","--",{"$f":"IF(ISNUMBER(VLOOKUP(E249,'Tab 5-7a Soil & Air EPCs'!$D$7:$H$9,5,FALSE)),VLOOKUP(E249,'Tab 5-7a Soil & Air EPCs'!$D$7:$H$9,5,FALSE),\"--\")","v":"--"},"--","--",{"$f":"IF(ISNUMBER(VLOOKUP(E249,'Tab 5-7a Soil & Air EPCs'!$D$7:$F$9,3,FALSE)),VLOOKUP(E249,'Tab 5-7a Soil & Air EPCs'!$D$7:$F$9,3,FALSE),\"--\")","v":"--"},"--","--","--","--"]
[0,0,0,0,0,"--","--",{"$f":"IF(ISNUMBER(VLOOKUP(E250,'Tab 5-7a Soil & Air EPCs'!$D$7:$E$9,2,FALSE)),VLOOKUP(E250,'Tab 5-7a Soil & Air EPCs'!$D$7:$E$9,2,FALSE),\"--\")","v":"--"},"--","--","--","--","--","--","--",{"$f":"IF(ISNUMBER(VLOOKUP(E250,'Tab 5-7a Soil & Air EPCs'!$D$7:$H$9,5,FALSE)),VLOOKUP(E250,'Tab 5-7a Soil & Air EPCs'!$D$7:$H$9,5,FALSE),\"--\")","v":"--"},"--","--",{"$f":"IF(ISNUMBER(VLOOKUP(E250,'Tab 5-7a Soil & Air EPCs'!$D$7:$F$9,3,FALSE)),VLOOKUP(E250,'Tab 5-7a Soil & Air EPCs'!$D$7:$F$9,3,FALSE),\"--\")","v":"--"},"--","--","--","--"]
[0,0,0,0,0,"--","--",{"$f":"IF(ISNUMBER(VLOOKUP(E251,'Tab 5-7a Soil & Air EPCs'!$D$7:$E$9,2,FALSE)),VLOOKUP(E251,'Tab 5-7a Soil & Air EPCs'!$D$7:$E$9,2,FALSE),\"--\")","v":"--"},"--","--","--","--","--","--","--",{"$f":"IF(ISNUMBER(VLOOKUP(E251,'Tab 5-7a Soil & Air EPCs'!$D$7:$H$9,5,FALSE)),VLOOKUP(E251,'Tab 5-7a Soil & Air EPCs'!$D$7:$H$9,5,FALSE),\"--\")","v":"--"},"--","--",{"$f":"IF(ISNUMBER(VLOOKUP(E251,'Tab 5-7a Soil & Air EPCs'!$D$7:$F$9,3,FALSE)),VLOOKUP(E251,'Tab 5-7a Soil & Air EPCs'!$D$7:$F$9,3,FALSE),\"--\")","v":"--"},"--","--","--","--"]
[0,0,0,0,0,"--","--",{"$f":"IF(ISNUMBER(VLOOKUP(E252,'Tab 5-7a Soil & Air EPCs'!$D$7:$E$9,2,FALSE)),VLOOKUP(E252,'Tab 5-7a Soil & Air EPCs'!$D$7:$E$9,2,FALSE),\"--\")","v":"--"},"--","--","--","--","--","--","--",{"$f":"IF(ISNUMBER(VLOOKUP(E252,'Tab 5-7a Soil & Air EPCs'!$D$7:$H$9,5,FALSE)),VLOOKUP(E252,'Tab 5-7a Soil & Air EPCs'!$D$7:$H$9,5,FALSE),\"--\")","v":"--"},"--","--",{"$f":"IF(ISNUMBER(VLOOKUP(E252,'Tab 5-7a Soil & Air EPCs'!$D$7:$F$9,3,FALSE)),VLOOKUP(E252,'Tab 5-7a Soil & Air EPCs'!$D$7:$F$9,3,FALSE),\"--\")","v":"--"},"--","--","--","--"]
[0,0,0,0,0,"--","--",{"$f":"IF(ISNUMBER(VLOOKUP(E253,'Tab 5-7a Soil & Air EPCs'!$D$7:$E$9,2,FALSE)),VLOOKUP(E253,'Tab 5-7a Soil & Air EPCs'!$D$7:$E$9,2,FALSE),\"--\")","v":"--"},"--","--","--","--","--","--","--",{"$f":"IF(ISNUMBER(VLOOKUP(E253,'Tab 5-7a Soil & Air EPCs'!$D$7:$H$9,5,FALSE)),VLOOKUP(E253,'Tab 5-7a Soil & Air EPCs'!$D$7:$H$9,5,FALSE),\"--\")","v":"--"},"--","--",{"$f":"IF(ISNUMBER(VLOOKUP(E253,'Tab 5-7a Soil & Air EPCs'!$D$7:$F$9,3,FALSE)),VLOOKUP(E253,'Tab 5-7a Soil & Air EPCs'!$D$7:$F$9,3,FALSE),\"--\")","v":"--"},"--","--","--","--"]
[0,0,0,0,0,"--","--",{"$f":"IF(ISNUMBER(VLOOKUP(E254,'Tab 5-7a Soil & Air EPCs'!$D$7:$E$9,2,FALSE)),VLOOKUP(E254,'Tab 5-7a Soil & Air EPCs'!$D$7:$E$9,2,FALSE),\"--\")","v":"--"},"--","--","--","--","--","--","--",{"$f":"IF(ISNUMBER(VLOOKUP(E254,'Tab 5-7a Soil & Air EPCs'!$D$7:$H$9,5,FALSE)),VLOOKUP(E254,'Tab 5-7a Soil & Air EPCs'!$D$7:$H$9,5,FALSE),\"--\")","v":"--"},"--","--",{"$f":"IF(ISNUMBER(VLOOKUP(E254,'Tab 5-7a Soil & Air EPCs'!$D$7:$F$9,3,FALSE)),VLOOKUP(E254,'Tab 5-7a Soil & Air EPCs'!$D$7:$F$9,3,FALSE),\"--\")","v":"--"},"--","--","--","--"]
[0,0,0,0,0,"--","--",{"$f":"IF(ISNUMBER(VLOOKUP(E255,'Tab 5-7a Soil & Air EPCs'!$D$7:$E$9,2,FALSE)),VLOOKUP(E255,'Tab 5-7a Soil & Air EPCs'!$D$7:$E$9,2,FALSE),\"--\")","v":"--"},"--","--","--","--","--","--","--",{"$f":"IF(ISNUMBER(VLOOKUP(E255,'Tab 5-7a Soil & Air EPCs'!$D$7:$H$9,5,FALSE)),VLOOKUP(E255,'Tab 5-7a Soil & Air EPCs'!$D$7:$H$9,5,FALSE),\"--\")","v":"--"},"--","--",{"$f":"IF(ISNUMBER(VLOOKUP(E255,'Tab 5-7a Soil & Air EPCs'!$D$7:$F$9,3,FALSE)),VLOOKUP(E255,'Tab 5-7a Soil & Air EPCs'!$D$7:$F$9,3,FALSE),\"--\")","v":"--"},"--","--","--","--"]
[0,0,0,0,0,"--","--",{"$f":"IF(ISNUMBER(VLOOKUP(E256,'Tab 5-7a Soil & Air EPCs'!$D$7:$E$9,2,FALSE)),VLOOKUP(E256,'Tab 5-7a Soil & Air EPCs'!$D$7:$E$9,2,FALSE),\"--\")","v":"--"},"--","--","--","--","--","--","--",{"$f":"IF(ISNUMBER(VLOOKUP(E256,'Tab 5-7a Soil & Air EPCs'!$D$7:$H$9,5,FALSE)),VLOOKUP(E256,'Tab 5-7a Soil & Air EPCs'!$D$7:$H$9,5,FALSE),\"--\")","v":"--"},"--","--",{"$f":"IF(ISNUMBER(VLOOKUP(E256,'Tab 5-7a Soil & Air EPCs'!$D$7:$F$9,3,FALSE)),VLOOKUP(E256,'Tab 5-7a Soil & Air EPCs'!$D$7:$F$9,3,FALSE),\"--\")","v":"--"},"--","--","--","--"]
[0,0,0,0,0,"--","--",{"$f":"IF(ISNUMBER(VLOOKUP(E257,'Tab 5-7a Soil & Air EPCs'!$D$7:$E$9,2,FALSE)),VLOOKUP(E257,'Tab 5-7a Soil & Air EPCs'!$D$7:$E$9,2,FALSE),\"--\")","v":"--"},"--","--","--","--","--","--","--",{"$f":"IF(ISNUMBER(VLOOKUP(E257,'Tab 5-7a Soil & Air EPCs'!$D$7:$H$9,5,FALSE)),VLOOKUP(E257,'Tab 5-7a Soil & Air EPCs'!$D$7:$H$9,5,FALSE),\"--\")","v":"--"},"--","--",{"$f":"IF(ISNUMBER(VLOOKUP(E257,'Tab 5-7a Soil & Air EPCs'!$D$7:$F$9,3,FALSE)),VLOOKUP(E257,'Tab 5-7a Soil & Air EPCs'!$D$7:$F$9,3,FALSE),\"--\")","v":"--"},"--","--","--","--"]
[0,0,0,0,0,"--","--",{"$f":"IF(ISNUMBER(VLOOKUP(E258,'Tab 5-7a Soil & Air EPCs'!$D$7:$E$9,2,FALSE)),VLOOKUP(E258,'Tab 5-7a Soil & Air EPCs'!$D$7:$E$9,2,FALSE),\"--\")","v":"--"},"--","--","--","--","--","--","--",{"$f":"IF(ISNUMBER(VLOOKUP(E258,'Tab 5-7a Soil & Air EPCs'!$D$7:$H$9,5,FALSE)),VLOOKUP(E258,'Tab 5-7a Soil & Air EPCs'!$D$7:$H$9,5,FALSE),\"--\")","v":"--"},"--","--",{"$f":"IF(ISNUMBER(VLOOKUP(E258,'Tab 5-7a Soil & Air EPCs'!$D$7:$F$9,3,FALSE)),VLOOKUP(E258,'Tab 5-7a Soil & Air EPCs'!$D$7:$F$9,3,FALSE),\"--\")","v":"--"},"--","--","--","--"]
[0,0,0,0,0,"--","--",{"$f":"IF(ISNUMBER(VLOOKUP(E259,'Tab 5-7a Soil & Air EPCs'!$D$7:$E$9,2,FALSE)),VLOOKUP(E259,'Tab 5-7a Soil & Air EPCs'!$D$7:$E$9,2,FALSE),\"--\")","v":"--"},"--","--","--","--","--","--","--",{"$f":"IF(ISNUMBER(VLOOKUP(E259,'Tab 5-7a Soil & Air EPCs'!$D$7:$H$9,5,FALSE)),VLOOKUP(E259,'Tab 5-7a Soil & Air EPCs'!$D$7:$H$9,5,FALSE),\"--\")","v":"--"},"--","--",{"$f":"IF(ISNUMBER(VLOOKUP(E259,'Tab 5-7a Soil & Air EPCs'!$D$7:$F$9,3,FALSE)),VLOOKUP(E259,'Tab 5-7a Soil & Air EPCs'!$D$7:$F$9,3,FALSE),\"--\")","v":"--"},"--","--","--","--"]
[0,0,0,0,0,"--","--",{"$f":"IF(ISNUMBER(VLOOKUP(E260,'Tab 5-7a Soil & Air EPCs'!$D$7:$E$9,2,FALSE)),VLOOKUP(E260,'Tab 5-7a Soil & Air EPCs'!$D$7:$E$9,2,FALSE),\"--\")","v":"--"},"--","--","--","--","--","--","--",{"$f":"IF(ISNUMBER(VLOOKUP(E260,'Tab 5-7a Soil & Air EPCs'!$D$7:$H$9,5,FALSE)),VLOOKUP(E260,'Tab 5-7a Soil & Air EPCs'!$D$7:$H$9,5,FALSE),\"--\")","v":"--"},"--","--",{"$f":"IF(ISNUMBER(VLOOKUP(E260,'Tab 5-7a Soil & Air EPCs'!$D$7:$F$9,3,FALSE)),VLOOKUP(E260,'Tab 5-7a Soil & Air EPCs'!$D$7:$F$9,3,FALSE),\"--\")","v":"--"},"--","--","--","--"]
[0,0,0,0,0,"--","--",{"$f":"IF(ISNUMBER(VLOOKUP(E261,'Tab 5-7a Soil & Air EPCs'!$D$7:$E$9,2,FALSE)),VLOOKUP(E261,'Tab 5-7a Soil & Air EPCs'!$D$7:$E$9,2,FALSE),\"--\")","v":"--"},"--","--","--","--","--","--","--",{"$f":"IF(ISNUMBER(VLOOKUP(E261,'Tab 5-7a Soil & Air EPCs'!$D$7:$H$9,5,FALSE)),VLOOKUP(E261,'Tab 5-7a Soil & Air EPCs'!$D$7:$H$9,5,FALSE),\"--\")","v":"--"},"--","--",{"$f":"IF(ISNUMBER(VLOOKUP(E261,'Tab 5-7a Soil & Air EPCs'!$D$7:$F$9,3,FALSE)),VLOOKUP(E261,'Tab 5-7a Soil & Air EPCs'!$D$7:$F$9,3,FALSE),\"--\")","v":"--"},"--","--","--","--"]
[0,0,0,0,0,"--","--",{"$f":"IF(ISNUMBER(VLOOKUP(E262,'Tab 5-7a Soil & Air EPCs'!$D$7:$E$9,2,FALSE)),VLOOKUP(E262,'Tab 5-7a Soil & Air EPCs'!$D$7:$E$9,2,FALSE),\"--\")","v":"--"},"--","--","--","--","--","--","--",{"$f":"IF(ISNUMBER(VLOOKUP(E262,'Tab 5-7a Soil & Air EPCs'!$D$7:$H$9,5,FALSE)),VLOOKUP(E262,'Tab 5-7a Soil & Air EPCs'!$D$7:$H$9,5,FALSE),\"--\")","v":"--"},"--","--",{"$f":"IF(ISNUMBER(VLOOKUP(E262,'Tab 5-7a Soil & Air EPCs'!$D$7:$F$9,3,FALSE)),VLOOKUP(E262,'Tab 5-7a Soil & Air EPCs'!$D$7:$F$9,3,FALSE),\"--\")","v":"--"},"--","--","--","--"]
[0,0,0,0,0,"--","--",{"$f":"IF(ISNUMBER(VLOOKUP(E263,'Tab 5-7a Soil & Air EPCs'!$D$7:$E$9,2,FALSE)),VLOOKUP(E263,'Tab 5-7a Soil & Air EPCs'!$D$7:$E$9,2,FALSE),\"--\")","v":"--"},"--","--","--","--","--","--","--",{"$f":"IF(ISNUMBER(VLOOKUP(E263,'Tab 5-7a Soil & Air EPCs'!$D$7:$H$9,5,FALSE)),VLOOKUP(E263,'Tab 5-7a Soil & Air EPCs'!$D$7:$H$9,5,FALSE),\"--\")","v":"--"},"--","--",{"$f":"IF(ISNUMBER(VLOOKUP(E263,'Tab 5-7a Soil & Air EPCs'!$D$7:$F$9,3,FALSE)),VLOOKUP(E263,'Tab 5-7a Soil & Air EPCs'!$D$7:$F$9,3,FALSE),\"--\")","v":"--"},"--","--","--","--"]
[0,0,0,0,0,"--","--",{"$f":"IF(ISNUMBER(VLOOKUP(E264,'Tab 5-7a Soil & Air EPCs'!$D$7:$E$9,2,FALSE)),VLOOKUP(E264,'Tab 5-7a Soil & Air EPCs'!$D$7:$E$9,2,FALSE),\"--\")","v":"--"},"--","--","--","--","--","--","--",{"$f":"IF(ISNUMBER(VLOOKUP(E264,'Tab 5-7a Soil & Air EPCs'!$D$7:$H$9,5,FALSE)),VLOOKUP(E264,'Tab 5-7a Soil & Air EPCs'!$D$7:$H$9,5,FALSE),\"--\")","v":"--"},"--","--",{"$f":"IF(ISNUMBER(VLOOKUP(E264,'Tab 5-7a Soil & Air EPCs'!$D$7:$F$9,3,FALSE)),VLOOKUP(E264,'Tab 5-7a Soil & Air EPCs'!$D$7:$F$9,3,FALSE),\"--\")","v":"--"},"--","--","--","--"]
[0,0,0,0,0,"--","--",{"$f":"IF(ISNUMBER(VLOOKUP(E265,'Tab 5-7a Soil & Air EPCs'!$D$7:$E$9,2,FALSE)),VLOOKUP(E265,'Tab 5-7a Soil & Air EPCs'!$D$7:$E$9,2,FALSE),\"--\")","v":"--"},"--","--","--","--","--","--","--",{"$f":"IF(ISNUMBER(VLOOKUP(E265,'Tab 5-7a Soil & Air EPCs'!$D$7:$H$9,5,FALSE)),VLOOKUP(E265,'Tab 5-7a Soil & Air EPCs'!$D$7:$H$9,5,FALSE),\"--\")","v":"--"},"--","--",{"$f":"IF(ISNUMBER(VLOOKUP(E265,'Tab 5-7a Soil & Air EPCs'!$D$7:$F$9,3,FALSE)),VLOOKUP(E265,'Tab 5-7a Soil & Air EPCs'!$D$7:$F$9,3,FALSE),\"--\")","v":"--"},"--","--","--","--"]
[0,0,0,0,0,"--","--",{"$f":"IF(ISNUMBER(VLOOKUP(E266,'Tab 5-7a Soil & Air EPCs'!$D$7:$E$9,2,FALSE)),VLOOKUP(E266,'Tab 5-7a Soil & Air EPCs'!$D$7:$E$9,2,FALSE),\"--\")","v":"--"},"--","--","--","--","--","--","--",{"$f":"IF(ISNUMBER(VLOOKUP(E266,'Tab 5-7a Soil & Air EPCs'!$D$7:$H$9,5,FALSE)),VLOOKUP(E266,'Tab 5-7a Soil & Air EPCs'!$D$7:$H$9,5,FALSE),\"--\")","v":"--"},"--","--",{"$f":"IF(ISNUMBER(VLOOKUP(E266,'Tab 5-7a Soil & Air EPCs'!$D$7:$F$9,3,FALSE)),VLOOKUP(E266,'Tab 5-7a Soil & Air EPCs'!$D$7:$F$9,3,FALSE),\"--\")","v":"--"},"--","--","--","--"]
[0,0,0,0,0,"--","--",{"$f":"IF(ISNUMBER(VLOOKUP(E267,'Tab 5-7a Soil & Air EPCs'!$D$7:$E$9,2,FALSE)),VLOOKUP(E267,'Tab 5-7a Soil & Air EPCs'!$D$7:$E$9,2,FALSE),\"--\")","v":"--"},"--","--","--","--","--","--","--",{"$f":"IF(ISNUMBER(VLOOKUP(E267,'Tab 5-7a Soil & Air EPCs'!$D$7:$H$9,5,FALSE)),VLOOKUP(E267,'Tab 5-7a Soil & Air EPCs'!$D$7:$H$9,5,FALSE),\"--\")","v":"--"},"--","--",{"$f":"IF(ISNUMBER(VLOOKUP(E267,'Tab 5-7a Soil & Air EPCs'!$D$7:$F$9,3,FALSE)),VLOOKUP(E267,'Tab 5-7a Soil & Air EPCs'!$D$7:$F$9,3,FALSE),\"--\")","v":"--"},"--","--","--","--"]
[0,0,0,0,0,"--","--",{"$f":"IF(ISNUMBER(VLOOKUP(E268,'Tab 5-7a Soil & Air EPCs'!$D$7:$E$9,2,FALSE)),VLOOKUP(E268,'Tab 5-7a Soil & Air EPCs'!$D$7:$E$9,2,FALSE),\"--\")","v":"--"},"--","--","--","--","--","--","--",{"$f":"IF(ISNUMBER(VLOOKUP(E268,'Tab 5-7a Soil & Air EPCs'!$D$7:$H$9,5,FALSE)),VLOOKUP(E268,'Tab 5-7a Soil & Air EPCs'!$D$7:$H$9,5,FALSE),\"--\")","v":"--"},"--","--",{"$f":"IF(ISNUMBER(VLOOKUP(E268,'Tab 5-7a Soil & Air EPCs'!$D$7:$F$9,3,FALSE)),VLOOKUP(E268,'Tab 5-7a Soil & Air EPCs'!$D$7:$F$9,3,FALSE),\"--\")","v":"--"},"--","--",{"$f":"IF(SUM(I268,L268,Q268,T268)>0,SUM(I268,L268,Q268,T268),\"--\")","v":"--"},{"$f":"IF(SUM(J268,M268,R268,U268)>0,SUM(J268,M268,R268,U268),\"--\")","v":"--"}]
[0,0,0,0,0,"--","--",{"$f":"IF(ISNUMBER(VLOOKUP(E269,'Tab 5-7a Soil & Air EPCs'!$D$7:$E$9,2,FALSE)),VLOOKUP(E269,'Tab 5-7a Soil & Air EPCs'!$D$7:$E$9,2,FALSE),\"--\")","v":"--"},"--","--","--","--","--","--","--",{"$f":"IF(ISNUMBER(VLOOKUP(E269,'Tab 5-7a Soil & Air EPCs'!$D$7:$H$9,5,FALSE)),VLOOKUP(E269,'Tab 5-7a Soil & Air EPCs'!$D$7:$H$9,5,FALSE),\"--\")","v":"--"},"--","--",{"$f":"IF(ISNUMBER(VLOOKUP(E269,'Tab 5-7a Soil & Air EPCs'!$D$7:$F$9,3,FALSE)),VLOOKUP(E269,'Tab 5-7a Soil & Air EPCs'!$D$7:$F$9,3,FALSE),\"--\")","v":"--"},"--","--","--","--"]
[0,0,0,0,0,"--","--",{"$f":"IF(ISNUMBER(VLOOKUP(E270,'Tab 5-7a Soil & Air EPCs'!$D$7:$E$9,2,FALSE)),VLOOKUP(E270,'Tab 5-7a Soil & Air EPCs'!$D$7:$E$9,2,FALSE),\"--\")","v":"--"},"--","--","--","--","--","--","--",{"$f":"IF(ISNUMBER(VLOOKUP(E270,'Tab 5-7a Soil & Air EPCs'!$D$7:$H$9,5,FALSE)),VLOOKUP(E270,'Tab 5-7a Soil & Air EPCs'!$D$7:$H$9,5,FALSE),\"--\")","v":"--"},"--","--",{"$f":"IF(ISNUMBER(VLOOKUP(E270,'Tab 5-7a Soil & Air EPCs'!$D$7:$F$9,3,FALSE)),VLOOKUP(E270,'Tab 5-7a Soil & Air EPCs'!$D$7:$F$9,3,FALSE),\"--\")","v":"--"},"--","--","--","--"]
[0,0,0,0,0,"--","--",{"$f":"IF(ISNUMBER(VLOOKUP(E271,'Tab 5-7a Soil & Air EPCs'!$D$7:$E$9,2,FALSE)),VLOOKUP(E271,'Tab 5-7a Soil & Air EPCs'!$D$7:$E$9,2,FALSE),\"--\")","v":"--"},"--","--","--","--","--","--","--",{"$f":"IF(ISNUMBER(VLOOKUP(E271,'Tab 5-7a Soil & Air EPCs'!$D$7:$H$9,5,FALSE)),VLOOKUP(E271,'Tab 5-7a Soil & Air EPCs'!$D$7:$H$9,5,FALSE),\"--\")","v":"--"},"--","--",{"$f":"IF(ISNUMBER(VLOOKUP(E271,'Tab 5-7a Soil & Air EPCs'!$D$7:$F$9,3,FALSE)),VLOOKUP(E271,'Tab 5-7a Soil & Air EPCs'!$D$7:$F$9,3,FALSE),\"--\")","v":"--"},"--","--","--","--"]
[0,0,0,0,0,"--","--",{"$f":"IF(ISNUMBER(VLOOKUP(E272,'Tab 5-7a Soil & Air EPCs'!$D$7:$E$9,2,FALSE)),VLOOKUP(E272,'Tab 5-7a Soil & Air EPCs'!$D$7:$E$9,2,FALSE),\"--\")","v":"--"},"--","--","--","--","--","--","--",{"$f":"IF(ISNUMBER(VLOOKUP(E272,'Tab 5-7a Soil & Air EPCs'!$D$7:$H$9,5,FALSE)),VLOOKUP(E272,'Tab 5-7a Soil & Air EPCs'!$D$7:$H$9,5,FALSE),\"--\")","v":"--"},"--","--",{"$f":"IF(ISNUMBER(VLOOKUP(E272,'Tab 5-7a Soil & Air EPCs'!$D$7:$F$9,3,FALSE)),VLOOKUP(E272,'Tab 5-7a Soil & Air EPCs'!$D$7:$F$9,3,FALSE),\"--\")","v":"--"},"--","--","--","--"]
[0,0,0,0,0,"--","--",{"$f":"IF(ISNUMBER(VLOOKUP(E273,'Tab 5-7a Soil & Air EPCs'!$D$7:$E$9,2,FALSE)),VLOOKUP(E273,'Tab 5-7a Soil & Air EPCs'!$D$7:$E$9,2,FALSE),\"--\")","v":"--"},"--","--","--","--","--","--","--",{"$f":"IF(ISNUMBER(VLOOKUP(E273,'Tab 5-7a Soil & Air EPCs'!$D$7:$H$9,5,FALSE)),VLOOKUP(E273,'Tab 5-7a Soil & Air EPCs'!$D$7:$H$9,5,FALSE),\"--\")","v":"--"},"--","--",{"$f":"IF(ISNUMBER(VLOOKUP(E273,'Tab 5-7a Soil & Air EPCs'!$D$7:$F$9,3,FALSE)),VLOOKUP(E273,'Tab 5-7a Soil & Air EPCs'!$D$7:$F$9,3,FALSE),\"--\")","v":"--"},"--","--","--","--"]
[0,0,0,0,0,"--","--",{"$f":"IF(ISNUMBER(VLOOKUP(E274,'Tab 5-7a Soil & Air EPCs'!$D$7:$E$9,2,FALSE)),VLOOKUP(E274,'Tab 5-7a Soil & Air EPCs'!$D$7:$E$9,2,FALSE),\"--\")","v":"--"},"--","--","--","--","--","--","--",{"$f":"IF(ISNUMBER(VLOOKUP(E274,'Tab 5-7a Soil & Air EPCs'!$D$7:$H$9,5,FALSE)),VLOOKUP(E274,'Tab 5-7a Soil & Air EPCs'!$D$7:$H$9,5,FALSE),\"--\")","v":"--"},"--","--",{"$f":"IF(ISNUMBER(VLOOKUP(E274,'Tab 5-7a Soil & Air EPCs'!$D$7:$F$9,3,FALSE)),VLOOKUP(E274,'Tab 5-7a Soil & Air EPCs'!$D$7:$F$9,3,FALSE),\"--\")","v":"--"},"--","--","--","--"]
[0,0,0,0,0,"--","--",{"$f":"IF(ISNUMBER(VLOOKUP(E275,'Tab 5-7a Soil & Air EPCs'!$D$7:$E$9,2,FALSE)),VLOOKUP(E275,'Tab 5-7a Soil & Air EPCs'!$D$7:$E$9,2,FALSE),\"--\")","v":"--"},"--","--","--","--","--","--","--",{"$f":"IF(ISNUMBER(VLOOKUP(E275,'Tab 5-7a Soil & Air EPCs'!$D$7:$H$9,5,FALSE)),VLOOKUP(E275,'Tab 5-7a Soil & Air EPCs'!$D$7:$H$9,5,FALSE),\"--\")","v":"--"},"--","--",{"$f":"IF(ISNUMBER(VLOOKUP(E275,'Tab 5-7a Soil & Air EPCs'!$D$7:$F$9,3,FALSE)),VLOOKUP(E275,'Tab 5-7a Soil & Air EPCs'!$D$7:$F$9,3,FALSE),\"--\")","v":"--"},"--","--","--","--"]
[0,0,0,0,0,"--","--",{"$f":"IF(ISNUMBER(VLOOKUP(E276,'Tab 5-7a Soil & Air EPCs'!$D$7:$E$9,2,FALSE)),VLOOKUP(E276,'Tab 5-7a Soil & Air EPCs'!$D$7:$E$9,2,FALSE),\"--\")","v":"--"},"--","--","--","--","--","--","--",{"$f":"IF(ISNUMBER(VLOOKUP(E276,'Tab 5-7a Soil & Air EPCs'!$D$7:$H$9,5,FALSE)),VLOOKUP(E276,'Tab 5-7a Soil & Air EPCs'!$D$7:$H$9,5,FALSE),\"--\")","v":"--"},"--","--",{"$f":"IF(ISNUMBER(VLOOKUP(E276,'Tab 5-7a Soil & Air EPCs'!$D$7:$F$9,3,FALSE)),VLOOKUP(E276,'Tab 5-7a Soil & Air EPCs'!$D$7:$F$9,3,FALSE),\"--\")","v":"--"},"--","--","--","--"]
[0,0,0,0,0,"--","--",{"$f":"IF(ISNUMBER(VLOOKUP(E277,'Tab 5-7a Soil & Air EPCs'!$D$7:$E$9,2,FALSE)),VLOOKUP(E277,'Tab 5-7a Soil & Air EPCs'!$D$7:$E$9,2,FALSE),\"--\")","v":"--"},"--","--",0,"--","--","--","--",{"$f":"IF(ISNUMBER(VLOOKUP(E277,'Tab 5-7a Soil & Air EPCs'!$D$7:$H$9,5,FALSE)),VLOOKUP(E277,'Tab 5-7a Soil & Air EPCs'!$D$7:$H$9,5,FALSE),\"--\")","v":"--"},"--","--",{"$f":"IF(ISNUMBER(VLOOKUP(E277,'Tab 5-7a Soil & Air EPCs'!$D$7:$F$9,3,FALSE)),VLOOKUP(E277,'Tab 5-7a Soil & Air EPCs'!$D$7:$F$9,3,FALSE),\"--\")","v":"--"},"--","--","--","--"]
[0,0,0,0,0,"--","--",{"$f":"IF(ISNUMBER(VLOOKUP(E278,'Tab 5-7a Soil & Air EPCs'!$D$7:$E$9,2,FALSE)),VLOOKUP(E278,'Tab 5-7a Soil & Air EPCs'!$D$7:$E$9,2,FALSE),\"--\")","v":"--"},"--","--","--","--","--","--","--",{"$f":"IF(ISNUMBER(VLOOKUP(E278,'Tab 5-7a Soil & Air EPCs'!$D$7:$H$9,5,FALSE)),VLOOKUP(E278,'Tab 5-7a Soil & Air EPCs'!$D$7:$H$9,5,FALSE),\"--\")","v":"--"},"--","--",{"$f":"IF(ISNUMBER(VLOOKUP(E278,'Tab 5-7a Soil & Air EPCs'!$D$7:$F$9,3,FALSE)),VLOOKUP(E278,'Tab 5-7a Soil & Air EPCs'!$D$7:$F$9,3,FALSE),\"--\")","v":"--"},"--","--","--","--"]
[0,0,0,0,0,"--","--",{"$f":"IF(ISNUMBER(VLOOKUP(E279,'Tab 5-7a Soil & Air EPCs'!$D$7:$E$9,2,FALSE)),VLOOKUP(E279,'Tab 5-7a Soil & Air EPCs'!$D$7:$E$9,2,FALSE),\"--\")","v":"--"},"--","--","--","--","--","--","--",{"$f":"IF(ISNUMBER(VLOOKUP(E279,'Tab 5-7a Soil & Air EPCs'!$D$7:$H$9,5,FALSE)),VLOOKUP(E279,'Tab 5-7a Soil & Air EPCs'!$D$7:$H$9,5,FALSE),\"--\")","v":"--"},"--","--",{"$f":"IF(ISNUMBER(VLOOKUP(E279,'Tab 5-7a Soil & Air EPCs'!$D$7:$F$9,3,FALSE)),VLOOKUP(E279,'Tab 5-7a Soil & Air EPCs'!$D$7:$F$9,3,FALSE),\"--\")","v":"--"},"--","--","--","--"]
[0,"EOR",0,"End of Record"," ","--","--",{"$f":"IF(ISNUMBER(VLOOKUP(E280,'Tab 5-7a Soil & Air EPCs'!$D$7:$E$9,2,FALSE)),VLOOKUP(E280,'Tab 5-7a Soil & Air EPCs'!$D$7:$E$9,2,FALSE),\"--\")","v":"--"},"--","--","--","--","--","--","--",{"$f":"IF(ISNUMBER(VLOOKUP(E280,'Tab 5-7a Soil & Air EPCs'!$D$7:$H$9,5,FALSE)),VLOOKUP(E280,'Tab 5-7a Soil & Air EPCs'!$D$7:$H$9,5,FALSE),\"--\")","v":"--"},"--","--",{"$f":"IF(ISNUMBER(VLOOKUP(E280,'Tab 5-7a Soil & Air EPCs'!$D$7:$F$9,3,FALSE)),VLOOKUP(E280,'Tab 5-7a Soil & Air EPCs'!$D$7:$F$9,3,FALSE),\"--\")","v":"--"},"--","--","--","--"]
["X","Total Cancer Risk/Non-Cancer HI",null,null,null,null,null,null,{"$f":"IF(SUM(I11:I17)>0,SUM(I11:I17),\"--\")","v":9.2465753424657539E-8},{"$f":"IF(SUM(J11:J17)>0,SUM(J11:J17),\"--\")","v":0.24003531678082185},null,"--","--",null,null,null,{"$f":"IF(SUM(Q11:Q17)>0,SUM(Q11:Q17),\"--\")","v":3.1189446309242534E-7},"--",null,7.4246855623821237E-12,"--",4.0436764120264531E-7,0.24003531678082185]
["X"]
["X","Notes: "]
["X","-- = Not calculated"]
["X","bgs = below ground surface"]
["X","HI = Hazard index"]
["X","HQ = Hazard quotient"]
["X","OCP = Organochlorine pesticide"]